BEGIN:VCALENDAR
VERSION:2.0
PRODID:-//LA MARE AUX CANARDS A BOUILLE-MENARD - ECPv6.15.20//NONSGML v1.0//EN
CALSCALE:GREGORIAN
METHOD:PUBLISH
X-ORIGINAL-URL:https://mare-aux-canards-bouille-menard.43210.fr
X-WR-CALDESC:Évènements pour LA MARE AUX CANARDS A BOUILLE-MENARD
REFRESH-INTERVAL;VALUE=DURATION:PT1H
X-Robots-Tag:noindex
X-PUBLISHED-TTL:PT1H
BEGIN:VTIMEZONE
TZID:UTC
BEGIN:STANDARD
TZOFFSETFROM:+0000
TZOFFSETTO:+0000
TZNAME:UTC
DTSTART:20240101T000000
END:STANDARD
END:VTIMEZONE
BEGIN:VEVENT
DTSTART;VALUE=DATE:20250101
DTEND;VALUE=DATE:20250102
DTSTAMP:20260423T124503
CREATED:20250128T205002Z
LAST-MODIFIED:20250128T205024Z
UID:4300-1735689600-1735775999@mare-aux-canards-bouille-menard.43210.fr
SUMMARY:Horaires d’hiver des déchetteries\, du 1er janvier 2025 au 29 mars 2025
DESCRIPTION:Désolé. Vous n'êtes pas habilité à consulter ce contenu.
URL:https://mare-aux-canards-bouille-menard.43210.fr/evenement/2025-01-01-horaire-dechetterie/
CATEGORIES:Longues durées
ORGANIZER;CN="Anjou Bleu Communaut%C3%A9":MAILTO:dechets@anjoubleucommunaute.fr
END:VEVENT
BEGIN:VEVENT
DTSTART;TZID=UTC:20250103T180000
DTEND;TZID=UTC:20250103T235900
DTSTAMP:20260423T124503
CREATED:20240629T073204Z
LAST-MODIFIED:20250101T202534Z
UID:3690-1735927200-1735948740@mare-aux-canards-bouille-menard.43210.fr
SUMMARY:Collecte poubelle noire
DESCRIPTION:Désolé. Vous n'êtes pas habilité à consulter ce contenu.
URL:https://mare-aux-canards-bouille-menard.43210.fr/evenement/2025-01-04-collecte-poubelle-noire/
LOCATION:Bouillé-Ménard\, France
ORGANIZER;CN="Anjou Bleu Communaut%C3%A9":MAILTO:dechets@anjoubleucommunaute.fr
END:VEVENT
BEGIN:VEVENT
DTSTART;TZID=UTC:20250107T153000
DTEND;TZID=UTC:20250107T203000
DTSTAMP:20260423T124503
CREATED:20250128T205557Z
LAST-MODIFIED:20250128T205557Z
UID:4305-1736263800-1736281800@mare-aux-canards-bouille-menard.43210.fr
SUMMARY:Les galettes de Marie
DESCRIPTION:Désolé. Vous n'êtes pas habilité à consulter ce contenu.
URL:https://mare-aux-canards-bouille-menard.43210.fr/evenement/2025-01-07-les-galettes-de-marie/
LOCATION:Place de l’Eglise\, Bouillé-Ménard\, France
ORGANIZER;CN="Les Galettes de Marie":MAILTO:lesgalettesdemarie@hotmail.com
END:VEVENT
BEGIN:VEVENT
DTSTART;TZID=UTC:20250109T080000
DTEND;TZID=UTC:20250109T170000
DTSTAMP:20260423T124503
CREATED:20250128T212123Z
LAST-MODIFIED:20250128T212330Z
UID:4326-1736409600-1736442000@mare-aux-canards-bouille-menard.43210.fr
SUMMARY:Conseil municipal
DESCRIPTION:Désolé. Vous n'êtes pas habilité à consulter ce contenu.
URL:https://mare-aux-canards-bouille-menard.43210.fr/evenement/2025-01-09-conseil-municipal/
LOCATION:La Mairie Bouillé-Ménard\, Bouillé-Ménard\, France
END:VEVENT
BEGIN:VEVENT
DTSTART;TZID=UTC:20250112T080000
DTEND;TZID=UTC:20250112T170000
DTSTAMP:20260423T124503
CREATED:20250126T111801Z
LAST-MODIFIED:20250126T111851Z
UID:4239-1736668800-1736701200@mare-aux-canards-bouille-menard.43210.fr
SUMMARY:Galette des Rois du Comité des fêtes
DESCRIPTION:Désolé. Vous n'êtes pas habilité à consulter ce contenu.
URL:https://mare-aux-canards-bouille-menard.43210.fr/evenement/2025-01-12-galette-comite-des-fetes-bm/
LOCATION:salle communale Bouillé-Ménard\, 1\, rue de Renazé\, Bouillé-Ménard\, 49520\, France
END:VEVENT
BEGIN:VEVENT
DTSTART;VALUE=DATE:20250114
DTEND;VALUE=DATE:20250115
DTSTAMP:20260423T124503
CREATED:20260118T153017Z
LAST-MODIFIED:20260118T153017Z
UID:5201-1736812800-1736899199@mare-aux-canards-bouille-menard.43210.fr
SUMMARY:[FNACA] AG
DESCRIPTION:Désolé. Vous n'êtes pas habilité à consulter ce contenu.
URL:https://mare-aux-canards-bouille-menard.43210.fr/evenement/2026-01-14-fnaca-ag/
END:VEVENT
BEGIN:VEVENT
DTSTART;TZID=UTC:20250116T180000
DTEND;TZID=UTC:20250116T235900
DTSTAMP:20260423T124503
CREATED:20250101T202440Z
LAST-MODIFIED:20250101T202440Z
UID:4171-1737050400-1737071940@mare-aux-canards-bouille-menard.43210.fr
SUMMARY:Collecte poubelle noire
DESCRIPTION:Désolé. Vous n'êtes pas habilité à consulter ce contenu.
URL:https://mare-aux-canards-bouille-menard.43210.fr/evenement/2025-01-17-collecte-poubelle-noire/
LOCATION:Bouillé-Ménard\, France
ORGANIZER;CN="Anjou Bleu Communaut%C3%A9":MAILTO:dechets@anjoubleucommunaute.fr
END:VEVENT
BEGIN:VEVENT
DTSTART;VALUE=DATE:20250117
DTEND;VALUE=DATE:20250118
DTSTAMP:20260423T124503
CREATED:20250126T104921Z
LAST-MODIFIED:20250126T105323Z
UID:4225-1737072000-1737158399@mare-aux-canards-bouille-menard.43210.fr
SUMMARY:AG Association Bielles d'Anjou
DESCRIPTION:Désolé. Vous n'êtes pas habilité à consulter ce contenu.
URL:https://mare-aux-canards-bouille-menard.43210.fr/evenement/2025-01-17-ag-association-bielles-danjou/
LOCATION:salle communale Bouillé-Ménard\, 1\, rue de Renazé\, Bouillé-Ménard\, 49520\, France
END:VEVENT
BEGIN:VEVENT
DTSTART;VALUE=DATE:20250118
DTEND;VALUE=DATE:20250119
DTSTAMP:20260423T124503
CREATED:20250129T212042Z
LAST-MODIFIED:20250129T212456Z
UID:4336-1737158400-1737244799@mare-aux-canards-bouille-menard.43210.fr
SUMMARY:Une chataigneraie plantée
DESCRIPTION:Désolé. Vous n'êtes pas habilité à consulter ce contenu.
URL:https://mare-aux-canards-bouille-menard.43210.fr/evenement/22025-01-24-chataigneraie-plantee/
LOCATION:Bouillé-Ménard\, France
END:VEVENT
BEGIN:VEVENT
DTSTART;TZID=UTC:20250118T110000
DTEND;TZID=UTC:20250118T120000
DTSTAMP:20260423T124503
CREATED:20250126T110300Z
LAST-MODIFIED:20250126T110956Z
UID:4233-1737198000-1737201600@mare-aux-canards-bouille-menard.43210.fr
SUMMARY:Vœux du Maire 2025
DESCRIPTION:Désolé. Vous n'êtes pas habilité à consulter ce contenu.
URL:https://mare-aux-canards-bouille-menard.43210.fr/evenement/2025-01-18-voeux-du-maire-2025/
LOCATION:salle communale Bouillé-Ménard\, 1\, rue de Renazé\, Bouillé-Ménard\, 49520\, France
END:VEVENT
BEGIN:VEVENT
DTSTART;TZID=UTC:20250121T153000
DTEND;TZID=UTC:20250121T203000
DTSTAMP:20260423T124503
CREATED:20250128T205646Z
LAST-MODIFIED:20250128T211621Z
UID:4307-1737473400-1737491400@mare-aux-canards-bouille-menard.43210.fr
SUMMARY:Les galettes de Marie
DESCRIPTION:Désolé. Vous n'êtes pas habilité à consulter ce contenu.
URL:https://mare-aux-canards-bouille-menard.43210.fr/evenement/2025-01-21-les-galettes-de-marie/
LOCATION:Place de l’Eglise\, Bouillé-Ménard\, France
ORGANIZER;CN="Les Galettes de Marie":MAILTO:lesgalettesdemarie@hotmail.com
END:VEVENT
BEGIN:VEVENT
DTSTART;TZID=UTC:20250124T203000
DTEND;TZID=UTC:20250124T235900
DTSTAMP:20260423T124503
CREATED:20241221T183614Z
LAST-MODIFIED:20241222T104341Z
UID:4092-1737750600-1737763140@mare-aux-canards-bouille-menard.43210.fr
SUMMARY:Théâtre : La sardine sur le balcon
DESCRIPTION:Désolé. Vous n'êtes pas habilité à consulter ce contenu.
URL:https://mare-aux-canards-bouille-menard.43210.fr/evenement/2024-01-24-theatre-bm/
LOCATION:salle communale Bouillé-Ménard\, 1\, rue de Renazé\, Bouillé-Ménard\, 49520\, France
END:VEVENT
BEGIN:VEVENT
DTSTART;TZID=UTC:20250125T203000
DTEND;TZID=UTC:20250125T235900
DTSTAMP:20260423T124503
CREATED:20241222T102327Z
LAST-MODIFIED:20241222T104224Z
UID:4119-1737837000-1737849540@mare-aux-canards-bouille-menard.43210.fr
SUMMARY:Théâtre : La sardine sur le balcon
DESCRIPTION:Désolé. Vous n'êtes pas habilité à consulter ce contenu.
URL:https://mare-aux-canards-bouille-menard.43210.fr/evenement/2025-01-25-theatre-la-sardine-sur-le-balcon/
LOCATION:salle communale Bouillé-Ménard\, 1\, rue de Renazé\, Bouillé-Ménard\, 49520\, France
END:VEVENT
BEGIN:VEVENT
DTSTART;TZID=UTC:20250126T143000
DTEND;TZID=UTC:20250126T180000
DTSTAMP:20260423T124503
CREATED:20241222T101223Z
LAST-MODIFIED:20241222T104314Z
UID:4108-1737901800-1737914400@mare-aux-canards-bouille-menard.43210.fr
SUMMARY:Théâtre : La sardine sur le balcon
DESCRIPTION:Désolé. Vous n'êtes pas habilité à consulter ce contenu.
URL:https://mare-aux-canards-bouille-menard.43210.fr/evenement/2025-01-26-theatre-la-sardine-sur-le-balcon/
LOCATION:salle communale Bouillé-Ménard\, 1\, rue de Renazé\, Bouillé-Ménard\, 49520\, France
END:VEVENT
BEGIN:VEVENT
DTSTART;VALUE=DATE:20250127
DTEND;VALUE=DATE:20250222
DTSTAMP:20260423T124503
CREATED:20250128T212958Z
LAST-MODIFIED:20250128T212958Z
UID:4334-1737936000-1740182399@mare-aux-canards-bouille-menard.43210.fr
SUMMARY:Circulation alternée - rue Mairie jusqu'à rue des chardonnerets
DESCRIPTION:Désolé. Vous n'êtes pas habilité à consulter ce contenu.
URL:https://mare-aux-canards-bouille-menard.43210.fr/evenement/circulation-alternee-rue-mairie-jusqua-rue-des-chardonnerets/
LOCATION:Bouillé-Ménard\, France
END:VEVENT
BEGIN:VEVENT
DTSTART;TZID=UTC:20250128T203000
DTEND;TZID=UTC:20250128T230000
DTSTAMP:20260423T124503
CREATED:20250125T182306Z
LAST-MODIFIED:20250210T213948Z
UID:4222-1738096200-1738105200@mare-aux-canards-bouille-menard.43210.fr
SUMMARY:Cinéma Balad Images Châtelais : Film En fanfare
DESCRIPTION:Désolé. Vous n'êtes pas habilité à consulter ce contenu.
URL:https://mare-aux-canards-bouille-menard.43210.fr/evenement/2025-01-28-cinema-balad-images-chatelais-film-en-fanfare/
LOCATION:Salle des fêtes de Châtelais\, 3 rue Grands Murs\, Châtelais\, 49520\, France
END:VEVENT
BEGIN:VEVENT
DTSTART;TZID=UTC:20250130T180000
DTEND;TZID=UTC:20250130T235900
DTSTAMP:20260423T124503
CREATED:20250101T203115Z
LAST-MODIFIED:20250101T203115Z
UID:4175-1738260000-1738281540@mare-aux-canards-bouille-menard.43210.fr
SUMMARY:Collecte poubelle noire
DESCRIPTION:Désolé. Vous n'êtes pas habilité à consulter ce contenu.
URL:https://mare-aux-canards-bouille-menard.43210.fr/evenement/2024-01-31-collecte-poubelle-noire/
LOCATION:Bouillé-Ménard\, France
ORGANIZER;CN="Anjou Bleu Communaut%C3%A9":MAILTO:dechets@anjoubleucommunaute.fr
END:VEVENT
BEGIN:VEVENT
DTSTART;TZID=UTC:20250131T140000
DTEND;TZID=UTC:20250131T163000
DTSTAMP:20260423T124503
CREATED:20241125T203821Z
LAST-MODIFIED:20241125T203821Z
UID:4016-1738332000-1738341000@mare-aux-canards-bouille-menard.43210.fr
SUMMARY:Ateliers numériques
DESCRIPTION:Désolé. Vous n'êtes pas habilité à consulter ce contenu.
URL:https://mare-aux-canards-bouille-menard.43210.fr/evenement/2025-01-31-ateliers-numeriques/
LOCATION:La Mairie Bouillé-Ménard\, Bouillé-Ménard\, France
ORGANIZER;CN="Anjou Bleu Communaut%C3%A9":MAILTO:dechets@anjoubleucommunaute.fr
END:VEVENT
BEGIN:VEVENT
DTSTART;TZID=UTC:20250131T203000
DTEND;TZID=UTC:20250131T223000
DTSTAMP:20260423T124503
CREATED:20250109T212918Z
LAST-MODIFIED:20250109T213558Z
UID:4200-1738355400-1738362600@mare-aux-canards-bouille-menard.43210.fr
SUMMARY:Théâtre : La fête foraine de la Douve
DESCRIPTION:Désolé. Vous n'êtes pas habilité à consulter ce contenu.
URL:https://mare-aux-canards-bouille-menard.43210.fr/evenement/2025-01-31-theatre-la-fete-foraine-de-la-douve/
LOCATION:Salle du théâtre Louis Garnier\, 7 rue de Mortiercrolles\, Saint-Quentin-les-Anges\, 53400\, France
END:VEVENT
BEGIN:VEVENT
DTSTART;TZID=UTC:20250131T203000
DTEND;TZID=UTC:20250131T235900
DTSTAMP:20260423T124503
CREATED:20241222T101348Z
LAST-MODIFIED:20241222T104259Z
UID:4110-1738355400-1738367940@mare-aux-canards-bouille-menard.43210.fr
SUMMARY:Théâtre : La sardine sur le balcon
DESCRIPTION:Désolé. Vous n'êtes pas habilité à consulter ce contenu.
URL:https://mare-aux-canards-bouille-menard.43210.fr/evenement/2025-01-31-theatre-la-sardine-sur-le-balcon/
LOCATION:salle communale Bouillé-Ménard\, 1\, rue de Renazé\, Bouillé-Ménard\, 49520\, France
END:VEVENT
END:VCALENDAR