BEGIN:VCALENDAR
VERSION:2.0
PRODID:-//LA MARE AUX CANARDS A BOUILLE-MENARD - ECPv6.15.20//NONSGML v1.0//EN
CALSCALE:GREGORIAN
METHOD:PUBLISH
X-WR-CALNAME:LA MARE AUX CANARDS A BOUILLE-MENARD
X-ORIGINAL-URL:https://mare-aux-canards-bouille-menard.43210.fr
X-WR-CALDESC:Évènements pour LA MARE AUX CANARDS A BOUILLE-MENARD
REFRESH-INTERVAL;VALUE=DURATION:PT1H
X-Robots-Tag:noindex
X-PUBLISHED-TTL:PT1H
BEGIN:VTIMEZONE
TZID:UTC
BEGIN:STANDARD
TZOFFSETFROM:+0000
TZOFFSETTO:+0000
TZNAME:UTC
DTSTART:20230101T000000
END:STANDARD
END:VTIMEZONE
BEGIN:VEVENT
DTSTART;TZID=UTC:20241205T180000
DTEND;TZID=UTC:20241205T235900
DTSTAMP:20260423T150526
CREATED:20240629T073056Z
LAST-MODIFIED:20240629T073056Z
UID:3688-1733421600-1733443140@mare-aux-canards-bouille-menard.43210.fr
SUMMARY:Collecte poubelle noire
DESCRIPTION:Désolé. Vous n'êtes pas habilité à consulter ce contenu.
URL:https://mare-aux-canards-bouille-menard.43210.fr/evenement/2024-12-06-collecte-poubelle-noire/
LOCATION:Bouillé-Ménard\, France
ORGANIZER;CN="Anjou Bleu Communaut%C3%A9":MAILTO:dechets@anjoubleucommunaute.fr
END:VEVENT
BEGIN:VEVENT
DTSTART;TZID=UTC:20241210T153000
DTEND;TZID=UTC:20241210T203000
DTSTAMP:20260423T150526
CREATED:20241125T205947Z
LAST-MODIFIED:20241125T205947Z
UID:4040-1733844600-1733862600@mare-aux-canards-bouille-menard.43210.fr
SUMMARY:Les galettes de Marie
DESCRIPTION:Désolé. Vous n'êtes pas habilité à consulter ce contenu.
URL:https://mare-aux-canards-bouille-menard.43210.fr/evenement/2024-12-10-les-galettes-de-marie/
LOCATION:Place de l’Eglise\, Bouillé-Ménard\, France
ORGANIZER;CN="Les Galettes de Marie":MAILTO:lesgalettesdemarie@hotmail.com
END:VEVENT
BEGIN:VEVENT
DTSTART;TZID=UTC:20241213T080000
DTEND;TZID=UTC:20241213T170000
DTSTAMP:20260423T150526
CREATED:20241124T120818Z
LAST-MODIFIED:20241124T120916Z
UID:3991-1734076800-1734109200@mare-aux-canards-bouille-menard.43210.fr
SUMMARY:APE- Soirée Karaoké
DESCRIPTION:Désolé. Vous n'êtes pas habilité à consulter ce contenu.
URL:https://mare-aux-canards-bouille-menard.43210.fr/evenement/2024-12-13-ape-soiree-karaoke/
LOCATION:salle communal de bourg-l’Evêque\, Bourg-l'Evêque\, 49520
END:VEVENT
BEGIN:VEVENT
DTSTART;TZID=UTC:20241213T100000
DTEND;TZID=UTC:20241213T120000
DTSTAMP:20260423T150526
CREATED:20241125T212522Z
LAST-MODIFIED:20241125T212522Z
UID:4060-1734084000-1734091200@mare-aux-canards-bouille-menard.43210.fr
SUMMARY:Racontine : Thème la Scandinavie
DESCRIPTION:Désolé. Vous n'êtes pas habilité à consulter ce contenu.
URL:https://mare-aux-canards-bouille-menard.43210.fr/evenement/2024-12-13-racontine/
LOCATION:Médiathèque Jacques Prévert\, 3 Rue de L Hôtel de ville\, Ombrée d'Anjou\, 49520\, France
ORGANIZER;CN="Relais Petite Enfance Ombr%C3%A9e d'Anjou":MAILTO:a.argand@ombredanjou.fr
END:VEVENT
BEGIN:VEVENT
DTSTART;TZID=UTC:20241213T140000
DTEND;TZID=UTC:20241213T163000
DTSTAMP:20260423T150526
CREATED:20241125T203642Z
LAST-MODIFIED:20241125T203642Z
UID:4014-1734098400-1734107400@mare-aux-canards-bouille-menard.43210.fr
SUMMARY:Ateliers numériques
DESCRIPTION:Désolé. Vous n'êtes pas habilité à consulter ce contenu.
URL:https://mare-aux-canards-bouille-menard.43210.fr/evenement/2024-12-13-ateliers-numeriques/
LOCATION:La Mairie Bouillé-Ménard\, Bouillé-Ménard\, France
ORGANIZER;CN="Anjou Bleu Communaut%C3%A9":MAILTO:dechets@anjoubleucommunaute.fr
END:VEVENT
BEGIN:VEVENT
DTSTART;TZID=UTC:20241213T190000
DTEND;TZID=UTC:20241213T223000
DTSTAMP:20260423T150526
CREATED:20241229T105745Z
LAST-MODIFIED:20241229T111606Z
UID:4152-1734116400-1734129000@mare-aux-canards-bouille-menard.43210.fr
SUMMARY:Spectacle « Ô Royaume des Cieux »
DESCRIPTION:Désolé. Vous n'êtes pas habilité à consulter ce contenu.
URL:https://mare-aux-canards-bouille-menard.43210.fr/evenement/2024-12-13-spectacle-o-royaume-des-cieux/
LOCATION:salle communale Bouillé-Ménard\, 1\, rue de Renazé\, Bouillé-Ménard\, 49520\, France
END:VEVENT
BEGIN:VEVENT
DTSTART;TZID=UTC:20241214T120000
DTEND;TZID=UTC:20241214T140000
DTSTAMP:20260423T150526
CREATED:20241229T112158Z
LAST-MODIFIED:20241229T113905Z
UID:4161-1734177600-1734184800@mare-aux-canards-bouille-menard.43210.fr
SUMMARY:Le centre de secours de l’Araize a célébré la Sainte-Barbe
DESCRIPTION:Désolé. Vous n'êtes pas habilité à consulter ce contenu.
URL:https://mare-aux-canards-bouille-menard.43210.fr/evenement/2024-12-14-centre-de-secours-araize-sainte-barbe/
LOCATION:Eglise de Bouillé-Ménard\, Place de l'Eglise\, Bouillé-Ménard\, 49520\, France
END:VEVENT
BEGIN:VEVENT
DTSTART;TZID=UTC:20241219T180000
DTEND;TZID=UTC:20241219T235900
DTSTAMP:20260423T150526
CREATED:20250101T202754Z
LAST-MODIFIED:20250101T202754Z
UID:4173-1734631200-1734652740@mare-aux-canards-bouille-menard.43210.fr
SUMMARY:Collecte poubelle noire
DESCRIPTION:Désolé. Vous n'êtes pas habilité à consulter ce contenu.
URL:https://mare-aux-canards-bouille-menard.43210.fr/evenement/2024-12-20-collecte-poubelle-noire/
LOCATION:Bouillé-Ménard\, France
ORGANIZER;CN="Anjou Bleu Communaut%C3%A9":MAILTO:dechets@anjoubleucommunaute.fr
END:VEVENT
BEGIN:VEVENT
DTSTART;VALUE=DATE:20241221
DTEND;VALUE=DATE:20241225
DTSTAMP:20260423T150526
CREATED:20241222T092956Z
LAST-MODIFIED:20241222T093408Z
UID:4100-1734739200-1735084799@mare-aux-canards-bouille-menard.43210.fr
SUMMARY:Concours de dessin
DESCRIPTION:Désolé. Vous n'êtes pas habilité à consulter ce contenu.
URL:https://mare-aux-canards-bouille-menard.43210.fr/evenement/2024-12-20-concours-de-dessin/
LOCATION:Epi-Service de Bouillé-Ménard
END:VEVENT
BEGIN:VEVENT
DTSTART;VALUE=DATE:20241222
DTEND;VALUE=DATE:20241223
DTSTAMP:20260423T150526
CREATED:20241222T110345Z
LAST-MODIFIED:20241222T110345Z
UID:4144-1734825600-1734911999@mare-aux-canards-bouille-menard.43210.fr
SUMMARY:Marché de Noël
DESCRIPTION:Désolé. Vous n'êtes pas habilité à consulter ce contenu.
URL:https://mare-aux-canards-bouille-menard.43210.fr/evenement/marche-de-noel/
LOCATION:Noyant-la-Gravoyère\, France
END:VEVENT
BEGIN:VEVENT
DTSTART;TZID=UTC:20241228T133000
DTEND;TZID=UTC:20241228T190000
DTSTAMP:20260423T150526
CREATED:20241222T105225Z
LAST-MODIFIED:20241222T105724Z
UID:4138-1735392600-1735412400@mare-aux-canards-bouille-menard.43210.fr
SUMMARY:Tournoi de foot
DESCRIPTION:Désolé. Vous n'êtes pas habilité à consulter ce contenu.
URL:https://mare-aux-canards-bouille-menard.43210.fr/evenement/2024-12-28-tournoi-de-foot/
LOCATION:Salle Léo Lagrange\, rue du parc - Noyant-La-Gravoyère\, Segré-en-Anjou-Bleu\, 49500
END:VEVENT
BEGIN:VEVENT
DTSTART;TZID=UTC:20241231T190000
DTEND;TZID=UTC:20241231T190000
DTSTAMP:20260423T150526
CREATED:20241221T175057Z
LAST-MODIFIED:20241221T180751Z
UID:4082-1735671600-1735671600@mare-aux-canards-bouille-menard.43210.fr
SUMMARY:Réveillon solidaire de Segré
DESCRIPTION:Désolé. Vous n'êtes pas habilité à consulter ce contenu.
URL:https://mare-aux-canards-bouille-menard.43210.fr/evenement/2024-12-31-reveillon-solidaire-de-segre/
LOCATION:Centre Pastoral Renaissance 2 Segré\, rue Léon-Foucault\, Segré\, 49500\, France
END:VEVENT
END:VCALENDAR