BEGIN:VCALENDAR
VERSION:2.0
PRODID:-//LA MARE AUX CANARDS A BOUILLE-MENARD - ECPv6.15.20//NONSGML v1.0//EN
CALSCALE:GREGORIAN
METHOD:PUBLISH
X-WR-CALNAME:LA MARE AUX CANARDS A BOUILLE-MENARD
X-ORIGINAL-URL:https://mare-aux-canards-bouille-menard.43210.fr
X-WR-CALDESC:Évènements pour LA MARE AUX CANARDS A BOUILLE-MENARD
REFRESH-INTERVAL;VALUE=DURATION:PT1H
X-Robots-Tag:noindex
X-PUBLISHED-TTL:PT1H
BEGIN:VTIMEZONE
TZID:UTC
BEGIN:STANDARD
TZOFFSETFROM:+0000
TZOFFSETTO:+0000
TZNAME:UTC
DTSTART:20230101T000000
END:STANDARD
END:VTIMEZONE
BEGIN:VEVENT
DTSTART;TZID=UTC:20240329T140000
DTEND;TZID=UTC:20241130T160000
DTSTAMP:20260425T115733
CREATED:20240415T173615Z
LAST-MODIFIED:20240415T191834Z
UID:3325-1711720800-1732982400@mare-aux-canards-bouille-menard.43210.fr
SUMMARY:Château de Vipère au poing
DESCRIPTION:Désolé. Vous n'êtes pas habilité à consulter ce contenu.
URL:https://mare-aux-canards-bouille-menard.43210.fr/evenement/2024-chateau-de-vipere-au-poing/
LOCATION:Château du Patys\, 748 route du Patys MARANS\, Segré-en-Anjou Bleu\, 49500\, France
CATEGORIES:Longues durées
END:VEVENT
BEGIN:VEVENT
DTSTART;VALUE=DATE:20240501
DTEND;VALUE=DATE:20241101
DTSTAMP:20260425T115733
CREATED:20240525T111054Z
LAST-MODIFIED:20240525T111054Z
UID:3447-1714521600-1730419199@mare-aux-canards-bouille-menard.43210.fr
SUMMARY:Randonnées dans les alentours
DESCRIPTION:Désolé. Vous n'êtes pas habilité à consulter ce contenu.
URL:https://mare-aux-canards-bouille-menard.43210.fr/evenement/randonnees-dans-les-alentours/
END:VEVENT
BEGIN:VEVENT
DTSTART;TZID=UTC:20240901T080000
DTEND;TZID=UTC:20240901T170000
DTSTAMP:20260425T115733
CREATED:20240901T083957Z
LAST-MODIFIED:20240901T083957Z
UID:3822-1725177600-1725210000@mare-aux-canards-bouille-menard.43210.fr
SUMMARY:Parc de loisir de Saint-Blaise et Château des Forges
DESCRIPTION:Désolé. Vous n'êtes pas habilité à consulter ce contenu.
URL:https://mare-aux-canards-bouille-menard.43210.fr/evenement/parc-de-loisir-de-saint-blaise-et-chateau-des-forges/
END:VEVENT
BEGIN:VEVENT
DTSTART;TZID=UTC:20240902T080000
DTEND;TZID=UTC:20240903T170000
DTSTAMP:20260425T115733
CREATED:20240830T173635Z
LAST-MODIFIED:20240830T173635Z
UID:3812-1725264000-1725382800@mare-aux-canards-bouille-menard.43210.fr
SUMMARY:Rentrée scolaire 2024 - 2025
DESCRIPTION:Désolé. Vous n'êtes pas habilité à consulter ce contenu.
URL:https://mare-aux-canards-bouille-menard.43210.fr/evenement/rentree-scolaire-2024-2025/
END:VEVENT
BEGIN:VEVENT
DTSTART;VALUE=DATE:20240908
DTEND;VALUE=DATE:20240909
DTSTAMP:20260425T115733
CREATED:20240908T155821Z
LAST-MODIFIED:20240908T155856Z
UID:3826-1725753600-1725839999@mare-aux-canards-bouille-menard.43210.fr
SUMMARY:Démolition de la gare de Combrée
DESCRIPTION:Désolé. Vous n'êtes pas habilité à consulter ce contenu.
URL:https://mare-aux-canards-bouille-menard.43210.fr/evenement/1993-demolition-gare-de-combree/
LOCATION:Plan d’eau Combrée\, rue de la Verzée - Combrée\, Ombrée d'Anjou
END:VEVENT
BEGIN:VEVENT
DTSTART;TZID=UTC:20240912T180000
DTEND;TZID=UTC:20240912T235900
DTSTAMP:20260425T115733
CREATED:20240629T072110Z
LAST-MODIFIED:20240629T072110Z
UID:3675-1726164000-1726185540@mare-aux-canards-bouille-menard.43210.fr
SUMMARY:Collecte poubelle noire
DESCRIPTION:Désolé. Vous n'êtes pas habilité à consulter ce contenu.
URL:https://mare-aux-canards-bouille-menard.43210.fr/evenement/2024-09-13-collecte-poubelle-noire/
LOCATION:Bouillé-Ménard\, France
ORGANIZER;CN="Anjou Bleu Communaut%C3%A9":MAILTO:dechets@anjoubleucommunaute.fr
END:VEVENT
BEGIN:VEVENT
DTSTART;VALUE=DATE:20240914
DTEND;VALUE=DATE:20240915
DTSTAMP:20260425T115733
CREATED:20240914T082546Z
LAST-MODIFIED:20240914T082650Z
UID:3848-1726272000-1726358399@mare-aux-canards-bouille-menard.43210.fr
SUMMARY:Préfet : Information routière pour les enfants
DESCRIPTION:Désolé. Vous n'êtes pas habilité à consulter ce contenu.
URL:https://mare-aux-canards-bouille-menard.43210.fr/evenement/2024-09-14-information-routiere-pour-les-enfants/
END:VEVENT
BEGIN:VEVENT
DTSTART;TZID=UTC:20240914T080000
DTEND;TZID=UTC:20240914T170000
DTSTAMP:20260425T115733
CREATED:20240914T093241Z
LAST-MODIFIED:20240914T093915Z
UID:3853-1726300800-1726333200@mare-aux-canards-bouille-menard.43210.fr
SUMMARY:Erik Hulsman et l’agroforesterie
DESCRIPTION:Désolé. Vous n'êtes pas habilité à consulter ce contenu.
URL:https://mare-aux-canards-bouille-menard.43210.fr/evenement/2024-08-16-erik-hulsman-et-lagroforesterie/
END:VEVENT
BEGIN:VEVENT
DTSTART;TZID=UTC:20240914T080000
DTEND;TZID=UTC:20240914T170000
DTSTAMP:20260425T115733
CREATED:20240914T094244Z
LAST-MODIFIED:20240914T094626Z
UID:3861-1726300800-1726333200@mare-aux-canards-bouille-menard.43210.fr
SUMMARY:La rentrée a été joyeuse à Saint-Joseph
DESCRIPTION:Désolé. Vous n'êtes pas habilité à consulter ce contenu.
URL:https://mare-aux-canards-bouille-menard.43210.fr/evenement/2024-09-06-spectacle-rentree-ecole-saint-joseph-bm/
END:VEVENT
BEGIN:VEVENT
DTSTART;TZID=UTC:20240914T123000
DTEND;TZID=UTC:20240914T190000
DTSTAMP:20260425T115733
CREATED:20240913T111115Z
LAST-MODIFIED:20240913T111418Z
UID:3834-1726317000-1726340400@mare-aux-canards-bouille-menard.43210.fr
SUMMARY:Concours de pétanque
DESCRIPTION:Désolé. Vous n'êtes pas habilité à consulter ce contenu.
URL:https://mare-aux-canards-bouille-menard.43210.fr/evenement/2024-09-14-concours-petanque-hullin/
LOCATION:la chapelle Hullin\, La Chapelle Hullin\, France
END:VEVENT
BEGIN:VEVENT
DTSTART;TZID=UTC:20240915T083000
DTEND;TZID=UTC:20240915T180000
DTSTAMP:20260425T115733
CREATED:20240830T172707Z
LAST-MODIFIED:20240830T173016Z
UID:3806-1726389000-1726423200@mare-aux-canards-bouille-menard.43210.fr
SUMMARY:Vide-greniers et moules-frites Bel-Air
DESCRIPTION:Désolé. Vous n'êtes pas habilité à consulter ce contenu.
URL:https://mare-aux-canards-bouille-menard.43210.fr/evenement/2024-09-15-vide-greniers-et-moules-frites-bel-air/
LOCATION:Maison commune de Loisirs Bel-Air\, Rue du Val Fleuri\, Bel-Air - Combrée - Ombrée d'Anjou\, France
END:VEVENT
BEGIN:VEVENT
DTSTART;TZID=UTC:20240917T203000
DTEND;TZID=UTC:20240917T230000
DTSTAMP:20260425T115733
CREATED:20240913T174838Z
LAST-MODIFIED:20240913T174904Z
UID:3841-1726605000-1726614000@mare-aux-canards-bouille-menard.43210.fr
SUMMARY:Cinéma Balad Images Châtelais : Film Le larbin
DESCRIPTION:Désolé. Vous n'êtes pas habilité à consulter ce contenu.
URL:https://mare-aux-canards-bouille-menard.43210.fr/evenement/2024-09-17-cinema-balad-images-chatelais-film-le-larbin/
LOCATION:Salle des fêtes de Châtelais\, 3 rue Grands Murs\, Châtelais\, 49520\, France
END:VEVENT
BEGIN:VEVENT
DTSTART;TZID=UTC:20240918T143000
DTEND;TZID=UTC:20240918T170000
DTSTAMP:20260425T115733
CREATED:20240913T175745Z
LAST-MODIFIED:20240913T175812Z
UID:3845-1726669800-1726678800@mare-aux-canards-bouille-menard.43210.fr
SUMMARY:Cinéma Balad Images Châtelais : Film Vice-versa 2
DESCRIPTION:Désolé. Vous n'êtes pas habilité à consulter ce contenu.
URL:https://mare-aux-canards-bouille-menard.43210.fr/evenement/2024-09-18-cinema-balad-images-chatelais-film-vice-versa-2/
LOCATION:Salle des fêtes de Châtelais\, 3 rue Grands Murs\, Châtelais\, 49520\, France
END:VEVENT
BEGIN:VEVENT
DTSTART;TZID=UTC:20240920T180000
DTEND;TZID=UTC:20240920T230000
DTSTAMP:20260425T115733
CREATED:20240614T172206Z
LAST-MODIFIED:20240614T172206Z
UID:3591-1726855200-1726873200@mare-aux-canards-bouille-menard.43210.fr
SUMMARY:Apéro-concert avec Jivé
DESCRIPTION:Désolé. Vous n'êtes pas habilité à consulter ce contenu.
URL:https://mare-aux-canards-bouille-menard.43210.fr/evenement/2024-09-20-apero-concert-avec-jive/
LOCATION:Halles de Châtelais\, 1\, place de l'église - Châtelais\, Segré-en-Anjou-Bleu\, 49500\, France
END:VEVENT
BEGIN:VEVENT
DTSTART;VALUE=DATE:20240921
DTEND;VALUE=DATE:20240923
DTSTAMP:20260425T115733
CREATED:20240914T095521Z
LAST-MODIFIED:20240914T100329Z
UID:3866-1726876800-1727049599@mare-aux-canards-bouille-menard.43210.fr
SUMMARY:Journées européennes du patrimoine
DESCRIPTION:Désolé. Vous n'êtes pas habilité à consulter ce contenu.
URL:https://mare-aux-canards-bouille-menard.43210.fr/evenement/2024-journees-europeennes-du-patrimoine/
END:VEVENT
BEGIN:VEVENT
DTSTART;TZID=UTC:20240921T063000
DTEND;TZID=UTC:20240921T220000
DTSTAMP:20260425T115733
CREATED:20241005T181544Z
LAST-MODIFIED:20241005T181544Z
UID:3893-1726900200-1726956000@mare-aux-canards-bouille-menard.43210.fr
SUMMARY:Sortie au Futuroscope
DESCRIPTION:Désolé. Vous n'êtes pas habilité à consulter ce contenu.
URL:https://mare-aux-canards-bouille-menard.43210.fr/evenement/sortie-au-futuroscope/
LOCATION:stade de Bouillé-Ménard
END:VEVENT
BEGIN:VEVENT
DTSTART;TZID=UTC:20240921T063000
DTEND;TZID=UTC:20240921T223000
DTSTAMP:20260425T115733
CREATED:20240922T080941Z
LAST-MODIFIED:20240922T081007Z
UID:3874-1726900200-1726957800@mare-aux-canards-bouille-menard.43210.fr
SUMMARY:Sortie au Futuroscope pour les bénévoles du Comité des Fêtes BM
DESCRIPTION:Désolé. Vous n'êtes pas habilité à consulter ce contenu.
URL:https://mare-aux-canards-bouille-menard.43210.fr/evenement/2024-09-21-sortie-au-futuroscope-pour-les-benevoles/
LOCATION:stade de Bouillé-Ménard
END:VEVENT
BEGIN:VEVENT
DTSTART;TZID=UTC:20240922T080000
DTEND;TZID=UTC:20240922T170000
DTSTAMP:20260425T115734
CREATED:20240922T082436Z
LAST-MODIFIED:20240922T084327Z
UID:3876-1726992000-1727024400@mare-aux-canards-bouille-menard.43210.fr
SUMMARY:Super-héros français
DESCRIPTION:Désolé. Vous n'êtes pas habilité à consulter ce contenu.
URL:https://mare-aux-canards-bouille-menard.43210.fr/evenement/2024-09-22-super-heros-francais/
END:VEVENT
BEGIN:VEVENT
DTSTART;TZID=UTC:20240926T180000
DTEND;TZID=UTC:20240926T235900
DTSTAMP:20260425T115734
CREATED:20240629T072259Z
LAST-MODIFIED:20240629T072259Z
UID:3677-1727373600-1727395140@mare-aux-canards-bouille-menard.43210.fr
SUMMARY:Collecte poubelle noire
DESCRIPTION:Désolé. Vous n'êtes pas habilité à consulter ce contenu.
URL:https://mare-aux-canards-bouille-menard.43210.fr/evenement/2024-09-27-collecte-poubelle-noire/
LOCATION:Bouillé-Ménard\, France
ORGANIZER;CN="Anjou Bleu Communaut%C3%A9":MAILTO:dechets@anjoubleucommunaute.fr
END:VEVENT
BEGIN:VEVENT
DTSTART;TZID=UTC:20240927T080000
DTEND;TZID=UTC:20240927T170000
DTSTAMP:20260425T115734
CREATED:20241125T202240Z
LAST-MODIFIED:20241125T202254Z
UID:4005-1727424000-1727456400@mare-aux-canards-bouille-menard.43210.fr
SUMMARY:Des urbanistes au service des habitants
DESCRIPTION:Désolé. Vous n'êtes pas habilité à consulter ce contenu.
URL:https://mare-aux-canards-bouille-menard.43210.fr/evenement/2024-09-27-des-urbanistes-au-service-des-habitants/
ORGANIZER;CN="Anjou Bleu Communaut%C3%A9":MAILTO:dechets@anjoubleucommunaute.fr
END:VEVENT
BEGIN:VEVENT
DTSTART;TZID=UTC:20240928T110000
DTEND;TZID=UTC:20240928T120000
DTSTAMP:20260425T115734
CREATED:20240928T073426Z
LAST-MODIFIED:20250914T170159Z
UID:3882-1727521200-1727524800@mare-aux-canards-bouille-menard.43210.fr
SUMMARY:Inauguration du City-stade BM
DESCRIPTION:Désolé. Vous n'êtes pas habilité à consulter ce contenu.
URL:https://mare-aux-canards-bouille-menard.43210.fr/evenement/2025-09-28-inauguration-du-city-stade-bm/
LOCATION:stade de Bouillé-Ménard
END:VEVENT
END:VCALENDAR