BEGIN:VCALENDAR
VERSION:2.0
PRODID:-//LA MARE AUX CANARDS A BOUILLE-MENARD - ECPv6.15.20//NONSGML v1.0//EN
CALSCALE:GREGORIAN
METHOD:PUBLISH
X-ORIGINAL-URL:https://mare-aux-canards-bouille-menard.43210.fr
X-WR-CALDESC:Évènements pour LA MARE AUX CANARDS A BOUILLE-MENARD
REFRESH-INTERVAL;VALUE=DURATION:PT1H
X-Robots-Tag:noindex
X-PUBLISHED-TTL:PT1H
BEGIN:VTIMEZONE
TZID:UTC
BEGIN:STANDARD
TZOFFSETFROM:+0000
TZOFFSETTO:+0000
TZNAME:UTC
DTSTART:20230101T000000
END:STANDARD
END:VTIMEZONE
BEGIN:VEVENT
DTSTART;TZID=UTC:20240329T140000
DTEND;TZID=UTC:20241130T160000
DTSTAMP:20260425T132745
CREATED:20240415T173615Z
LAST-MODIFIED:20240415T191834Z
UID:3325-1711720800-1732982400@mare-aux-canards-bouille-menard.43210.fr
SUMMARY:Château de Vipère au poing
DESCRIPTION:Désolé. Vous n'êtes pas habilité à consulter ce contenu.
URL:https://mare-aux-canards-bouille-menard.43210.fr/evenement/2024-chateau-de-vipere-au-poing/
LOCATION:Château du Patys\, 748 route du Patys MARANS\, Segré-en-Anjou Bleu\, 49500\, France
CATEGORIES:Longues durées
END:VEVENT
BEGIN:VEVENT
DTSTART;VALUE=DATE:20240501
DTEND;VALUE=DATE:20241101
DTSTAMP:20260425T132745
CREATED:20240525T111054Z
LAST-MODIFIED:20240525T111054Z
UID:3447-1714521600-1730419199@mare-aux-canards-bouille-menard.43210.fr
SUMMARY:Randonnées dans les alentours
DESCRIPTION:Désolé. Vous n'êtes pas habilité à consulter ce contenu.
URL:https://mare-aux-canards-bouille-menard.43210.fr/evenement/randonnees-dans-les-alentours/
END:VEVENT
BEGIN:VEVENT
DTSTART;VALUE=DATE:20240708
DTEND;VALUE=DATE:20240803
DTSTAMP:20260425T132745
CREATED:20240120T155839Z
LAST-MODIFIED:20240809T081116Z
UID:2948-1720396800-1722643199@mare-aux-canards-bouille-menard.43210.fr
SUMMARY:Croc' Loisirs
DESCRIPTION:Désolé. Vous n'êtes pas habilité à consulter ce contenu.
URL:https://mare-aux-canards-bouille-menard.43210.fr/evenement/2024-croc-loisirs/
LOCATION:Ecole publique Alfred Clément\, Bouillé-Ménard\, 49520\, France
END:VEVENT
BEGIN:VEVENT
DTSTART;TZID=UTC:20240801T180000
DTEND;TZID=UTC:20240801T235900
DTSTAMP:20260425T132745
CREATED:20240629T071642Z
LAST-MODIFIED:20240629T071642Z
UID:3669-1722535200-1722556740@mare-aux-canards-bouille-menard.43210.fr
SUMMARY:Collecte poubelle noire
DESCRIPTION:Désolé. Vous n'êtes pas habilité à consulter ce contenu.
URL:https://mare-aux-canards-bouille-menard.43210.fr/evenement/2024-08-02-collecte-poubelle-noire/
LOCATION:Bouillé-Ménard\, France
ORGANIZER;CN="Anjou Bleu Communaut%C3%A9":MAILTO:dechets@anjoubleucommunaute.fr
END:VEVENT
BEGIN:VEVENT
DTSTART;TZID=UTC:20240804T131500
DTEND;TZID=UTC:20240804T180000
DTSTAMP:20260425T132745
CREATED:20240602T100120Z
LAST-MODIFIED:20241025T165958Z
UID:3511-1722777300-1722794400@mare-aux-canards-bouille-menard.43210.fr
SUMMARY:Concours de pétanque en 5 parties - Un concours ensoleillé
DESCRIPTION:Désolé. Vous n'êtes pas habilité à consulter ce contenu.
URL:https://mare-aux-canards-bouille-menard.43210.fr/evenement/2024-08-04-concours-de-petanque-en-5-parties/
LOCATION:stade de Bouillé-Ménard
END:VEVENT
BEGIN:VEVENT
DTSTART;TZID=UTC:20240806T180000
DTEND;TZID=UTC:20240806T230000
DTSTAMP:20260425T132745
CREATED:20240614T172113Z
LAST-MODIFIED:20240614T172113Z
UID:3589-1722967200-1722985200@mare-aux-canards-bouille-menard.43210.fr
SUMMARY:Apéro-concert avec Jivé
DESCRIPTION:Désolé. Vous n'êtes pas habilité à consulter ce contenu.
URL:https://mare-aux-canards-bouille-menard.43210.fr/evenement/2024-08-06-apero-concert-avec-jive/
LOCATION:Halles de Châtelais\, 1\, place de l'église - Châtelais\, Segré-en-Anjou-Bleu\, 49500\, France
END:VEVENT
BEGIN:VEVENT
DTSTART;TZID=UTC:20240815T080000
DTEND;TZID=UTC:20240815T170000
DTSTAMP:20260425T132745
CREATED:20240818T091404Z
LAST-MODIFIED:20240818T091541Z
UID:3770-1723708800-1723741200@mare-aux-canards-bouille-menard.43210.fr
SUMMARY:Vide-greniers de Saint-Blaise
DESCRIPTION:Désolé. Vous n'êtes pas habilité à consulter ce contenu.
URL:https://mare-aux-canards-bouille-menard.43210.fr/evenement/2024-08-15-vide-greniers-de-saint-blaise/
LOCATION:Parc Saint-Blaise\, Noyant-la-Gravoyère\, France
END:VEVENT
BEGIN:VEVENT
DTSTART;TZID=UTC:20240816T180000
DTEND;TZID=UTC:20240816T235900
DTSTAMP:20260425T132745
CREATED:20240629T071825Z
LAST-MODIFIED:20240629T071825Z
UID:3671-1723831200-1723852740@mare-aux-canards-bouille-menard.43210.fr
SUMMARY:Collecte poubelle noire
DESCRIPTION:Désolé. Vous n'êtes pas habilité à consulter ce contenu.
URL:https://mare-aux-canards-bouille-menard.43210.fr/evenement/2024-08-17-collecte-poubelle-noire/
LOCATION:Bouillé-Ménard\, France
ORGANIZER;CN="Anjou Bleu Communaut%C3%A9":MAILTO:dechets@anjoubleucommunaute.fr
END:VEVENT
BEGIN:VEVENT
DTSTART;TZID=UTC:20240818T080000
DTEND;TZID=UTC:20240818T170000
DTSTAMP:20260425T132745
CREATED:20240609T083013Z
LAST-MODIFIED:20240609T083013Z
UID:3548-1723968000-1724000400@mare-aux-canards-bouille-menard.43210.fr
SUMMARY:Rendez vous bimensuel des chineurs à Saint-Gemmes-sur-Loire
DESCRIPTION:Désolé. Vous n'êtes pas habilité à consulter ce contenu.
URL:https://mare-aux-canards-bouille-menard.43210.fr/evenement/2024-08-18-rendez-vous-bimensuel-des-chineurs-a-saint-gemmes-sur-loire/
LOCATION:Jardinerie marionneau\, Chemin du Verger\, Sainte-Gemmes-sur-Loire\, 49130\, France
END:VEVENT
BEGIN:VEVENT
DTSTART;TZID=UTC:20240818T131500
DTEND;TZID=UTC:20240818T180000
DTSTAMP:20260425T132745
CREATED:20240602T100240Z
LAST-MODIFIED:20240602T100240Z
UID:3513-1723986900-1724004000@mare-aux-canards-bouille-menard.43210.fr
SUMMARY:Concours de pétanque en 5 parties
DESCRIPTION:Désolé. Vous n'êtes pas habilité à consulter ce contenu.
URL:https://mare-aux-canards-bouille-menard.43210.fr/evenement/2024-08-18-concours-de-petanque-en-5-parties/
LOCATION:stade de Bouillé-Ménard
END:VEVENT
BEGIN:VEVENT
DTSTART;VALUE=DATE:20240823
DTEND;VALUE=DATE:20240826
DTSTAMP:20260425T132745
CREATED:20240818T092133Z
LAST-MODIFIED:20240818T092539Z
UID:3777-1724371200-1724630399@mare-aux-canards-bouille-menard.43210.fr
SUMMARY:V AND B FEST Château-Gontier
DESCRIPTION:Désolé. Vous n'êtes pas habilité à consulter ce contenu.
URL:https://mare-aux-canards-bouille-menard.43210.fr/evenement/2024-08-23-v-and-b-fest-chateau-gontier-2/
LOCATION:La Maroutière\, La Maroutière\, Château-Gontier-sur-Mayenne\, 53200\, France
ORGANIZER;CN="V AND B FEST":MAILTO:contact@vandbfest.fr
END:VEVENT
BEGIN:VEVENT
DTSTART;TZID=UTC:20240823T203000
DTEND;TZID=UTC:20240823T230000
DTSTAMP:20260425T132745
CREATED:20240822T053203Z
LAST-MODIFIED:20240822T053203Z
UID:3779-1724445000-1724454000@mare-aux-canards-bouille-menard.43210.fr
SUMMARY:Concert classique
DESCRIPTION:Désolé. Vous n'êtes pas habilité à consulter ce contenu.
URL:https://mare-aux-canards-bouille-menard.43210.fr/evenement/2024-08-23-concert-classique-combree/
LOCATION:ėglise de combrėe
END:VEVENT
BEGIN:VEVENT
DTSTART;VALUE=DATE:20240824
DTEND;VALUE=DATE:20240825
DTSTAMP:20260425T132745
CREATED:20240824T105539Z
LAST-MODIFIED:20240824T105539Z
UID:3733-1724457600-1724543999@mare-aux-canards-bouille-menard.43210.fr
SUMMARY:Soirée Bretonne avec le duo Delbassée-Hellard
DESCRIPTION:Désolé. Vous n'êtes pas habilité à consulter ce contenu.
URL:https://mare-aux-canards-bouille-menard.43210.fr/evenement/2024-07-19-soiree-bretonne/
END:VEVENT
BEGIN:VEVENT
DTSTART;TZID=UTC:20240825T080000
DTEND;TZID=UTC:20240825T180000
DTSTAMP:20260425T132745
CREATED:20240818T084653Z
LAST-MODIFIED:20240830T171807Z
UID:3759-1724572800-1724608800@mare-aux-canards-bouille-menard.43210.fr
SUMMARY:Vide-Greniers à Bouillé-Ménard
DESCRIPTION:Désolé. Vous n'êtes pas habilité à consulter ce contenu.
URL:https://mare-aux-canards-bouille-menard.43210.fr/evenement/2024-08-25-vide-greniers-a-bouille-menard/
LOCATION:stade de Bouillé-Ménard
END:VEVENT
BEGIN:VEVENT
DTSTART;TZID=UTC:20240829T180000
DTEND;TZID=UTC:20240829T235900
DTSTAMP:20260425T132745
CREATED:20240629T071940Z
LAST-MODIFIED:20240629T071940Z
UID:3673-1724954400-1724975940@mare-aux-canards-bouille-menard.43210.fr
SUMMARY:Collecte poubelle noire
DESCRIPTION:Désolé. Vous n'êtes pas habilité à consulter ce contenu.
URL:https://mare-aux-canards-bouille-menard.43210.fr/evenement/2024-08-30-collecte-poubelle-noire/
LOCATION:Bouillé-Ménard\, France
ORGANIZER;CN="Anjou Bleu Communaut%C3%A9":MAILTO:dechets@anjoubleucommunaute.fr
END:VEVENT
END:VCALENDAR