BEGIN:VCALENDAR
VERSION:2.0
PRODID:-//LA MARE AUX CANARDS A BOUILLE-MENARD - ECPv6.15.20//NONSGML v1.0//EN
CALSCALE:GREGORIAN
METHOD:PUBLISH
X-ORIGINAL-URL:https://mare-aux-canards-bouille-menard.43210.fr
X-WR-CALDESC:Évènements pour LA MARE AUX CANARDS A BOUILLE-MENARD
REFRESH-INTERVAL;VALUE=DURATION:PT1H
X-Robots-Tag:noindex
X-PUBLISHED-TTL:PT1H
BEGIN:VTIMEZONE
TZID:UTC
BEGIN:STANDARD
TZOFFSETFROM:+0000
TZOFFSETTO:+0000
TZNAME:UTC
DTSTART:20230101T000000
END:STANDARD
END:VTIMEZONE
BEGIN:VEVENT
DTSTART;TZID=UTC:20240329T140000
DTEND;TZID=UTC:20241130T160000
DTSTAMP:20260425T150318
CREATED:20240415T173615Z
LAST-MODIFIED:20240415T191834Z
UID:3325-1711720800-1732982400@mare-aux-canards-bouille-menard.43210.fr
SUMMARY:Château de Vipère au poing
DESCRIPTION:Désolé. Vous n'êtes pas habilité à consulter ce contenu.
URL:https://mare-aux-canards-bouille-menard.43210.fr/evenement/2024-chateau-de-vipere-au-poing/
LOCATION:Château du Patys\, 748 route du Patys MARANS\, Segré-en-Anjou Bleu\, 49500\, France
CATEGORIES:Longues durées
END:VEVENT
BEGIN:VEVENT
DTSTART;VALUE=DATE:20240501
DTEND;VALUE=DATE:20241101
DTSTAMP:20260425T150318
CREATED:20240525T111054Z
LAST-MODIFIED:20240525T111054Z
UID:3447-1714521600-1730419199@mare-aux-canards-bouille-menard.43210.fr
SUMMARY:Randonnées dans les alentours
DESCRIPTION:Désolé. Vous n'êtes pas habilité à consulter ce contenu.
URL:https://mare-aux-canards-bouille-menard.43210.fr/evenement/randonnees-dans-les-alentours/
END:VEVENT
BEGIN:VEVENT
DTSTART;VALUE=DATE:20240701
DTEND;VALUE=DATE:20240702
DTSTAMP:20260425T150318
CREATED:20240706T183711Z
LAST-MODIFIED:20240706T185305Z
UID:3717-1719792000-1719878399@mare-aux-canards-bouille-menard.43210.fr
SUMMARY:Un appel aux dons pour changer le chauffage de l’école
DESCRIPTION:Désolé. Vous n'êtes pas habilité à consulter ce contenu.
URL:https://mare-aux-canards-bouille-menard.43210.fr/evenement/2024-07-01-un-appel-aux-dons-pour-changer-le-chauffage-de-lecole/
LOCATION:école Saint-Joseph\, Impasse des Martinets\, Bouillé-Ménard\, France
END:VEVENT
BEGIN:VEVENT
DTSTART;TZID=UTC:20240704T180000
DTEND;TZID=UTC:20240704T235900
DTSTAMP:20260425T150318
CREATED:20240629T071204Z
LAST-MODIFIED:20240629T071204Z
UID:3664-1720116000-1720137540@mare-aux-canards-bouille-menard.43210.fr
SUMMARY:Collecte poubelle noire
DESCRIPTION:Désolé. Vous n'êtes pas habilité à consulter ce contenu.
URL:https://mare-aux-canards-bouille-menard.43210.fr/evenement/2024-07-05-collecte-poubelle-noire/
LOCATION:Bouillé-Ménard\, France
ORGANIZER;CN="Anjou Bleu Communaut%C3%A9":MAILTO:dechets@anjoubleucommunaute.fr
END:VEVENT
BEGIN:VEVENT
DTSTART;TZID=UTC:20240705T180000
DTEND;TZID=UTC:20240705T230000
DTSTAMP:20260425T150318
CREATED:20240614T171709Z
LAST-MODIFIED:20240614T171959Z
UID:3585-1720202400-1720220400@mare-aux-canards-bouille-menard.43210.fr
SUMMARY:Apéro-concert avec Jivé
DESCRIPTION:Désolé. Vous n'êtes pas habilité à consulter ce contenu.
URL:https://mare-aux-canards-bouille-menard.43210.fr/evenement/2024-07-05-apero-concert-avec-jive/
LOCATION:Halles de Châtelais\, 1\, place de l'église - Châtelais\, Segré-en-Anjou-Bleu\, 49500\, France
END:VEVENT
BEGIN:VEVENT
DTSTART;TZID=UTC:20240705T180000
DTEND;TZID=UTC:20240705T235900
DTSTAMP:20260425T150318
CREATED:20240705T172204Z
LAST-MODIFIED:20240705T172248Z
UID:3703-1720202400-1720223940@mare-aux-canards-bouille-menard.43210.fr
SUMMARY:Collecte poubelle noire
DESCRIPTION:Désolé. Vous n'êtes pas habilité à consulter ce contenu.
URL:https://mare-aux-canards-bouille-menard.43210.fr/evenement/2024-07-06-collecte-poubelle-noire/
LOCATION:Bouillé-Ménard\, France
ORGANIZER;CN="Anjou Bleu Communaut%C3%A9":MAILTO:dechets@anjoubleucommunaute.fr
END:VEVENT
BEGIN:VEVENT
DTSTART;VALUE=DATE:20240706
DTEND;VALUE=DATE:20240707
DTSTAMP:20260425T150318
CREATED:20240809T080312Z
LAST-MODIFIED:20240809T081451Z
UID:3749-1720224000-1720310399@mare-aux-canards-bouille-menard.43210.fr
SUMMARY:Noces de diamant pour Josiane et Michel CHEVROLIER
DESCRIPTION:Désolé. Vous n'êtes pas habilité à consulter ce contenu.
URL:https://mare-aux-canards-bouille-menard.43210.fr/evenement/2024-07-06-noces-de-diamant-pour-josiane-et-michel-chevrolier/
END:VEVENT
BEGIN:VEVENT
DTSTART;TZID=UTC:20240707T080000
DTEND;TZID=UTC:20240707T170000
DTSTAMP:20260425T150318
CREATED:20240609T082805Z
LAST-MODIFIED:20240609T082805Z
UID:3544-1720339200-1720371600@mare-aux-canards-bouille-menard.43210.fr
SUMMARY:Rendez vous bimensuel des chineurs à Saint-Gemmes-sur-Loire
DESCRIPTION:Désolé. Vous n'êtes pas habilité à consulter ce contenu.
URL:https://mare-aux-canards-bouille-menard.43210.fr/evenement/2024-07-07-rendez-vous-bimensuel-des-chineurs-a-saint-gemmes-sur-loire/
LOCATION:Jardinerie marionneau\, Chemin du Verger\, Sainte-Gemmes-sur-Loire\, 49130\, France
END:VEVENT
BEGIN:VEVENT
DTSTART;TZID=UTC:20240707T080000
DTEND;TZID=UTC:20240707T180000
DTSTAMP:20260425T150318
CREATED:20240706T190708Z
LAST-MODIFIED:20240720T163241Z
UID:3729-1720339200-1720375200@mare-aux-canards-bouille-menard.43210.fr
SUMMARY:Election législatives dans la 7e circonscription du Maine-et-Loire - 2ième tour
DESCRIPTION:Désolé. Vous n'êtes pas habilité à consulter ce contenu.
URL:https://mare-aux-canards-bouille-menard.43210.fr/evenement/2024-07-07-election-legislatives-dans-la-7e-circonscription-du-maine-et-loire/
END:VEVENT
BEGIN:VEVENT
DTSTART;TZID=UTC:20240707T131500
DTEND;TZID=UTC:20240707T180000
DTSTAMP:20260425T150318
CREATED:20240602T095756Z
LAST-MODIFIED:20240602T095829Z
UID:3502-1720358100-1720375200@mare-aux-canards-bouille-menard.43210.fr
SUMMARY:Concours de pétanque en 5 parties
DESCRIPTION:Désolé. Vous n'êtes pas habilité à consulter ce contenu.
URL:https://mare-aux-canards-bouille-menard.43210.fr/evenement/2024-07-07-concours-de-petanque/
LOCATION:stade de Bouillé-Ménard
END:VEVENT
BEGIN:VEVENT
DTSTART;VALUE=DATE:20240708
DTEND;VALUE=DATE:20240803
DTSTAMP:20260425T150318
CREATED:20240120T155839Z
LAST-MODIFIED:20240809T081116Z
UID:2948-1720396800-1722643199@mare-aux-canards-bouille-menard.43210.fr
SUMMARY:Croc' Loisirs
DESCRIPTION:Désolé. Vous n'êtes pas habilité à consulter ce contenu.
URL:https://mare-aux-canards-bouille-menard.43210.fr/evenement/2024-croc-loisirs/
LOCATION:Ecole publique Alfred Clément\, Bouillé-Ménard\, 49520\, France
END:VEVENT
BEGIN:VEVENT
DTSTART;TZID=UTC:20240712T190000
DTEND;TZID=UTC:20240712T233000
DTSTAMP:20260425T150318
CREATED:20240614T173638Z
LAST-MODIFIED:20240614T173803Z
UID:3602-1720810800-1720827000@mare-aux-canards-bouille-menard.43210.fr
SUMMARY:Lucy et Marion « les Éclectique »
DESCRIPTION:Désolé. Vous n'êtes pas habilité à consulter ce contenu.
URL:https://mare-aux-canards-bouille-menard.43210.fr/evenement/2024-07-12-lucy-et-marion-les-eclectique/
LOCATION:Halles de Châtelais\, 1\, place de l'église - Châtelais\, Segré-en-Anjou-Bleu\, 49500\, France
END:VEVENT
BEGIN:VEVENT
DTSTART;TZID=UTC:20240713T150000
DTEND;TZID=UTC:20240713T150000
DTSTAMP:20260425T150318
CREATED:20240706T071926Z
LAST-MODIFIED:20250607T175232Z
UID:3707-1720882800-1720882800@mare-aux-canards-bouille-menard.43210.fr
SUMMARY:Motocross en nocturne Vern d’Anjou - ACA 49
DESCRIPTION:Désolé. Vous n'êtes pas habilité à consulter ce contenu.
URL:https://mare-aux-canards-bouille-menard.43210.fr/evenement/2024-07-13-motocross-en-nocturne-vern-danjou-aca-49/
LOCATION:circuit de la Brundelaie\, Vern d’Anjou\, France
END:VEVENT
BEGIN:VEVENT
DTSTART;TZID=UTC:20240717T200000
DTEND;TZID=UTC:20240717T220000
DTSTAMP:20260425T150318
CREATED:20240901T080133Z
LAST-MODIFIED:20240901T081417Z
UID:3814-1721246400-1721253600@mare-aux-canards-bouille-menard.43210.fr
SUMMARY:Soirées à la mine bleue
DESCRIPTION:Désolé. Vous n'êtes pas habilité à consulter ce contenu.
URL:https://mare-aux-canards-bouille-menard.43210.fr/evenement/2024-07-17-soirees-a-la-mine-bleue/
LOCATION:La Mine Bleue\, Noyant-la-Gravoyère\, France
END:VEVENT
BEGIN:VEVENT
DTSTART;TZID=UTC:20240718T180000
DTEND;TZID=UTC:20240718T235900
DTSTAMP:20260425T150318
CREATED:20240629T071434Z
LAST-MODIFIED:20240629T071518Z
UID:3666-1721325600-1721347140@mare-aux-canards-bouille-menard.43210.fr
SUMMARY:Collecte poubelle noire
DESCRIPTION:Désolé. Vous n'êtes pas habilité à consulter ce contenu.
URL:https://mare-aux-canards-bouille-menard.43210.fr/evenement/2024-07-19-collecte-poubelle-noire/
LOCATION:Bouillé-Ménard\, France
ORGANIZER;CN="Anjou Bleu Communaut%C3%A9":MAILTO:dechets@anjoubleucommunaute.fr
END:VEVENT
BEGIN:VEVENT
DTSTART;TZID=UTC:20240719T080000
DTEND;TZID=UTC:20240719T170000
DTSTAMP:20260425T150318
CREATED:20240719T180548Z
LAST-MODIFIED:20240719T180827Z
UID:3735-1721376000-1721408400@mare-aux-canards-bouille-menard.43210.fr
SUMMARY:Soirée bretonne
DESCRIPTION:Désolé. Vous n'êtes pas habilité à consulter ce contenu.
URL:https://mare-aux-canards-bouille-menard.43210.fr/evenement/2024-07-19-soiree-bretonne-2/
LOCATION:Halles de Châtelais\, 1\, place de l'église - Châtelais\, Segré-en-Anjou-Bleu\, 49500\, France
ORGANIZER;CN="halles de chatelais":MAILTO:epicerie@leshallesdechatelais.fr
END:VEVENT
BEGIN:VEVENT
DTSTART;TZID=UTC:20240721T080000
DTEND;TZID=UTC:20240721T170000
DTSTAMP:20260425T150318
CREATED:20240609T082910Z
LAST-MODIFIED:20240609T082910Z
UID:3546-1721548800-1721581200@mare-aux-canards-bouille-menard.43210.fr
SUMMARY:Rendez vous bimensuel des chineurs à Saint-Gemmes-sur-Loire
DESCRIPTION:Désolé. Vous n'êtes pas habilité à consulter ce contenu.
URL:https://mare-aux-canards-bouille-menard.43210.fr/evenement/2024-07-21-rendez-vous-bimensuel-des-chineurs-a-saint-gemmes-sur-loire/
LOCATION:Jardinerie marionneau\, Chemin du Verger\, Sainte-Gemmes-sur-Loire\, 49130\, France
END:VEVENT
BEGIN:VEVENT
DTSTART;TZID=UTC:20240721T131500
DTEND;TZID=UTC:20240721T180000
DTSTAMP:20260425T150318
CREATED:20240602T095955Z
LAST-MODIFIED:20240602T095955Z
UID:3507-1721567700-1721584800@mare-aux-canards-bouille-menard.43210.fr
SUMMARY:Concours de pétanque en 5 parties
DESCRIPTION:Désolé. Vous n'êtes pas habilité à consulter ce contenu.
URL:https://mare-aux-canards-bouille-menard.43210.fr/evenement/2024-07-21-concours-de-petanque-en-5-parties/
LOCATION:stade de Bouillé-Ménard
END:VEVENT
BEGIN:VEVENT
DTSTART;VALUE=DATE:20240727
DTEND;VALUE=DATE:20240729
DTSTAMP:20260425T150318
CREATED:20240706T073025Z
LAST-MODIFIED:20240706T073424Z
UID:3710-1722038400-1722211199@mare-aux-canards-bouille-menard.43210.fr
SUMMARY:Fête de Plein Air
DESCRIPTION:Désolé. Vous n'êtes pas habilité à consulter ce contenu.
URL:https://mare-aux-canards-bouille-menard.43210.fr/evenement/2024-07-27-fete-de-plein-air-craon/
LOCATION:Paln d’eau du Murier\, rue Alain Gerbault\, Craon\, 53400\, France
END:VEVENT
BEGIN:VEVENT
DTSTART;TZID=UTC:20240728T131500
DTEND;TZID=UTC:20240728T180000
DTSTAMP:20260425T150318
CREATED:20240602T100025Z
LAST-MODIFIED:20240602T100149Z
UID:3509-1722172500-1722189600@mare-aux-canards-bouille-menard.43210.fr
SUMMARY:Concours de pétanque en 5 parties
DESCRIPTION:Désolé. Vous n'êtes pas habilité à consulter ce contenu.
URL:https://mare-aux-canards-bouille-menard.43210.fr/evenement/2024-07-28-concours-de-petanque-en-5-parties/
LOCATION:stade de Bouillé-Ménard
END:VEVENT
END:VCALENDAR