BEGIN:VCALENDAR
VERSION:2.0
PRODID:-//LA MARE AUX CANARDS A BOUILLE-MENARD - ECPv6.15.20//NONSGML v1.0//EN
CALSCALE:GREGORIAN
METHOD:PUBLISH
X-WR-CALNAME:LA MARE AUX CANARDS A BOUILLE-MENARD
X-ORIGINAL-URL:https://mare-aux-canards-bouille-menard.43210.fr
X-WR-CALDESC:Évènements pour LA MARE AUX CANARDS A BOUILLE-MENARD
REFRESH-INTERVAL;VALUE=DURATION:PT1H
X-Robots-Tag:noindex
X-PUBLISHED-TTL:PT1H
BEGIN:VTIMEZONE
TZID:UTC
BEGIN:STANDARD
TZOFFSETFROM:+0000
TZOFFSETTO:+0000
TZNAME:UTC
DTSTART:20230101T000000
END:STANDARD
END:VTIMEZONE
BEGIN:VEVENT
DTSTART;TZID=UTC:20240329T140000
DTEND;TZID=UTC:20241130T160000
DTSTAMP:20260425T163810
CREATED:20240415T173615Z
LAST-MODIFIED:20240415T191834Z
UID:3325-1711720800-1732982400@mare-aux-canards-bouille-menard.43210.fr
SUMMARY:Château de Vipère au poing
DESCRIPTION:Désolé. Vous n'êtes pas habilité à consulter ce contenu.
URL:https://mare-aux-canards-bouille-menard.43210.fr/evenement/2024-chateau-de-vipere-au-poing/
LOCATION:Château du Patys\, 748 route du Patys MARANS\, Segré-en-Anjou Bleu\, 49500\, France
CATEGORIES:Longues durées
END:VEVENT
BEGIN:VEVENT
DTSTART;VALUE=DATE:20240501
DTEND;VALUE=DATE:20240701
DTSTAMP:20260425T163810
CREATED:20240525T102925Z
LAST-MODIFIED:20240525T102953Z
UID:3432-1714521600-1719791999@mare-aux-canards-bouille-menard.43210.fr
SUMMARY:Rue de la Mairie / rue des Mésanges - routes barrées
DESCRIPTION:Désolé. Vous n'êtes pas habilité à consulter ce contenu.
URL:https://mare-aux-canards-bouille-menard.43210.fr/evenement/2024-05-01-rue-de-la-mairie-rue-des-mesanges-routes-barrees/
LOCATION:Bouillé-Ménard\, France
END:VEVENT
BEGIN:VEVENT
DTSTART;VALUE=DATE:20240501
DTEND;VALUE=DATE:20241101
DTSTAMP:20260425T163810
CREATED:20240525T111054Z
LAST-MODIFIED:20240525T111054Z
UID:3447-1714521600-1730419199@mare-aux-canards-bouille-menard.43210.fr
SUMMARY:Randonnées dans les alentours
DESCRIPTION:Désolé. Vous n'êtes pas habilité à consulter ce contenu.
URL:https://mare-aux-canards-bouille-menard.43210.fr/evenement/randonnees-dans-les-alentours/
END:VEVENT
BEGIN:VEVENT
DTSTART;VALUE=DATE:20240504
DTEND;VALUE=DATE:20240603
DTSTAMP:20260425T163810
CREATED:20240407T170525Z
LAST-MODIFIED:20240407T170621Z
UID:3266-1714780800-1717372799@mare-aux-canards-bouille-menard.43210.fr
SUMMARY:Spectacle La Belle et la Bête
DESCRIPTION:Désolé. Vous n'êtes pas habilité à consulter ce contenu.
URL:https://mare-aux-canards-bouille-menard.43210.fr/evenement/2024-05-04-spectacle-la-belle-et-la-bete/
END:VEVENT
BEGIN:VEVENT
DTSTART;VALUE=DATE:20240505
DTEND;VALUE=DATE:20240701
DTSTAMP:20260425T163810
CREATED:20240525T103514Z
LAST-MODIFIED:20240525T103558Z
UID:3434-1714867200-1719791999@mare-aux-canards-bouille-menard.43210.fr
SUMMARY:Rue de Bourg-L'Evêque - circulation alternée
DESCRIPTION:Désolé. Vous n'êtes pas habilité à consulter ce contenu.
URL:https://mare-aux-canards-bouille-menard.43210.fr/evenement/2024-04-05-rue-de-bourg-leveque-circulation-alternee/
LOCATION:Bouillé-Ménard\, France
END:VEVENT
BEGIN:VEVENT
DTSTART;TZID=UTC:20240514T080000
DTEND;TZID=UTC:20240619T170000
DTSTAMP:20260425T163810
CREATED:20240518T081114Z
LAST-MODIFIED:20240518T081158Z
UID:3414-1715673600-1718816400@mare-aux-canards-bouille-menard.43210.fr
SUMMARY:Portes Ouvertes Handball Noyant la Gravoyère
DESCRIPTION:Désolé. Vous n'êtes pas habilité à consulter ce contenu.
URL:https://mare-aux-canards-bouille-menard.43210.fr/evenement/2024-05-14-po-handball-noyant-la-gravoyere/
LOCATION:Salle Léo Lagrange\, rue du parc - Noyant-La-Gravoyère\, Segré-en-Anjou-Bleu\, 49500
CATEGORIES:Longues durées
END:VEVENT
BEGIN:VEVENT
DTSTART;TZID=UTC:20240521T170000
DTEND;TZID=UTC:20240613T193000
DTSTAMP:20260425T163810
CREATED:20240531T174412Z
LAST-MODIFIED:20240615T081922Z
UID:3485-1716310800-1718307000@mare-aux-canards-bouille-menard.43210.fr
SUMMARY:Troc de matériel sportif
DESCRIPTION:Désolé. Vous n'êtes pas habilité à consulter ce contenu.
URL:https://mare-aux-canards-bouille-menard.43210.fr/evenement/2024-05-21-troc-de-materiel-sportif/
LOCATION:Salle de sport Henri-Gazeau\, Rue des Perreyeurs\, Ombrée-d'Anjou\, 49420\, France
END:VEVENT
BEGIN:VEVENT
DTSTART;TZID=UTC:20240601T080000
DTEND;TZID=UTC:20240601T180000
DTSTAMP:20260425T163810
CREATED:20240529T204353Z
LAST-MODIFIED:20240529T204704Z
UID:3476-1717228800-1717264800@mare-aux-canards-bouille-menard.43210.fr
SUMMARY:Vide-greniers annulé
DESCRIPTION:Désolé. Vous n'êtes pas habilité à consulter ce contenu.
URL:https://mare-aux-canards-bouille-menard.43210.fr/evenement/2024-06-01-vide-greniers/
LOCATION:Chazé-Henry\, Place de l'église\, Chazé-Henry - Ombrée d'Anjou\, France
END:VEVENT
BEGIN:VEVENT
DTSTART;TZID=UTC:20240601T090000
DTEND;TZID=UTC:20240601T130000
DTSTAMP:20260425T163810
CREATED:20240525T134933Z
LAST-MODIFIED:20240525T174611Z
UID:3449-1717232400-1717246800@mare-aux-canards-bouille-menard.43210.fr
SUMMARY:Forum des associations de Segré
DESCRIPTION:Désolé. Vous n'êtes pas habilité à consulter ce contenu.
URL:https://mare-aux-canards-bouille-menard.43210.fr/evenement/2024-06-01-forum-des-associations-de-segre/
LOCATION:Parc Exposition Segré\, Segré-en-Anjou-Bleu\, 49500\, France
END:VEVENT
BEGIN:VEVENT
DTSTART;TZID=UTC:20240601T140000
DTEND;TZID=UTC:20240601T233000
DTSTAMP:20260425T163810
CREATED:20240518T074117Z
LAST-MODIFIED:20240518T075502Z
UID:3402-1717250400-1717284600@mare-aux-canards-bouille-menard.43210.fr
SUMMARY:Cantojeunes fête ses 20 ans
DESCRIPTION:Désolé. Vous n'êtes pas habilité à consulter ce contenu.
URL:https://mare-aux-canards-bouille-menard.43210.fr/evenement/cantojeunes-fete-ses-20-ans/
LOCATION:Maison commune de Loisirs Bel-Air\, Rue du Val Fleuri\, Bel-Air - Combrée - Ombrée d'Anjou\, France
END:VEVENT
BEGIN:VEVENT
DTSTART;TZID=UTC:20240602T090000
DTEND;TZID=UTC:20240602T180000
DTSTAMP:20260425T163810
CREATED:20240531T173245Z
LAST-MODIFIED:20240602T094751Z
UID:3480-1717318800-1717351200@mare-aux-canards-bouille-menard.43210.fr
SUMMARY:Course de caisses à savon
DESCRIPTION:Désolé. Vous n'êtes pas habilité à consulter ce contenu.
URL:https://mare-aux-canards-bouille-menard.43210.fr/evenement/2024-06-02-course-de-caisses-a-savon/
END:VEVENT
BEGIN:VEVENT
DTSTART;TZID=UTC:20240602T100000
DTEND;TZID=UTC:20240602T170000
DTSTAMP:20260425T163810
CREATED:20240531T175841Z
LAST-MODIFIED:20240531T180406Z
UID:3494-1717322400-1717347600@mare-aux-canards-bouille-menard.43210.fr
SUMMARY:Centre Equestre de Craon
DESCRIPTION:Désolé. Vous n'êtes pas habilité à consulter ce contenu.
URL:https://mare-aux-canards-bouille-menard.43210.fr/evenement/20240602-centre-equestre-craon/
LOCATION:Centre Equestre de Craon\, Route de Segré\, Craon\, 53400\, France
END:VEVENT
BEGIN:VEVENT
DTSTART;VALUE=DATE:20240603
DTEND;VALUE=DATE:20240617
DTSTAMP:20260425T163810
CREATED:20240615T081239Z
LAST-MODIFIED:20240615T081628Z
UID:3614-1717372800-1718582399@mare-aux-canards-bouille-menard.43210.fr
SUMMARY:Quinzaine du sport d'Ombrée d'Anjou
DESCRIPTION:Désolé. Vous n'êtes pas habilité à consulter ce contenu.
URL:https://mare-aux-canards-bouille-menard.43210.fr/evenement/2024-06-03-quinzaine-du-sport-dombree-danjou/
END:VEVENT
BEGIN:VEVENT
DTSTART;TZID=UTC:20240606T180000
DTEND;TZID=UTC:20240606T235900
DTSTAMP:20260425T163810
CREATED:20231230T084709Z
LAST-MODIFIED:20231230T084709Z
UID:2870-1717696800-1717718340@mare-aux-canards-bouille-menard.43210.fr
SUMMARY:Collecte poubelle noire
DESCRIPTION:Désolé. Vous n'êtes pas habilité à consulter ce contenu.
URL:https://mare-aux-canards-bouille-menard.43210.fr/evenement/2024-06-07-collecte-poubelle-noire/
LOCATION:Bouillé-Ménard\, France
ORGANIZER;CN="Anjou Bleu Communaut%C3%A9":MAILTO:dechets@anjoubleucommunaute.fr
END:VEVENT
BEGIN:VEVENT
DTSTART;VALUE=DATE:20240609
DTEND;VALUE=DATE:20240610
DTSTAMP:20260425T163810
CREATED:20240623T100112Z
LAST-MODIFIED:20240623T100238Z
UID:3659-1717891200-1717977599@mare-aux-canards-bouille-menard.43210.fr
SUMMARY:Elections eurpéennes
DESCRIPTION:Désolé. Vous n'êtes pas habilité à consulter ce contenu.
URL:https://mare-aux-canards-bouille-menard.43210.fr/evenement/2024-06-09-elections-eurpeennes/
LOCATION:La Mairie Bouillé-Ménard\, Bouillé-Ménard\, France
END:VEVENT
BEGIN:VEVENT
DTSTART;TZID=UTC:20240609T080000
DTEND;TZID=UTC:20240609T180000
DTSTAMP:20260425T163810
CREATED:20240609T080202Z
LAST-MODIFIED:20240609T080356Z
UID:3532-1717920000-1717956000@mare-aux-canards-bouille-menard.43210.fr
SUMMARY:Fête communale\, vide-greniers à Noyant-la-Gravoyère
DESCRIPTION:Désolé. Vous n'êtes pas habilité à consulter ce contenu.
URL:https://mare-aux-canards-bouille-menard.43210.fr/evenement/2024-06-09-vide-grenier-a-noyant-la-gravoyere/
LOCATION:Salle Léo Lagrange\, rue du parc - Noyant-La-Gravoyère\, Segré-en-Anjou-Bleu\, 49500
END:VEVENT
BEGIN:VEVENT
DTSTART;TZID=UTC:20240609T120000
DTEND;TZID=UTC:20240609T183000
DTSTAMP:20260425T163810
CREATED:20240518T074741Z
LAST-MODIFIED:20240518T074832Z
UID:3407-1717934400-1717957800@mare-aux-canards-bouille-menard.43210.fr
SUMMARY:Du bruit dans l'bourg
DESCRIPTION:Désolé. Vous n'êtes pas habilité à consulter ce contenu.
URL:https://mare-aux-canards-bouille-menard.43210.fr/evenement/2024-06-09-du-bruit-dans-lbourg/
LOCATION:stade de Bourg-l’évêque\, Bourg l'Evêque\, 49520\, France
END:VEVENT
BEGIN:VEVENT
DTSTART;TZID=UTC:20240614T190000
DTEND;TZID=UTC:20240614T233000
DTSTAMP:20260425T163810
CREATED:20240614T172422Z
LAST-MODIFIED:20240614T172637Z
UID:3593-1718391600-1718407800@mare-aux-canards-bouille-menard.43210.fr
SUMMARY:Le Halles’Fest avec les Rouspèt’pas
DESCRIPTION:Désolé. Vous n'êtes pas habilité à consulter ce contenu.
URL:https://mare-aux-canards-bouille-menard.43210.fr/evenement/2024-06-14-le-hallesfest-avec-les-rouspetpas/
LOCATION:Halles de Châtelais\, 1\, place de l'église - Châtelais\, Segré-en-Anjou-Bleu\, 49500\, France
END:VEVENT
BEGIN:VEVENT
DTSTART;TZID=UTC:20240616T080000
DTEND;TZID=UTC:20240616T170000
DTSTAMP:20260425T163810
CREATED:20240531T175342Z
LAST-MODIFIED:20240531T175406Z
UID:3492-1718524800-1718557200@mare-aux-canards-bouille-menard.43210.fr
SUMMARY:Vide-greniers au Parc de Tréssé
DESCRIPTION:Désolé. Vous n'êtes pas habilité à consulter ce contenu.
URL:https://mare-aux-canards-bouille-menard.43210.fr/evenement/2024-06-16-vide-greniers-pouance/
LOCATION:Parc de Tressé\, Pouancé\, 49420\, France
END:VEVENT
BEGIN:VEVENT
DTSTART;TZID=UTC:20240616T080000
DTEND;TZID=UTC:20240616T170000
DTSTAMP:20260425T163810
CREATED:20240609T082332Z
LAST-MODIFIED:20240609T082434Z
UID:3540-1718524800-1718557200@mare-aux-canards-bouille-menard.43210.fr
SUMMARY:Rendez vous bimensuel des chineurs à Saint-Gemmes-sur-Loire
DESCRIPTION:Désolé. Vous n'êtes pas habilité à consulter ce contenu.
URL:https://mare-aux-canards-bouille-menard.43210.fr/evenement/2024-06-16-vide-greniers-a-saint-gemmes-sur-loire/
LOCATION:Jardinerie marionneau\, Chemin du Verger\, Sainte-Gemmes-sur-Loire\, 49130\, France
END:VEVENT
BEGIN:VEVENT
DTSTART;TZID=UTC:20240616T080000
DTEND;TZID=UTC:20240616T183000
DTSTAMP:20260425T163810
CREATED:20240609T080735Z
LAST-MODIFIED:20240616T193909Z
UID:3536-1718524800-1718562600@mare-aux-canards-bouille-menard.43210.fr
SUMMARY:Vide-greniers à Molières (Hameau de Chemazé 4 km)
DESCRIPTION:Désolé. Vous n'êtes pas habilité à consulter ce contenu.
URL:https://mare-aux-canards-bouille-menard.43210.fr/evenement/2024-06-16-vide-greniers-molieres/
LOCATION:Hameau de chemazé\, Molières\, Chemazé\, 53200\, France
END:VEVENT
BEGIN:VEVENT
DTSTART;TZID=UTC:20240616T150000
DTEND;TZID=UTC:20240616T180000
DTSTAMP:20260425T163810
CREATED:20240614T175133Z
LAST-MODIFIED:20240614T175455Z
UID:3608-1718550000-1718560800@mare-aux-canards-bouille-menard.43210.fr
SUMMARY:Théâtre Samedi en huit
DESCRIPTION:Désolé. Vous n'êtes pas habilité à consulter ce contenu.
URL:https://mare-aux-canards-bouille-menard.43210.fr/evenement/2024-06-16-theatre-samedi-en-huit/
LOCATION:La Chaise Rouge\, Haute Herberie\, Pouancé\, OMBRÉE D'ANJOU\, 49420\, France
END:VEVENT
BEGIN:VEVENT
DTSTART;TZID=UTC:20240620T180000
DTEND;TZID=UTC:20240620T235900
DTSTAMP:20260425T163810
CREATED:20231230T084756Z
LAST-MODIFIED:20231230T084756Z
UID:2872-1718906400-1718927940@mare-aux-canards-bouille-menard.43210.fr
SUMMARY:Collecte poubelle noire
DESCRIPTION:Désolé. Vous n'êtes pas habilité à consulter ce contenu.
URL:https://mare-aux-canards-bouille-menard.43210.fr/evenement/2024-06-21-collecte-poubelle-noire/
LOCATION:Bouillé-Ménard\, France
ORGANIZER;CN="Anjou Bleu Communaut%C3%A9":MAILTO:dechets@anjoubleucommunaute.fr
END:VEVENT
BEGIN:VEVENT
DTSTART;TZID=UTC:20240621T080000
DTEND;TZID=UTC:20240621T170000
DTSTAMP:20260425T163810
CREATED:20240621T164555Z
LAST-MODIFIED:20240621T165238Z
UID:3639-1718956800-1718989200@mare-aux-canards-bouille-menard.43210.fr
SUMMARY:Fête de la musique Château-Gontier
DESCRIPTION:Désolé. Vous n'êtes pas habilité à consulter ce contenu.
URL:https://mare-aux-canards-bouille-menard.43210.fr/evenement/2024-06-21-fete-de-la-musique-chateau-gontier/
END:VEVENT
BEGIN:VEVENT
DTSTART;TZID=UTC:20240621T180000
DTEND;TZID=UTC:20240621T233000
DTSTAMP:20260425T163810
CREATED:20240621T162825Z
LAST-MODIFIED:20240621T163339Z
UID:3631-1718992800-1719012600@mare-aux-canards-bouille-menard.43210.fr
SUMMARY:Fête de la Musique Segré
DESCRIPTION:Désolé. Vous n'êtes pas habilité à consulter ce contenu.
URL:https://mare-aux-canards-bouille-menard.43210.fr/evenement/2024-06-21-fete-de-la-musique-segre/
END:VEVENT
BEGIN:VEVENT
DTSTART;TZID=UTC:20240621T180000
DTEND;TZID=UTC:20240621T233000
DTSTAMP:20260425T163810
CREATED:20240621T163227Z
LAST-MODIFIED:20240621T163302Z
UID:3637-1718992800-1719012600@mare-aux-canards-bouille-menard.43210.fr
SUMMARY:Fête de la Musique Ste Gemmes
DESCRIPTION:Désolé. Vous n'êtes pas habilité à consulter ce contenu.
URL:https://mare-aux-canards-bouille-menard.43210.fr/evenement/fete-de-la-musique-stgemmes/
END:VEVENT
BEGIN:VEVENT
DTSTART;TZID=UTC:20240622T113000
DTEND;TZID=UTC:20240622T180000
DTSTAMP:20260425T163810
CREATED:20240614T164849Z
LAST-MODIFIED:20240614T165213Z
UID:3563-1719055800-1719079200@mare-aux-canards-bouille-menard.43210.fr
SUMMARY:Théâtre de Guignol et ses amis
DESCRIPTION:Désolé. Vous n'êtes pas habilité à consulter ce contenu.
URL:https://mare-aux-canards-bouille-menard.43210.fr/evenement/2024-06-22-theatre-de-guignol-et-ses-amis/
LOCATION:Esplanade Antoine Glémain\, Segré-en-Anjou Bleu\, 49500\, France
END:VEVENT
BEGIN:VEVENT
DTSTART;TZID=UTC:20240622T143000
DTEND;TZID=UTC:20240622T180000
DTSTAMP:20260425T163810
CREATED:20240615T082539Z
LAST-MODIFIED:20240615T083252Z
UID:3620-1719066600-1719079200@mare-aux-canards-bouille-menard.43210.fr
SUMMARY:Kermesse école privée Notre Dame Des Ardoisières de Bel-Air
DESCRIPTION:Désolé. Vous n'êtes pas habilité à consulter ce contenu.
URL:https://mare-aux-canards-bouille-menard.43210.fr/evenement/2024-06-22-kermesse-ecole-privee-bel-air/
LOCATION:Maison commune de Loisirs Bel-Air\, Rue du Val Fleuri\, Bel-Air - Combrée - Ombrée d'Anjou\, France
END:VEVENT
BEGIN:VEVENT
DTSTART;TZID=UTC:20240622T230000
DTEND;TZID=UTC:20240622T230500
DTSTAMP:20260425T163810
CREATED:20240608T171347Z
LAST-MODIFIED:20250621T140214Z
UID:3516-1719097200-1719097500@mare-aux-canards-bouille-menard.43210.fr
SUMMARY:Feux de la Saint-Jean
DESCRIPTION:Désolé. Vous n'êtes pas habilité à consulter ce contenu.
URL:https://mare-aux-canards-bouille-menard.43210.fr/evenement/2024-06-22-feux-de-la-saint-jean/
LOCATION:Plan d’eau Combrée\, rue de la Verzée - Combrée\, Ombrée d'Anjou
END:VEVENT
BEGIN:VEVENT
DTSTART;TZID=UTC:20240623T113000
DTEND;TZID=UTC:20240623T180000
DTSTAMP:20260425T163810
CREATED:20240614T165107Z
LAST-MODIFIED:20240614T165153Z
UID:3568-1719142200-1719165600@mare-aux-canards-bouille-menard.43210.fr
SUMMARY:Théâtre de Guignol et ses amis
DESCRIPTION:Désolé. Vous n'êtes pas habilité à consulter ce contenu.
URL:https://mare-aux-canards-bouille-menard.43210.fr/evenement/2024-06-23-theatre-de-guignol-et-ses-amis/
LOCATION:Esplanade Antoine Glémain\, Segré-en-Anjou Bleu\, 49500\, France
END:VEVENT
END:VCALENDAR