BEGIN:VCALENDAR
VERSION:2.0
PRODID:-//LA MARE AUX CANARDS A BOUILLE-MENARD - ECPv6.15.20//NONSGML v1.0//EN
CALSCALE:GREGORIAN
METHOD:PUBLISH
X-WR-CALNAME:LA MARE AUX CANARDS A BOUILLE-MENARD
X-ORIGINAL-URL:https://mare-aux-canards-bouille-menard.43210.fr
X-WR-CALDESC:Évènements pour LA MARE AUX CANARDS A BOUILLE-MENARD
REFRESH-INTERVAL;VALUE=DURATION:PT1H
X-Robots-Tag:noindex
X-PUBLISHED-TTL:PT1H
BEGIN:VTIMEZONE
TZID:UTC
BEGIN:STANDARD
TZOFFSETFROM:+0000
TZOFFSETTO:+0000
TZNAME:UTC
DTSTART:20230101T000000
END:STANDARD
END:VTIMEZONE
BEGIN:VEVENT
DTSTART;TZID=UTC:20240329T140000
DTEND;TZID=UTC:20241130T160000
DTSTAMP:20260425T195633
CREATED:20240415T173615Z
LAST-MODIFIED:20240415T191834Z
UID:3325-1711720800-1732982400@mare-aux-canards-bouille-menard.43210.fr
SUMMARY:Château de Vipère au poing
DESCRIPTION:Désolé. Vous n'êtes pas habilité à consulter ce contenu.
URL:https://mare-aux-canards-bouille-menard.43210.fr/evenement/2024-chateau-de-vipere-au-poing/
LOCATION:Château du Patys\, 748 route du Patys MARANS\, Segré-en-Anjou Bleu\, 49500\, France
CATEGORIES:Longues durées
END:VEVENT
BEGIN:VEVENT
DTSTART;VALUE=DATE:20240402
DTEND;VALUE=DATE:20240403
DTSTAMP:20260425T195633
CREATED:20240525T103925Z
LAST-MODIFIED:20250128T205300Z
UID:3438-1712016000-1712102399@mare-aux-canards-bouille-menard.43210.fr
SUMMARY:Recensement citoyen dès l'âge de 16 ans  - 1er trim. 2025
DESCRIPTION:Désolé. Vous n'êtes pas habilité à consulter ce contenu.
URL:https://mare-aux-canards-bouille-menard.43210.fr/evenement/2025-01-01-recensement-citoyen-des-lage-de-16-ans-1er-trim-2025/
LOCATION:La Mairie Bouillé-Ménard\, Bouillé-Ménard\, France
END:VEVENT
BEGIN:VEVENT
DTSTART;TZID=UTC:20240405T120000
DTEND;TZID=UTC:20240405T190000
DTSTAMP:20260425T195633
CREATED:20240406T122914Z
LAST-MODIFIED:20240407T105509Z
UID:3208-1712318400-1712343600@mare-aux-canards-bouille-menard.43210.fr
SUMMARY:Foire exposition Segré
DESCRIPTION:Désolé. Vous n'êtes pas habilité à consulter ce contenu.
URL:https://mare-aux-canards-bouille-menard.43210.fr/evenement/2024-04-05-foire-exposition-segre/
LOCATION:Parc Exposition Segré\, Segré-en-Anjou-Bleu\, 49500\, France
END:VEVENT
BEGIN:VEVENT
DTSTART;TZID=UTC:20240405T140000
DTEND;TZID=UTC:20240405T170000
DTSTAMP:20260425T195633
CREATED:20240323T093233Z
LAST-MODIFIED:20240323T103118Z
UID:3180-1712325600-1712336400@mare-aux-canards-bouille-menard.43210.fr
SUMMARY:Noyant la gravoyère portes ouvertes EPHAD Sainte-Claire
DESCRIPTION:Désolé. Vous n'êtes pas habilité à consulter ce contenu.
URL:https://mare-aux-canards-bouille-menard.43210.fr/evenement/2024-04-05-noyant-la-gravoyere-portes-ouvertes-ephad-sainte-claire/
LOCATION:EPHAD Sainte-Claire Noyant\, 20 rue Georges Bachelot\, Segré-en-Anjou-Bleu\, 49500\, France
END:VEVENT
BEGIN:VEVENT
DTSTART;TZID=UTC:20240406T090000
DTEND;TZID=UTC:20240406T120000
DTSTAMP:20260425T195633
CREATED:20240323T102735Z
LAST-MODIFIED:20240323T103707Z
UID:3185-1712394000-1712404800@mare-aux-canards-bouille-menard.43210.fr
SUMMARY:Noyant la gravoyère portes ouvertes EPHAD Sainte-Claire
DESCRIPTION:Désolé. Vous n'êtes pas habilité à consulter ce contenu.
URL:https://mare-aux-canards-bouille-menard.43210.fr/evenement/2024-04-06-noyant-la-gravoyere-portes-ouvertes-ephad-sainte-claire/
LOCATION:EPHAD Sainte-Claire Noyant\, 20 rue Georges Bachelot\, Segré-en-Anjou-Bleu\, 49500\, France
END:VEVENT
BEGIN:VEVENT
DTSTART;TZID=UTC:20240406T120000
DTEND;TZID=UTC:20240406T190000
DTSTAMP:20260425T195633
CREATED:20240406T122300Z
LAST-MODIFIED:20240406T140824Z
UID:3203-1712404800-1712430000@mare-aux-canards-bouille-menard.43210.fr
SUMMARY:Foire exposition Segré
DESCRIPTION:Désolé. Vous n'êtes pas habilité à consulter ce contenu.
URL:https://mare-aux-canards-bouille-menard.43210.fr/evenement/2024-04-06-foire-exposition-segre/
LOCATION:Parc Exposition Segré\, Segré-en-Anjou-Bleu\, 49500\, France
END:VEVENT
BEGIN:VEVENT
DTSTART;TZID=UTC:20240406T154500
DTEND;TZID=UTC:20240406T154700
DTSTAMP:20260425T195633
CREATED:20240407T174149Z
LAST-MODIFIED:20240407T174149Z
UID:3273-1712418300-1712418420@mare-aux-canards-bouille-menard.43210.fr
SUMMARY:45ième édition course vélo Nantes-Segré
DESCRIPTION:Désolé. Vous n'êtes pas habilité à consulter ce contenu.
URL:https://mare-aux-canards-bouille-menard.43210.fr/evenement/2024-04-06-nantes-segre/
LOCATION:Bouillé-Ménard\, France
END:VEVENT
BEGIN:VEVENT
DTSTART;TZID=UTC:20240407T093000
DTEND;TZID=UTC:20240407T190000
DTSTAMP:20260425T195633
CREATED:20240407T162034Z
LAST-MODIFIED:20240407T162312Z
UID:3247-1712482200-1712516400@mare-aux-canards-bouille-menard.43210.fr
SUMMARY:36ième fête du cochon
DESCRIPTION:Désolé. Vous n'êtes pas habilité à consulter ce contenu.
URL:https://mare-aux-canards-bouille-menard.43210.fr/evenement/2024-04-07-fete-du-cochon-tremblay/
LOCATION:Le tremblay\, Ombrée d'Anjou\, 49520\, France
END:VEVENT
BEGIN:VEVENT
DTSTART;TZID=UTC:20240407T100000
DTEND;TZID=UTC:20240407T123000
DTSTAMP:20260425T195633
CREATED:20240202T075314Z
LAST-MODIFIED:20240410T201148Z
UID:3041-1712484000-1712493000@mare-aux-canards-bouille-menard.43210.fr
SUMMARY:Grand jeu en famille - Croc les bornes - Annulé
DESCRIPTION:Désolé. Vous n'êtes pas habilité à consulter ce contenu.
URL:https://mare-aux-canards-bouille-menard.43210.fr/evenement/2024-04-07-grand-jeu-en-famille-croc-les-bornes/
LOCATION:stade de Bouillé-Ménard
END:VEVENT
BEGIN:VEVENT
DTSTART;TZID=UTC:20240407T100000
DTEND;TZID=UTC:20240407T190000
DTSTAMP:20260425T195633
CREATED:20240406T123128Z
LAST-MODIFIED:20240407T105348Z
UID:3211-1712484000-1712516400@mare-aux-canards-bouille-menard.43210.fr
SUMMARY:Foire exposition Segré
DESCRIPTION:Désolé. Vous n'êtes pas habilité à consulter ce contenu.
URL:https://mare-aux-canards-bouille-menard.43210.fr/evenement/2024-04-07-foire-exposition-segre/
LOCATION:Parc Exposition Segré\, Segré-en-Anjou-Bleu\, 49500\, France
END:VEVENT
BEGIN:VEVENT
DTSTART;TZID=UTC:20240411T180000
DTEND;TZID=UTC:20240411T235900
DTSTAMP:20260425T195633
CREATED:20231230T084304Z
LAST-MODIFIED:20231230T084304Z
UID:2862-1712858400-1712879940@mare-aux-canards-bouille-menard.43210.fr
SUMMARY:Collecte poubelle noire
DESCRIPTION:Désolé. Vous n'êtes pas habilité à consulter ce contenu.
URL:https://mare-aux-canards-bouille-menard.43210.fr/evenement/2024-04-12-collecte-poubelle-noire/
LOCATION:Bouillé-Ménard\, France
ORGANIZER;CN="Anjou Bleu Communaut%C3%A9":MAILTO:dechets@anjoubleucommunaute.fr
END:VEVENT
BEGIN:VEVENT
DTSTART;TZID=UTC:20240412T203000
DTEND;TZID=UTC:20240412T233000
DTSTAMP:20260425T195633
CREATED:20240410T202004Z
LAST-MODIFIED:20240410T204017Z
UID:3295-1712953800-1712964600@mare-aux-canards-bouille-menard.43210.fr
SUMMARY:Théâtre "L'inauguration de la salle des fêtes"
DESCRIPTION:Désolé. Vous n'êtes pas habilité à consulter ce contenu.
URL:https://mare-aux-canards-bouille-menard.43210.fr/evenement/2024-04-12-theatre-marans/
LOCATION:salle communale de Marans\, 5 bis\, place de l'église Marans\, Segré-en-Anjou-Bleu\, Sélectionner un État :\, 49500\, France
END:VEVENT
BEGIN:VEVENT
DTSTART;TZID=UTC:20240413T100000
DTEND;TZID=UTC:20240413T120000
DTSTAMP:20260425T195633
CREATED:20240407T123447Z
LAST-MODIFIED:20240407T123842Z
UID:3229-1713002400-1713009600@mare-aux-canards-bouille-menard.43210.fr
SUMMARY:Portes ouvertes école privée de Bel-Air
DESCRIPTION:Désolé. Vous n'êtes pas habilité à consulter ce contenu.
URL:https://mare-aux-canards-bouille-menard.43210.fr/evenement/2024-04-13-portes-ouvertes-ecole-privee-de-bel-air/
LOCATION:école privée de Bel-Air\, Place de l'église de la sainte famille\, Ombrée d'Anjou\, 49520\, France
END:VEVENT
BEGIN:VEVENT
DTSTART;TZID=UTC:20240413T193000
DTEND;TZID=UTC:20240413T233000
DTSTAMP:20260425T195633
CREATED:20240120T160610Z
LAST-MODIFIED:20240406T122351Z
UID:2954-1713036600-1713051000@mare-aux-canards-bouille-menard.43210.fr
SUMMARY:Soirée Fouesse
DESCRIPTION:Désolé. Vous n'êtes pas habilité à consulter ce contenu.
URL:https://mare-aux-canards-bouille-menard.43210.fr/evenement/2024-04-13-soiree-fouesse/
LOCATION:Salle de Combrée\, Ombrée d'Anjou\, France
END:VEVENT
BEGIN:VEVENT
DTSTART;TZID=UTC:20240413T203000
DTEND;TZID=UTC:20240413T233000
DTSTAMP:20260425T195633
CREATED:20240410T203204Z
LAST-MODIFIED:20240410T204050Z
UID:3302-1713040200-1713051000@mare-aux-canards-bouille-menard.43210.fr
SUMMARY:Théâtre "L'inauguration de la salle des fêtes"
DESCRIPTION:Désolé. Vous n'êtes pas habilité à consulter ce contenu.
URL:https://mare-aux-canards-bouille-menard.43210.fr/evenement/2024-04-13-theatre-marans/
LOCATION:salle communale de Marans\, 5 bis\, place de l'église Marans\, Segré-en-Anjou-Bleu\, Sélectionner un État :\, 49500\, France
END:VEVENT
BEGIN:VEVENT
DTSTART;TZID=UTC:20240414T080000
DTEND;TZID=UTC:20240414T180000
DTSTAMP:20260425T195633
CREATED:20240323T104146Z
LAST-MODIFIED:20240410T205114Z
UID:3190-1713081600-1713117600@mare-aux-canards-bouille-menard.43210.fr
SUMMARY:Vide-greniers et brocante Le Bourg-d'Iré - 20ième édition
DESCRIPTION:Désolé. Vous n'êtes pas habilité à consulter ce contenu.
URL:https://mare-aux-canards-bouille-menard.43210.fr/evenement/2024-04-14-vide-greniers-et-brocante-le-bourg-dire/
LOCATION:–\, Parc de la Verzée\, Bourg d'Iré\, France
END:VEVENT
BEGIN:VEVENT
DTSTART;TZID=UTC:20240414T083000
DTEND;TZID=UTC:20240414T100000
DTSTAMP:20260425T195633
CREATED:20240407T163231Z
LAST-MODIFIED:20240407T164909Z
UID:3254-1713083400-1713088800@mare-aux-canards-bouille-menard.43210.fr
SUMMARY:2ème édition Randonnée Solidaire Rose et Symbiose
DESCRIPTION:Désolé. Vous n'êtes pas habilité à consulter ce contenu.
URL:https://mare-aux-canards-bouille-menard.43210.fr/evenement/2024-04-14-2eme-edition-randonnee-solidaire/
LOCATION:Zénith Bel-Air\, 19 Rue d'Anjou\, Ombrée d'Anjou\, 49500
ORGANIZER;CN="Association Rose et Symbiose":MAILTO:rosesymbiose49@gmail.com
END:VEVENT
BEGIN:VEVENT
DTSTART;TZID=UTC:20240414T143000
DTEND;TZID=UTC:20240414T180000
DTSTAMP:20260425T195633
CREATED:20240410T203321Z
LAST-MODIFIED:20240410T204100Z
UID:3304-1713105000-1713117600@mare-aux-canards-bouille-menard.43210.fr
SUMMARY:Théâtre "L'inauguration de la salle des fêtes"
DESCRIPTION:Désolé. Vous n'êtes pas habilité à consulter ce contenu.
URL:https://mare-aux-canards-bouille-menard.43210.fr/evenement/2024-04-14-theatre-marans/
LOCATION:salle communale de Marans\, 5 bis\, place de l'église Marans\, Segré-en-Anjou-Bleu\, Sélectionner un État :\, 49500\, France
END:VEVENT
BEGIN:VEVENT
DTSTART;TZID=UTC:20240416T080000
DTEND;TZID=UTC:20240518T170000
DTSTAMP:20260425T195633
CREATED:20240415T192328Z
LAST-MODIFIED:20240415T192817Z
UID:3335-1713254400-1716051600@mare-aux-canards-bouille-menard.43210.fr
SUMMARY:Exposition Milieu Ardoisier
DESCRIPTION:Désolé. Vous n'êtes pas habilité à consulter ce contenu.
URL:https://mare-aux-canards-bouille-menard.43210.fr/evenement/2024-05-exposition-milieu-ardoisier/
LOCATION:Médiathèque de Renazé\, Rue du Fresne\, Renazé\, 53800\, France
END:VEVENT
BEGIN:VEVENT
DTSTART;TZID=UTC:20240416T200000
DTEND;TZID=UTC:20240416T200000
DTSTAMP:20260425T195633
CREATED:20240429T072213Z
LAST-MODIFIED:20240429T072333Z
UID:3378-1713297600-1713297600@mare-aux-canards-bouille-menard.43210.fr
SUMMARY:Le comité des fêtes de Bouillé-Ménard s'est réuni
DESCRIPTION:Désolé. Vous n'êtes pas habilité à consulter ce contenu.
URL:https://mare-aux-canards-bouille-menard.43210.fr/evenement/2024-04-16-cfbm/
LOCATION:Bouillé-Ménard\, France
END:VEVENT
BEGIN:VEVENT
DTSTART;TZID=UTC:20240419T093000
DTEND;TZID=UTC:20240419T120000
DTSTAMP:20260425T195633
CREATED:20240323T091435Z
LAST-MODIFIED:20240323T091619Z
UID:3173-1713519000-1713528000@mare-aux-canards-bouille-menard.43210.fr
SUMMARY:Ecoles publiques - carnaval - Bourg-l'évêque
DESCRIPTION:Désolé. Vous n'êtes pas habilité à consulter ce contenu.
URL:https://mare-aux-canards-bouille-menard.43210.fr/evenement/2024-04-19-ecoles-publiques-carnaval-bouille-menard/
LOCATION:bourg-l’évêque\, France
END:VEVENT
BEGIN:VEVENT
DTSTART;TZID=UTC:20240419T203000
DTEND;TZID=UTC:20240419T233000
DTSTAMP:20260425T195633
CREATED:20240410T203417Z
LAST-MODIFIED:20240410T204109Z
UID:3306-1713558600-1713569400@mare-aux-canards-bouille-menard.43210.fr
SUMMARY:Théâtre "L'inauguration de la salle des fêtes"
DESCRIPTION:Désolé. Vous n'êtes pas habilité à consulter ce contenu.
URL:https://mare-aux-canards-bouille-menard.43210.fr/evenement/2024-04-19-theatre-marans/
LOCATION:salle communale de Marans\, 5 bis\, place de l'église Marans\, Segré-en-Anjou-Bleu\, Sélectionner un État :\, 49500\, France
END:VEVENT
BEGIN:VEVENT
DTSTART;TZID=UTC:20240420T190000
DTEND;TZID=UTC:20240420T223000
DTSTAMP:20260425T195633
CREATED:20240424T193324Z
LAST-MODIFIED:20240424T193549Z
UID:3349-1713639600-1713652200@mare-aux-canards-bouille-menard.43210.fr
SUMMARY:Apéro-concert
DESCRIPTION:Désolé. Vous n'êtes pas habilité à consulter ce contenu.
URL:https://mare-aux-canards-bouille-menard.43210.fr/evenement/2024-04-20-apero-concert/
LOCATION:salle omnisport Saint-Gemmes\, 19 Rue des Grands Jardins\, Sainte-Gemmes-sur-Loire\, 49130\, France
END:VEVENT
BEGIN:VEVENT
DTSTART;TZID=UTC:20240420T203000
DTEND;TZID=UTC:20240420T233000
DTSTAMP:20260425T195633
CREATED:20240410T203607Z
LAST-MODIFIED:20240410T204119Z
UID:3308-1713645000-1713655800@mare-aux-canards-bouille-menard.43210.fr
SUMMARY:Théâtre "L'inauguration de la salle des fêtes"
DESCRIPTION:Désolé. Vous n'êtes pas habilité à consulter ce contenu.
URL:https://mare-aux-canards-bouille-menard.43210.fr/evenement/2024-04-20-theatre-marans/
LOCATION:salle communale de Marans\, 5 bis\, place de l'église Marans\, Segré-en-Anjou-Bleu\, Sélectionner un État :\, 49500\, France
END:VEVENT
BEGIN:VEVENT
DTSTART;VALUE=DATE:20240422
DTEND;VALUE=DATE:20240504
DTSTAMP:20260425T195633
CREATED:20240407T171459Z
LAST-MODIFIED:20240407T171518Z
UID:3270-1713744000-1714780799@mare-aux-canards-bouille-menard.43210.fr
SUMMARY:Multi-Act Salle de sport Bel-Air / Pouancé
DESCRIPTION:Désolé. Vous n'êtes pas habilité à consulter ce contenu.
URL:https://mare-aux-canards-bouille-menard.43210.fr/evenement/2024-04-22-multi-act-salle-de-sport-bel-air-pouance/
END:VEVENT
BEGIN:VEVENT
DTSTART;VALUE=DATE:20240424
DTEND;VALUE=DATE:20240525
DTSTAMP:20260425T195633
CREATED:20240407T161413Z
LAST-MODIFIED:20240407T161557Z
UID:3242-1713916800-1716595199@mare-aux-canards-bouille-menard.43210.fr
SUMMARY:Concours Photo Rendez-vous sportif
DESCRIPTION:Désolé. Vous n'êtes pas habilité à consulter ce contenu.
URL:https://mare-aux-canards-bouille-menard.43210.fr/evenement/2024-03-24-concours-photo-sportif/
END:VEVENT
BEGIN:VEVENT
DTSTART;TZID=UTC:20240424T143000
DTEND;TZID=UTC:20240424T160000
DTSTAMP:20260425T195633
CREATED:20240410T173140Z
LAST-MODIFIED:20240410T174225Z
UID:3275-1713969000-1713974400@mare-aux-canards-bouille-menard.43210.fr
SUMMARY:Cinéma Balad Images Châtelais : Film KUNG FU PANDA 4
DESCRIPTION:Désolé. Vous n'êtes pas habilité à consulter ce contenu.
URL:https://mare-aux-canards-bouille-menard.43210.fr/evenement/2024-04-24-cinema-balad-images-chatelais-film-panda-4/
LOCATION:Salle des fêtes de Châtelais\, 3 rue Grands Murs\, Châtelais\, 49520\, France
END:VEVENT
BEGIN:VEVENT
DTSTART;TZID=UTC:20240424T203000
DTEND;TZID=UTC:20240424T220000
DTSTAMP:20260425T195633
CREATED:20240410T173304Z
LAST-MODIFIED:20240410T174554Z
UID:3277-1713990600-1713996000@mare-aux-canards-bouille-menard.43210.fr
SUMMARY:Cinéma Balad Images Châtelais : Film la promesse verte
DESCRIPTION:Désolé. Vous n'êtes pas habilité à consulter ce contenu.
URL:https://mare-aux-canards-bouille-menard.43210.fr/evenement/2024-04-24-cinema-balad-images-chatelais-film-la-promesse-verte/
LOCATION:Salle des fêtes de Châtelais\, 3 rue Grands Murs\, Châtelais\, 49520\, France
END:VEVENT
BEGIN:VEVENT
DTSTART;TZID=UTC:20240425T180000
DTEND;TZID=UTC:20240425T235900
DTSTAMP:20260425T195633
CREATED:20231230T084355Z
LAST-MODIFIED:20231230T084355Z
UID:2864-1714068000-1714089540@mare-aux-canards-bouille-menard.43210.fr
SUMMARY:Collecte poubelle noire
DESCRIPTION:Désolé. Vous n'êtes pas habilité à consulter ce contenu.
URL:https://mare-aux-canards-bouille-menard.43210.fr/evenement/2024-04-26-collecte-poubelle-noire/
LOCATION:Bouillé-Ménard\, France
ORGANIZER;CN="Anjou Bleu Communaut%C3%A9":MAILTO:dechets@anjoubleucommunaute.fr
END:VEVENT
BEGIN:VEVENT
DTSTART;TZID=UTC:20240427T150000
DTEND;TZID=UTC:20240428T170000
DTSTAMP:20260425T195633
CREATED:20240424T192521Z
LAST-MODIFIED:20240426T163311Z
UID:3342-1714230000-1714323600@mare-aux-canards-bouille-menard.43210.fr
SUMMARY:Ball-trap
DESCRIPTION:Désolé. Vous n'êtes pas habilité à consulter ce contenu.
URL:https://mare-aux-canards-bouille-menard.43210.fr/evenement/2024-04-27-ball-trap-marans/
LOCATION:Ball-trap de Marans\, La Fresnaye - Marans\, Segré en Anjou Bleu\, 49500\, France
END:VEVENT
END:VCALENDAR