BEGIN:VCALENDAR
VERSION:2.0
PRODID:-//LA MARE AUX CANARDS A BOUILLE-MENARD - ECPv6.15.20//NONSGML v1.0//EN
CALSCALE:GREGORIAN
METHOD:PUBLISH
X-ORIGINAL-URL:https://mare-aux-canards-bouille-menard.43210.fr
X-WR-CALDESC:Évènements pour LA MARE AUX CANARDS A BOUILLE-MENARD
REFRESH-INTERVAL;VALUE=DURATION:PT1H
X-Robots-Tag:noindex
X-PUBLISHED-TTL:PT1H
BEGIN:VTIMEZONE
TZID:UTC
BEGIN:STANDARD
TZOFFSETFROM:+0000
TZOFFSETTO:+0000
TZNAME:UTC
DTSTART:20230101T000000
END:STANDARD
END:VTIMEZONE
BEGIN:VEVENT
DTSTART;VALUE=DATE:20240305
DTEND;VALUE=DATE:20240306
DTSTAMP:20260425T212522
CREATED:20240202T074434Z
LAST-MODIFIED:20240202T074434Z
UID:3032-1709596800-1709683199@mare-aux-canards-bouille-menard.43210.fr
SUMMARY:Repas du Club Bon accueil
DESCRIPTION:Désolé. Vous n'êtes pas habilité à consulter ce contenu.
URL:https://mare-aux-canards-bouille-menard.43210.fr/evenement/2024-03-05-repas-du-club-bon-accueil/
LOCATION:salle communale Bouillé-Ménard\, 1\, rue de Renazé\, Bouillé-Ménard\, 49520\, France
END:VEVENT
BEGIN:VEVENT
DTSTART;TZID=UTC:20240307T143000
DTEND;TZID=UTC:20240307T160000
DTSTAMP:20260425T212522
CREATED:20240303T082724Z
LAST-MODIFIED:20240303T084431Z
UID:3128-1709821800-1709827200@mare-aux-canards-bouille-menard.43210.fr
SUMMARY:Cinéma Balad Images Châtelais : Film Léo
DESCRIPTION:Désolé. Vous n'êtes pas habilité à consulter ce contenu.
URL:https://mare-aux-canards-bouille-menard.43210.fr/evenement/2024-03-07-film-leo/
LOCATION:Salle des fêtes de Châtelais\, 3 rue Grands Murs\, Châtelais\, 49520\, France
END:VEVENT
BEGIN:VEVENT
DTSTART;TZID=UTC:20240307T203000
DTEND;TZID=UTC:20240307T220000
DTSTAMP:20260425T212522
CREATED:20240303T083718Z
LAST-MODIFIED:20240303T084021Z
UID:3131-1709843400-1709848800@mare-aux-canards-bouille-menard.43210.fr
SUMMARY:Cinéma Balad Images Châtelais : Film Maison de retraite 2
DESCRIPTION:Désolé. Vous n'êtes pas habilité à consulter ce contenu.
URL:https://mare-aux-canards-bouille-menard.43210.fr/evenement/2024-03-07-film-maison-de-retraite-2/
LOCATION:Salle des fêtes de Châtelais\, 3 rue Grands Murs\, Châtelais\, 49520\, France
END:VEVENT
BEGIN:VEVENT
DTSTART;TZID=UTC:20240314T180000
DTEND;TZID=UTC:20240314T235900
DTSTAMP:20260425T212522
CREATED:20231230T084104Z
LAST-MODIFIED:20231230T084104Z
UID:2858-1710439200-1710460740@mare-aux-canards-bouille-menard.43210.fr
SUMMARY:Collecte poubelle noire
DESCRIPTION:Désolé. Vous n'êtes pas habilité à consulter ce contenu.
URL:https://mare-aux-canards-bouille-menard.43210.fr/evenement/2023-03-15-collecte-poubelle-noire/
LOCATION:Bouillé-Ménard\, France
ORGANIZER;CN="Anjou Bleu Communaut%C3%A9":MAILTO:dechets@anjoubleucommunaute.fr
END:VEVENT
BEGIN:VEVENT
DTSTART;VALUE=DATE:20240319
DTEND;VALUE=DATE:20240320
DTSTAMP:20260425T212522
CREATED:20240202T075041Z
LAST-MODIFIED:20240202T075041Z
UID:3038-1710806400-1710892799@mare-aux-canards-bouille-menard.43210.fr
SUMMARY:Commémoration  fin de la guerre d'Algérie
DESCRIPTION:Désolé. Vous n'êtes pas habilité à consulter ce contenu.
URL:https://mare-aux-canards-bouille-menard.43210.fr/evenement/2024-03-19-fin-guerre-algerie/
END:VEVENT
BEGIN:VEVENT
DTSTART;TZID=UTC:20240322T200000
DTEND;TZID=UTC:20240322T233000
DTSTAMP:20260425T212522
CREATED:20240323T185706Z
LAST-MODIFIED:20240323T185939Z
UID:3198-1711137600-1711150200@mare-aux-canards-bouille-menard.43210.fr
SUMMARY:[Comité des fêtes] AG : Vide-greniers et Foire aux rillauds programmés à Bouillé-Ménard
DESCRIPTION:Désolé. Vous n'êtes pas habilité à consulter ce contenu.
URL:https://mare-aux-canards-bouille-menard.43210.fr/evenement/2024-03-22-ag-comite-fetes-bm/
END:VEVENT
BEGIN:VEVENT
DTSTART;TZID=UTC:20240322T201500
DTEND;TZID=UTC:20240322T235900
DTSTAMP:20260425T212522
CREATED:20240323T090059Z
LAST-MODIFIED:20240323T091956Z
UID:3167-1711138500-1711151940@mare-aux-canards-bouille-menard.43210.fr
SUMMARY:La gabelle et le faux saunage\, par René Vasière\, historien local
DESCRIPTION:Désolé. Vous n'êtes pas habilité à consulter ce contenu.
URL:https://mare-aux-canards-bouille-menard.43210.fr/evenement/2024-03-22-la-gabelle-et-le-faux-saunage/
LOCATION:Mairie\, salle du Conseil\, Combrée\, 5\, rue de l’Hôtel-de-Ville\, Ombrée-d'Anjou\, 49420\, France
END:VEVENT
BEGIN:VEVENT
DTSTART;VALUE=DATE:20240323
DTEND;VALUE=DATE:20240324
DTSTAMP:20260425T212522
CREATED:20240407T125208Z
LAST-MODIFIED:20260118T153648Z
UID:3236-1711152000-1711238399@mare-aux-canards-bouille-menard.43210.fr
SUMMARY:[FNACA] Célébration commémorative - Pierre Colas\, Claude Chrétien et Claude Lambert\, anciens combattants médaillés
DESCRIPTION:Désolé. Vous n'êtes pas habilité à consulter ce contenu.
URL:https://mare-aux-canards-bouille-menard.43210.fr/evenement/2024-03-23-combattants-medailles/
END:VEVENT
BEGIN:VEVENT
DTSTART;TZID=UTC:20240323T090000
DTEND;TZID=UTC:20240323T130000
DTSTAMP:20260425T212522
CREATED:20240224T100724Z
LAST-MODIFIED:20240224T101052Z
UID:3074-1711184400-1711198800@mare-aux-canards-bouille-menard.43210.fr
SUMMARY:Portes ouvertes au lycée CFPPA Le Fresne Segré
DESCRIPTION:Désolé. Vous n'êtes pas habilité à consulter ce contenu.
URL:https://mare-aux-canards-bouille-menard.43210.fr/evenement/2024-03-23-po-cfppa-le-fresne-segre/
LOCATION:Lycée Le Fresne Segré\, 2\, Boulevard Léon Mauduit\, Segré en Anjou Bleu\, 49500\, France
END:VEVENT
BEGIN:VEVENT
DTSTART;TZID=UTC:20240328T180000
DTEND;TZID=UTC:20240328T235900
DTSTAMP:20260425T212522
CREATED:20231230T084214Z
LAST-MODIFIED:20231230T084214Z
UID:2860-1711648800-1711670340@mare-aux-canards-bouille-menard.43210.fr
SUMMARY:Collecte poubelle noire
DESCRIPTION:Désolé. Vous n'êtes pas habilité à consulter ce contenu.
URL:https://mare-aux-canards-bouille-menard.43210.fr/evenement/2024-03-29-collecte-poubelle-noire/
LOCATION:Bouillé-Ménard\, France
ORGANIZER;CN="Anjou Bleu Communaut%C3%A9":MAILTO:dechets@anjoubleucommunaute.fr
END:VEVENT
BEGIN:VEVENT
DTSTART;TZID=UTC:20240328T200000
DTEND;TZID=UTC:20240328T230000
DTSTAMP:20260425T212522
CREATED:20240525T101235Z
LAST-MODIFIED:20240525T101401Z
UID:3423-1711656000-1711666800@mare-aux-canards-bouille-menard.43210.fr
SUMMARY:Procès-verbal - conseil municipal
DESCRIPTION:Désolé. Vous n'êtes pas habilité à consulter ce contenu.
URL:https://mare-aux-canards-bouille-menard.43210.fr/evenement/2024-03-28-proces-verbal-conseil-municipal/
LOCATION:La Mairie Bouillé-Ménard\, Bouillé-Ménard\, France
END:VEVENT
BEGIN:VEVENT
DTSTART;TZID=UTC:20240329T140000
DTEND;TZID=UTC:20241130T160000
DTSTAMP:20260425T212522
CREATED:20240415T173615Z
LAST-MODIFIED:20240415T191834Z
UID:3325-1711720800-1732982400@mare-aux-canards-bouille-menard.43210.fr
SUMMARY:Château de Vipère au poing
DESCRIPTION:Désolé. Vous n'êtes pas habilité à consulter ce contenu.
URL:https://mare-aux-canards-bouille-menard.43210.fr/evenement/2024-chateau-de-vipere-au-poing/
LOCATION:Château du Patys\, 748 route du Patys MARANS\, Segré-en-Anjou Bleu\, 49500\, France
CATEGORIES:Longues durées
END:VEVENT
END:VCALENDAR