BEGIN:VCALENDAR
VERSION:2.0
PRODID:-//LA MARE AUX CANARDS A BOUILLE-MENARD - ECPv6.15.20//NONSGML v1.0//EN
CALSCALE:GREGORIAN
METHOD:PUBLISH
X-ORIGINAL-URL:https://mare-aux-canards-bouille-menard.43210.fr
X-WR-CALDESC:Évènements pour LA MARE AUX CANARDS A BOUILLE-MENARD
REFRESH-INTERVAL;VALUE=DURATION:PT1H
X-Robots-Tag:noindex
X-PUBLISHED-TTL:PT1H
BEGIN:VTIMEZONE
TZID:UTC
BEGIN:STANDARD
TZOFFSETFROM:+0000
TZOFFSETTO:+0000
TZNAME:UTC
DTSTART:20230101T000000
END:STANDARD
END:VTIMEZONE
BEGIN:VEVENT
DTSTART;TZID=UTC:20240201T180000
DTEND;TZID=UTC:20240201T235900
DTSTAMP:20260425T231133
CREATED:20231230T083742Z
LAST-MODIFIED:20231230T083742Z
UID:2852-1706810400-1706831940@mare-aux-canards-bouille-menard.43210.fr
SUMMARY:Collecte poubelle noire
DESCRIPTION:Désolé. Vous n'êtes pas habilité à consulter ce contenu.
URL:https://mare-aux-canards-bouille-menard.43210.fr/evenement/2024-02-02-collecte-poubelle-noire/
LOCATION:Bouillé-Ménard\, France
ORGANIZER;CN="Anjou Bleu Communaut%C3%A9":MAILTO:dechets@anjoubleucommunaute.fr
END:VEVENT
BEGIN:VEVENT
DTSTART;TZID=UTC:20240202T203000
DTEND;TZID=UTC:20240202T235900
DTSTAMP:20260425T231133
CREATED:20231210T172750Z
LAST-MODIFIED:20231230T165935Z
UID:2738-1706905800-1706918340@mare-aux-canards-bouille-menard.43210.fr
SUMMARY:Théâtre : A qui perd\, dur !
DESCRIPTION:Désolé. Vous n'êtes pas habilité à consulter ce contenu.
URL:https://mare-aux-canards-bouille-menard.43210.fr/evenement/2024-02-02-theatre-a-qui-perd-dur/
LOCATION:salle communale Bouillé-Ménard\, 1\, rue de Renazé\, Bouillé-Ménard\, 49520\, France
END:VEVENT
BEGIN:VEVENT
DTSTART;TZID=UTC:20240203T203000
DTEND;TZID=UTC:20240203T235900
DTSTAMP:20260425T231133
CREATED:20231210T172839Z
LAST-MODIFIED:20231230T165959Z
UID:2740-1706992200-1707004740@mare-aux-canards-bouille-menard.43210.fr
SUMMARY:Théâtre : A qui perd\, dur !
DESCRIPTION:Désolé. Vous n'êtes pas habilité à consulter ce contenu.
URL:https://mare-aux-canards-bouille-menard.43210.fr/evenement/2024-02-03-theatre-a-qui-perd-dur/
LOCATION:salle communale Bouillé-Ménard\, 1\, rue de Renazé\, Bouillé-Ménard\, 49520\, France
END:VEVENT
BEGIN:VEVENT
DTSTART;TZID=UTC:20240204T143000
DTEND;TZID=UTC:20240204T180000
DTSTAMP:20260425T231133
CREATED:20231210T172854Z
LAST-MODIFIED:20231230T170043Z
UID:2742-1707057000-1707069600@mare-aux-canards-bouille-menard.43210.fr
SUMMARY:Théâtre : A qui perd\, dur !
DESCRIPTION:Désolé. Vous n'êtes pas habilité à consulter ce contenu.
URL:https://mare-aux-canards-bouille-menard.43210.fr/evenement/2024-02-04-theatre-a-qui-perd-dur/
LOCATION:salle communale Bouillé-Ménard\, 1\, rue de Renazé\, Bouillé-Ménard\, 49520\, France
END:VEVENT
BEGIN:VEVENT
DTSTART;VALUE=DATE:20240206
DTEND;VALUE=DATE:20240207
DTSTAMP:20260425T231133
CREATED:20240120T153324Z
LAST-MODIFIED:20240224T103239Z
UID:2939-1707177600-1707263999@mare-aux-canards-bouille-menard.43210.fr
SUMMARY:AG Comité des Fête BM
DESCRIPTION:Désolé. Vous n'êtes pas habilité à consulter ce contenu.
URL:https://mare-aux-canards-bouille-menard.43210.fr/evenement/2024-02-06-ag-comite-des-fete-bm/
LOCATION:salle communale Bouillé-Ménard\, 1\, rue de Renazé\, Bouillé-Ménard\, 49520\, France
END:VEVENT
BEGIN:VEVENT
DTSTART;TZID=UTC:20240206T143000
DTEND;TZID=UTC:20240206T153000
DTSTAMP:20260425T231133
CREATED:20240127T120433Z
LAST-MODIFIED:20240127T120514Z
UID:3005-1707229800-1707233400@mare-aux-canards-bouille-menard.43210.fr
SUMMARY:Cinéma Balad Images Châtelais : Film 5 hectares
DESCRIPTION:Désolé. Vous n'êtes pas habilité à consulter ce contenu.
URL:https://mare-aux-canards-bouille-menard.43210.fr/evenement/2024-02-06-film-5-hectares/
LOCATION:Salle des fêtes de Châtelais\, 3 rue Grands Murs\, Châtelais\, 49520\, France
END:VEVENT
BEGIN:VEVENT
DTSTART;TZID=UTC:20240206T203000
DTEND;TZID=UTC:20240206T220000
DTSTAMP:20260425T231133
CREATED:20240127T120636Z
LAST-MODIFIED:20240127T120636Z
UID:3008-1707251400-1707256800@mare-aux-canards-bouille-menard.43210.fr
SUMMARY:Cinéma Balad Images Châtelais : Film 5 hectares
DESCRIPTION:Désolé. Vous n'êtes pas habilité à consulter ce contenu.
URL:https://mare-aux-canards-bouille-menard.43210.fr/evenement/2024-02-06-film-5-hectares-2/
LOCATION:Salle des fêtes de Châtelais\, 3 rue Grands Murs\, Châtelais\, 49520\, France
END:VEVENT
BEGIN:VEVENT
DTSTART;TZID=UTC:20240207T143000
DTEND;TZID=UTC:20240207T160000
DTSTAMP:20260425T231133
CREATED:20240127T121134Z
LAST-MODIFIED:20240127T121240Z
UID:3010-1707316200-1707321600@mare-aux-canards-bouille-menard.43210.fr
SUMMARY:Cinéma Balad Images Châtelais : Film Le garçon et le héron
DESCRIPTION:Désolé. Vous n'êtes pas habilité à consulter ce contenu.
URL:https://mare-aux-canards-bouille-menard.43210.fr/evenement/2024-02-07-film-garcon-heron/
LOCATION:Salle des fêtes de Châtelais\, 3 rue Grands Murs\, Châtelais\, 49520\, France
END:VEVENT
BEGIN:VEVENT
DTSTART;TZID=UTC:20240209T203000
DTEND;TZID=UTC:20240209T235900
DTSTAMP:20260425T231133
CREATED:20231210T172933Z
LAST-MODIFIED:20231230T170142Z
UID:2744-1707510600-1707523140@mare-aux-canards-bouille-menard.43210.fr
SUMMARY:Théâtre : A qui perd\, dur !
DESCRIPTION:Désolé. Vous n'êtes pas habilité à consulter ce contenu.
URL:https://mare-aux-canards-bouille-menard.43210.fr/evenement/2024-02-09-theatre-a-qui-perd-dur/
LOCATION:salle communale Bouillé-Ménard\, 1\, rue de Renazé\, Bouillé-Ménard\, 49520\, France
END:VEVENT
BEGIN:VEVENT
DTSTART;TZID=UTC:20240210T203000
DTEND;TZID=UTC:20240210T235900
DTSTAMP:20260425T231133
CREATED:20231210T172950Z
LAST-MODIFIED:20231230T170215Z
UID:2746-1707597000-1707609540@mare-aux-canards-bouille-menard.43210.fr
SUMMARY:Théâtre : A qui perd\, dur !
DESCRIPTION:Désolé. Vous n'êtes pas habilité à consulter ce contenu.
URL:https://mare-aux-canards-bouille-menard.43210.fr/evenement/2024-02-10-theatre-a-qui-perd-dur/
LOCATION:salle communale Bouillé-Ménard\, 1\, rue de Renazé\, Bouillé-Ménard\, 49520\, France
END:VEVENT
BEGIN:VEVENT
DTSTART;TZID=UTC:20240215T180000
DTEND;TZID=UTC:20240215T235900
DTSTAMP:20260425T231133
CREATED:20231230T083859Z
LAST-MODIFIED:20231230T083859Z
UID:2854-1708020000-1708041540@mare-aux-canards-bouille-menard.43210.fr
SUMMARY:Collecte poubelle noire
DESCRIPTION:Désolé. Vous n'êtes pas habilité à consulter ce contenu.
URL:https://mare-aux-canards-bouille-menard.43210.fr/evenement/2023-02-16-collecte-poubelle-noire/
LOCATION:Bouillé-Ménard\, France
ORGANIZER;CN="Anjou Bleu Communaut%C3%A9":MAILTO:dechets@anjoubleucommunaute.fr
END:VEVENT
BEGIN:VEVENT
DTSTART;VALUE=DATE:20240216
DTEND;VALUE=DATE:20240217
DTSTAMP:20260425T231133
CREATED:20240202T073738Z
LAST-MODIFIED:20240202T073815Z
UID:3026-1708041600-1708127999@mare-aux-canards-bouille-menard.43210.fr
SUMMARY:Film
DESCRIPTION:Désolé. Vous n'êtes pas habilité à consulter ce contenu.
URL:https://mare-aux-canards-bouille-menard.43210.fr/evenement/2024-02-16-film/
LOCATION:salle communale Bouillé-Ménard\, 1\, rue de Renazé\, Bouillé-Ménard\, 49520\, France
END:VEVENT
BEGIN:VEVENT
DTSTART;VALUE=DATE:20240218
DTEND;VALUE=DATE:20240219
DTSTAMP:20260425T231133
CREATED:20240226T185859Z
LAST-MODIFIED:20240226T185916Z
UID:3120-1708214400-1708300799@mare-aux-canards-bouille-menard.43210.fr
SUMMARY:Lucien Crossoir\, 84 ans\, horloger rhabilleur
DESCRIPTION:Désolé. Vous n'êtes pas habilité à consulter ce contenu.
URL:https://mare-aux-canards-bouille-menard.43210.fr/evenement/2024-02-18-lucien-crossoir/
END:VEVENT
BEGIN:VEVENT
DTSTART;TZID=UTC:20240223T203000
DTEND;TZID=UTC:20240223T210000
DTSTAMP:20260425T231133
CREATED:20240202T074037Z
LAST-MODIFIED:20240303T095730Z
UID:3028-1708720200-1708722000@mare-aux-canards-bouille-menard.43210.fr
SUMMARY:[Familles rurales] Assemblée générale
DESCRIPTION:Désolé. Vous n'êtes pas habilité à consulter ce contenu.
URL:https://mare-aux-canards-bouille-menard.43210.fr/evenement/2024-02-23-ag-familles-rurales/
LOCATION:salle communale Bouillé-Ménard\, 1\, rue de Renazé\, Bouillé-Ménard\, 49520\, France
END:VEVENT
BEGIN:VEVENT
DTSTART;TZID=UTC:20240223T210000
DTEND;TZID=UTC:20240223T235900
DTSTAMP:20260425T231133
CREATED:20240120T160109Z
LAST-MODIFIED:20240224T093219Z
UID:2951-1708722000-1708732740@mare-aux-canards-bouille-menard.43210.fr
SUMMARY:[Familles rurales]  Soirée Jeux de société
DESCRIPTION:Désolé. Vous n'êtes pas habilité à consulter ce contenu.
URL:https://mare-aux-canards-bouille-menard.43210.fr/evenement/2024-02-23-soiree-familles-rurales/
LOCATION:salle communale Bouillé-Ménard\, 1\, rue de Renazé\, Bouillé-Ménard\, 49520\, France
END:VEVENT
BEGIN:VEVENT
DTSTART;TZID=UTC:20240229T180000
DTEND;TZID=UTC:20240229T235900
DTSTAMP:20260425T231133
CREATED:20231230T084021Z
LAST-MODIFIED:20231230T084021Z
UID:2856-1709229600-1709251140@mare-aux-canards-bouille-menard.43210.fr
SUMMARY:Collecte poubelle noire
DESCRIPTION:Désolé. Vous n'êtes pas habilité à consulter ce contenu.
URL:https://mare-aux-canards-bouille-menard.43210.fr/evenement/2024-03-01-collecte-poubelle-noire/
LOCATION:Bouillé-Ménard\, France
ORGANIZER;CN="Anjou Bleu Communaut%C3%A9":MAILTO:dechets@anjoubleucommunaute.fr
END:VEVENT
END:VCALENDAR