BEGIN:VCALENDAR
VERSION:2.0
PRODID:-//LA MARE AUX CANARDS A BOUILLE-MENARD - ECPv6.15.20//NONSGML v1.0//EN
CALSCALE:GREGORIAN
METHOD:PUBLISH
X-ORIGINAL-URL:https://mare-aux-canards-bouille-menard.43210.fr
X-WR-CALDESC:Évènements pour LA MARE AUX CANARDS A BOUILLE-MENARD
REFRESH-INTERVAL;VALUE=DURATION:PT1H
X-Robots-Tag:noindex
X-PUBLISHED-TTL:PT1H
BEGIN:VTIMEZONE
TZID:UTC
BEGIN:STANDARD
TZOFFSETFROM:+0000
TZOFFSETTO:+0000
TZNAME:UTC
DTSTART:20220101T000000
END:STANDARD
END:VTIMEZONE
BEGIN:VEVENT
DTSTART;VALUE=DATE:20231202
DTEND;VALUE=DATE:20231211
DTSTAMP:20260426T024926
CREATED:20231118T150315Z
LAST-MODIFIED:20231118T151616Z
UID:2333-1701475200-1702252799@mare-aux-canards-bouille-menard.43210.fr
SUMMARY:Festival des 37 – 4ème édition
DESCRIPTION:Désolé. Vous n'êtes pas habilité à consulter ce contenu.
URL:https://mare-aux-canards-bouille-menard.43210.fr/evenement/2023-12-02-festival-des-37-4eme-edition/
END:VEVENT
BEGIN:VEVENT
DTSTART;TZID=UTC:20231202T080000
DTEND;TZID=UTC:20231202T170000
DTSTAMP:20260426T024926
CREATED:20230211T141951Z
LAST-MODIFIED:20230816T201340Z
UID:486-1701504000-1701536400@mare-aux-canards-bouille-menard.43210.fr
SUMMARY:Marché de Noël des écoles publiques
DESCRIPTION:Désolé. Vous n'êtes pas habilité à consulter ce contenu.
URL:https://mare-aux-canards-bouille-menard.43210.fr/evenement/2023-12-02-marche-de-noel-des-ecoles-publiques/
LOCATION:salle communale Bouillé-Ménard\, 1\, rue de Renazé\, Bouillé-Ménard\, 49520\, France
END:VEVENT
BEGIN:VEVENT
DTSTART;TZID=UTC:20231203T100000
DTEND;TZID=UTC:20231203T163000
DTSTAMP:20260426T024926
CREATED:20231118T152057Z
LAST-MODIFIED:20231118T153456Z
UID:2343-1701597600-1701621000@mare-aux-canards-bouille-menard.43210.fr
SUMMARY:Marché de Noël à Châtelais
DESCRIPTION:Désolé. Vous n'êtes pas habilité à consulter ce contenu.
URL:https://mare-aux-canards-bouille-menard.43210.fr/evenement/2023-12-03-marche-noel-chatelais/
LOCATION:Châtelais
END:VEVENT
BEGIN:VEVENT
DTSTART;TZID=UTC:20231204T180000
DTEND;TZID=UTC:20231204T180000
DTSTAMP:20260426T024926
CREATED:20231111T103029Z
LAST-MODIFIED:20231111T103300Z
UID:2231-1701712800-1701712800@mare-aux-canards-bouille-menard.43210.fr
SUMMARY:Collecte poubelle noire
DESCRIPTION:Désolé. Vous n'êtes pas habilité à consulter ce contenu.
URL:https://mare-aux-canards-bouille-menard.43210.fr/evenement/2023-12-04-collecte-poubelle-noire/
LOCATION:Bouillé-Ménard\, France
ORGANIZER;CN="Anjou Bleu Communaut%C3%A9":MAILTO:dechets@anjoubleucommunaute.fr
END:VEVENT
BEGIN:VEVENT
DTSTART;VALUE=DATE:20231209
DTEND;VALUE=DATE:20231210
DTSTAMP:20260426T024926
CREATED:20231209T170150Z
LAST-MODIFIED:20231209T170903Z
UID:2684-1702080000-1702166399@mare-aux-canards-bouille-menard.43210.fr
SUMMARY:[Bouillé-Ménard à travers les âges] La Chapelle aux Pies
DESCRIPTION:Désolé. Vous n'êtes pas habilité à consulter ce contenu.
URL:https://mare-aux-canards-bouille-menard.43210.fr/evenement/a-travers-les-ages-chapelle-aux-pies/
LOCATION:Bouillé-Ménard\, France
ORGANIZER;CN="MARadmin":MAILTO:admin@mare-aux-canards-bouille-menard.43210.fr
END:VEVENT
BEGIN:VEVENT
DTSTART;VALUE=DATE:20231209
DTEND;VALUE=DATE:20231210
DTSTAMP:20260426T024926
CREATED:20231209T170542Z
LAST-MODIFIED:20231209T170831Z
UID:2687-1702080000-1702166399@mare-aux-canards-bouille-menard.43210.fr
SUMMARY:[Bouillé-Ménard à travers les âges] La Renazaie
DESCRIPTION:Désolé. Vous n'êtes pas habilité à consulter ce contenu.
URL:https://mare-aux-canards-bouille-menard.43210.fr/evenement/a-travers-les-ages-renazaie/
LOCATION:Bouillé-Ménard\, France
ORGANIZER;CN="MARadmin":MAILTO:admin@mare-aux-canards-bouille-menard.43210.fr
END:VEVENT
BEGIN:VEVENT
DTSTART;VALUE=DATE:20231209
DTEND;VALUE=DATE:20231210
DTSTAMP:20260426T024926
CREATED:20231209T163624Z
LAST-MODIFIED:20231209T210724Z
UID:2665-1702080000-1702166399@mare-aux-canards-bouille-menard.43210.fr
SUMMARY:[Bouillé-Ménard à travers les âges] Faubourg Saint-Mathieu
DESCRIPTION:Désolé. Vous n'êtes pas habilité à consulter ce contenu.
URL:https://mare-aux-canards-bouille-menard.43210.fr/evenement/a-travers-les-ages-faubourg-saint-mathieu/
LOCATION:Bouillé-Ménard\, France
ORGANIZER;CN="MARadmin":MAILTO:admin@mare-aux-canards-bouille-menard.43210.fr
END:VEVENT
BEGIN:VEVENT
DTSTART;VALUE=DATE:20231209
DTEND;VALUE=DATE:20231210
DTSTAMP:20260426T024926
CREATED:20231209T165846Z
LAST-MODIFIED:20231209T183336Z
UID:2680-1702080000-1702166399@mare-aux-canards-bouille-menard.43210.fr
SUMMARY:[Bouillé-Ménard à travers les âges] Château de l'Orgerie
DESCRIPTION:Désolé. Vous n'êtes pas habilité à consulter ce contenu.
URL:https://mare-aux-canards-bouille-menard.43210.fr/evenement/a-travers-les-ages-chateau-orgerie/
LOCATION:Bouillé-Ménard\, France
ORGANIZER;CN="MARadmin":MAILTO:admin@mare-aux-canards-bouille-menard.43210.fr
END:VEVENT
BEGIN:VEVENT
DTSTART;VALUE=DATE:20231209
DTEND;VALUE=DATE:20231210
DTSTAMP:20260426T024926
CREATED:20231209T171621Z
LAST-MODIFIED:20231209T171930Z
UID:2699-1702080000-1702166399@mare-aux-canards-bouille-menard.43210.fr
SUMMARY:[Bouillé-Ménard à travers les âges] Route de Châtelais
DESCRIPTION:Désolé. Vous n'êtes pas habilité à consulter ce contenu.
URL:https://mare-aux-canards-bouille-menard.43210.fr/evenement/a-travers-les-ages-route-de-chatelais/
LOCATION:Bouillé-Ménard\, France
ORGANIZER;CN="MARadmin":MAILTO:admin@mare-aux-canards-bouille-menard.43210.fr
END:VEVENT
BEGIN:VEVENT
DTSTART;VALUE=DATE:20231209
DTEND;VALUE=DATE:20231210
DTSTAMP:20260426T024926
CREATED:20231209T175302Z
LAST-MODIFIED:20231209T205539Z
UID:2714-1702080000-1702166399@mare-aux-canards-bouille-menard.43210.fr
SUMMARY:[Bouillé-Ménard à travers les âges] Rue de la Mairie
DESCRIPTION:Désolé. Vous n'êtes pas habilité à consulter ce contenu.
URL:https://mare-aux-canards-bouille-menard.43210.fr/evenement/a-travers-les-ages-rue-de-la-mairie/
LOCATION:Bouillé-Ménard\, France
ORGANIZER;CN="MARadmin":MAILTO:admin@mare-aux-canards-bouille-menard.43210.fr
END:VEVENT
BEGIN:VEVENT
DTSTART;TZID=UTC:20231209T080000
DTEND;TZID=UTC:20231209T170000
DTSTAMP:20260426T024926
CREATED:20231209T172516Z
LAST-MODIFIED:20231209T210212Z
UID:2706-1702108800-1702141200@mare-aux-canards-bouille-menard.43210.fr
SUMMARY:[Bouillé-Ménard à travers les âges] Route de Bourg-l'Evêque
DESCRIPTION:Désolé. Vous n'êtes pas habilité à consulter ce contenu.
URL:https://mare-aux-canards-bouille-menard.43210.fr/evenement/a-travers-les-ages-route-de-bourg-leveque/
LOCATION:Bouillé-Ménard\, France
ORGANIZER;CN="MARadmin":MAILTO:admin@mare-aux-canards-bouille-menard.43210.fr
END:VEVENT
BEGIN:VEVENT
DTSTART;TZID=UTC:20231209T100000
DTEND;TZID=UTC:20231209T180000
DTSTAMP:20260426T024926
CREATED:20231208T183949Z
LAST-MODIFIED:20231208T184003Z
UID:2647-1702116000-1702144800@mare-aux-canards-bouille-menard.43210.fr
SUMMARY:Marché de Noël à Bois II
DESCRIPTION:Désolé. Vous n'êtes pas habilité à consulter ce contenu.
URL:https://mare-aux-canards-bouille-menard.43210.fr/evenement/2023-12-09-marche-de-noel-a-bois-ii/
LOCATION:Salle du Bois 2\, 3 rue du Carreau - Nyoiseau\, Segré-en-Anjou-Bleu\, Sélectionner un État :\, 49500\, France
ORGANIZER;CN="Comit%C3%A9 des f%C3%AAtes de Nyoiseau":MAILTO:cdfnyoiseau@yahoo.com
END:VEVENT
BEGIN:VEVENT
DTSTART;TZID=UTC:20231209T140000
DTEND;TZID=UTC:20231209T190000
DTSTAMP:20260426T024926
CREATED:20231208T184620Z
LAST-MODIFIED:20231208T184620Z
UID:2651-1702130400-1702148400@mare-aux-canards-bouille-menard.43210.fr
SUMMARY:Marché de Noël Centrale 7
DESCRIPTION:Désolé. Vous n'êtes pas habilité à consulter ce contenu.
URL:https://mare-aux-canards-bouille-menard.43210.fr/evenement/marche-de-noel-centrale-7/
LOCATION:Carreau du Bois II\, Segré-en-Anjou-Bleu\, Sélectionner un État :\, 49500\, France
ORGANIZER;CN="Centrale 7":MAILTO:contact@centrale7.net
END:VEVENT
BEGIN:VEVENT
DTSTART;VALUE=DATE:20231210
DTEND;VALUE=DATE:20231211
DTSTAMP:20260426T024926
CREATED:20231125T105334Z
LAST-MODIFIED:20231125T111158Z
UID:2572-1702166400-1702252799@mare-aux-canards-bouille-menard.43210.fr
SUMMARY:Marché de noël à la ferme-auberge de la Touche
DESCRIPTION:Désolé. Vous n'êtes pas habilité à consulter ce contenu.
URL:https://mare-aux-canards-bouille-menard.43210.fr/evenement/2023-12-10-marche-noel-ferme-auberge-touche/
LOCATION:Ferme auberge La Touche Le Tremblay\, La Touche - Le Tremblay\, Ombrée d'Anjou\, 49520\, France
END:VEVENT
BEGIN:VEVENT
DTSTART;TZID=UTC:20231212T080000
DTEND;TZID=UTC:20231212T170000
DTSTAMP:20260426T024926
CREATED:20231229T211700Z
LAST-MODIFIED:20231229T211710Z
UID:2811-1702368000-1702400400@mare-aux-canards-bouille-menard.43210.fr
SUMMARY:Audition mélangée
DESCRIPTION:Désolé. Vous n'êtes pas habilité à consulter ce contenu.
URL:https://mare-aux-canards-bouille-menard.43210.fr/evenement/2023-12-12-audition-melangee/
END:VEVENT
BEGIN:VEVENT
DTSTART;TZID=UTC:20231214T093000
DTEND;TZID=UTC:20231214T143000
DTSTAMP:20260426T024926
CREATED:20231209T092410Z
LAST-MODIFIED:20231209T092544Z
UID:2657-1702546200-1702564200@mare-aux-canards-bouille-menard.43210.fr
SUMMARY:Selha Group recrute à Renazé
DESCRIPTION:Désolé. Vous n'êtes pas habilité à consulter ce contenu.
URL:https://mare-aux-canards-bouille-menard.43210.fr/evenement/2023-12-14-selha-group-recrute/
END:VEVENT
BEGIN:VEVENT
DTSTART;TZID=UTC:20231215T140000
DTEND;TZID=UTC:20231215T170000
DTSTAMP:20260426T024926
CREATED:20230904T172515Z
LAST-MODIFIED:20230904T172515Z
UID:2129-1702648800-1702659600@mare-aux-canards-bouille-menard.43210.fr
SUMMARY:Accompagnement individuel sur le numérique
DESCRIPTION:Désolé. Vous n'êtes pas habilité à consulter ce contenu.
URL:https://mare-aux-canards-bouille-menard.43210.fr/evenement/2023-12-15-accompagnement-individuel-sur-le-numerique/
LOCATION:La Mairie Bouillé-Ménard\, Bouillé-Ménard\, France
END:VEVENT
BEGIN:VEVENT
DTSTART;TZID=UTC:20231218T080000
DTEND;TZID=UTC:20231218T170000
DTSTAMP:20260426T024926
CREATED:20231229T212004Z
LAST-MODIFIED:20231229T212244Z
UID:2816-1702886400-1702918800@mare-aux-canards-bouille-menard.43210.fr
SUMMARY:La Jonglomobile révèle ses surprises
DESCRIPTION:Désolé. Vous n'êtes pas habilité à consulter ce contenu.
URL:https://mare-aux-canards-bouille-menard.43210.fr/evenement/2023-12-18-spectacle-rpi/
LOCATION:salle communale Bouillé-Ménard\, 1\, rue de Renazé\, Bouillé-Ménard\, 49520\, France
END:VEVENT
BEGIN:VEVENT
DTSTART;TZID=UTC:20231218T180000
DTEND;TZID=UTC:20231218T180000
DTSTAMP:20260426T024926
CREATED:20231111T103155Z
LAST-MODIFIED:20231230T082948Z
UID:2233-1702922400-1702922400@mare-aux-canards-bouille-menard.43210.fr
SUMMARY:Collecte poubelle noire
DESCRIPTION:Désolé. Vous n'êtes pas habilité à consulter ce contenu.
URL:https://mare-aux-canards-bouille-menard.43210.fr/evenement/2023-12-18-collecte-poubelle-noire/
LOCATION:Bouillé-Ménard\, France
ORGANIZER;CN="Anjou Bleu Communaut%C3%A9":MAILTO:dechets@anjoubleucommunaute.fr
END:VEVENT
BEGIN:VEVENT
DTSTART;VALUE=DATE:20231225
DTEND;VALUE=DATE:20231226
DTSTAMP:20260426T024926
CREATED:20240127T154951Z
LAST-MODIFIED:20240127T155424Z
UID:3015-1703462400-1703548799@mare-aux-canards-bouille-menard.43210.fr
SUMMARY:Remise des prix du Concours de Noël chez Sophie
DESCRIPTION:Désolé. Vous n'êtes pas habilité à consulter ce contenu.
URL:https://mare-aux-canards-bouille-menard.43210.fr/evenement/2024-01-25-remise-prix/
LOCATION:Epi-Service de Bouillé-Ménard
END:VEVENT
BEGIN:VEVENT
DTSTART;TZID=UTC:20231225T080000
DTEND;TZID=UTC:20231225T170000
DTSTAMP:20260426T024926
CREATED:20231216T170753Z
LAST-MODIFIED:20231230T091111Z
UID:2762-1703491200-1703523600@mare-aux-canards-bouille-menard.43210.fr
SUMMARY:Concours de Noël chez Sophie\, l'épicerie de Bouillé-Ménard
DESCRIPTION:Désolé. Vous n'êtes pas habilité à consulter ce contenu.
URL:https://mare-aux-canards-bouille-menard.43210.fr/evenement/2023-12-25-concours-de-noel-chez-sophie-epicerie/
LOCATION:Epi-Service de Bouillé-Ménard
END:VEVENT
BEGIN:VEVENT
DTSTART;TZID=UTC:20231227T140000
DTEND;TZID=UTC:20231227T183000
DTSTAMP:20260426T024926
CREATED:20231229T184218Z
LAST-MODIFIED:20231230T082046Z
UID:2799-1703685600-1703701800@mare-aux-canards-bouille-menard.43210.fr
SUMMARY:RécréaParc
DESCRIPTION:Désolé. Vous n'êtes pas habilité à consulter ce contenu.
URL:https://mare-aux-canards-bouille-menard.43210.fr/evenement/2023-12-27-recreaparc/
LOCATION:Parc Exposition Segré\, Segré-en-Anjou-Bleu\, 49500\, France
END:VEVENT
BEGIN:VEVENT
DTSTART;TZID=UTC:20231228T140000
DTEND;TZID=UTC:20231228T183000
DTSTAMP:20260426T024926
CREATED:20231229T185633Z
LAST-MODIFIED:20231229T185748Z
UID:2805-1703772000-1703788200@mare-aux-canards-bouille-menard.43210.fr
SUMMARY:RécréaParc
DESCRIPTION:Désolé. Vous n'êtes pas habilité à consulter ce contenu.
URL:https://mare-aux-canards-bouille-menard.43210.fr/evenement/2023-12-28-recreaparc/
LOCATION:Parc Exposition Segré\, Segré-en-Anjou-Bleu\, 49500\, France
END:VEVENT
BEGIN:VEVENT
DTSTART;TZID=UTC:20231229T140000
DTEND;TZID=UTC:20231229T183000
DTSTAMP:20260426T024926
CREATED:20231229T185727Z
LAST-MODIFIED:20231229T185727Z
UID:2807-1703858400-1703874600@mare-aux-canards-bouille-menard.43210.fr
SUMMARY:RécréaParc
DESCRIPTION:Désolé. Vous n'êtes pas habilité à consulter ce contenu.
URL:https://mare-aux-canards-bouille-menard.43210.fr/evenement/2023-12-29-recreaparc/
LOCATION:Parc Exposition Segré\, Segré-en-Anjou-Bleu\, 49500\, France
END:VEVENT
BEGIN:VEVENT
DTSTART;TZID=UTC:20231230T140000
DTEND;TZID=UTC:20231230T183000
DTSTAMP:20260426T024926
CREATED:20231229T185928Z
LAST-MODIFIED:20231229T185928Z
UID:2809-1703944800-1703961000@mare-aux-canards-bouille-menard.43210.fr
SUMMARY:RécréaParc
DESCRIPTION:Désolé. Vous n'êtes pas habilité à consulter ce contenu.
URL:https://mare-aux-canards-bouille-menard.43210.fr/evenement/2023-12-30-recreaparc/
LOCATION:Parc Exposition Segré\, Segré-en-Anjou-Bleu\, 49500\, France
END:VEVENT
BEGIN:VEVENT
DTSTART;TZID=UTC:20231230T143000
DTEND;TZID=UTC:20231230T163000
DTSTAMP:20260426T024926
CREATED:20231211T190032Z
LAST-MODIFIED:20231211T190032Z
UID:2754-1703946600-1703953800@mare-aux-canards-bouille-menard.43210.fr
SUMMARY:Cinéma Balad Images Châtelais : Film Wish
DESCRIPTION:Désolé. Vous n'êtes pas habilité à consulter ce contenu.
URL:https://mare-aux-canards-bouille-menard.43210.fr/evenement/2023-12-30-cinema-balad-images-chatelais-film-wish/
LOCATION:Salle des fêtes de Châtelais\, 3 rue Grands Murs\, Châtelais\, 49520\, France
END:VEVENT
BEGIN:VEVENT
DTSTART;TZID=UTC:20231230T203000
DTEND;TZID=UTC:20231230T221500
DTSTAMP:20260426T024926
CREATED:20231211T190153Z
LAST-MODIFIED:20240101T162412Z
UID:2757-1703968200-1703974500@mare-aux-canards-bouille-menard.43210.fr
SUMMARY:Cinéma Balad Images Châtelais : Film Noël Joyeux
DESCRIPTION:Désolé. Vous n'êtes pas habilité à consulter ce contenu.
URL:https://mare-aux-canards-bouille-menard.43210.fr/evenement/2023-12-30-cinema-balad-images-chatelais-film-noel-joyeux/
LOCATION:Salle des fêtes de Châtelais\, 3 rue Grands Murs\, Châtelais\, 49520\, France
END:VEVENT
BEGIN:VEVENT
DTSTART;TZID=UTC:20231231T200000
DTEND;TZID=UTC:20231231T201500
DTSTAMP:20260426T024926
CREATED:20240101T152617Z
LAST-MODIFIED:20240629T073512Z
UID:2900-1704052800-1704053700@mare-aux-canards-bouille-menard.43210.fr
SUMMARY:Vœux du Président de la République aux Français
DESCRIPTION:Désolé. Vous n'êtes pas habilité à consulter ce contenu.
URL:https://mare-aux-canards-bouille-menard.43210.fr/evenement/2023-12-31-voeux-du-president-de-la-republique-aux-francais/
END:VEVENT
END:VCALENDAR