BEGIN:VCALENDAR
VERSION:2.0
PRODID:-//LA MARE AUX CANARDS A BOUILLE-MENARD - ECPv6.15.20//NONSGML v1.0//EN
CALSCALE:GREGORIAN
METHOD:PUBLISH
X-WR-CALNAME:LA MARE AUX CANARDS A BOUILLE-MENARD
X-ORIGINAL-URL:https://mare-aux-canards-bouille-menard.43210.fr
X-WR-CALDESC:Évènements pour LA MARE AUX CANARDS A BOUILLE-MENARD
REFRESH-INTERVAL;VALUE=DURATION:PT1H
X-Robots-Tag:noindex
X-PUBLISHED-TTL:PT1H
BEGIN:VTIMEZONE
TZID:UTC
BEGIN:STANDARD
TZOFFSETFROM:+0000
TZOFFSETTO:+0000
TZNAME:UTC
DTSTART:20220101T000000
END:STANDARD
END:VTIMEZONE
BEGIN:VEVENT
DTSTART;TZID=UTC:20230724T080000
DTEND;TZID=UTC:20230724T170000
DTSTAMP:20260423T084454
CREATED:20230816T110002Z
LAST-MODIFIED:20230816T110659Z
UID:2056-1690185600-1690218000@mare-aux-canards-bouille-menard.43210.fr
SUMMARY:Politique de confidentialité
DESCRIPTION:PDC_2023-07-24
URL:https://mare-aux-canards-bouille-menard.43210.fr/evenement/2023-07-24-politique-de-confidentialite/
CATEGORIES:Politique de confidentialité
END:VEVENT
END:VCALENDAR