BEGIN:VCALENDAR
VERSION:2.0
PRODID:-//LA MARE AUX CANARDS A BOUILLE-MENARD - ECPv6.15.20//NONSGML v1.0//EN
CALSCALE:GREGORIAN
METHOD:PUBLISH
X-WR-CALNAME:LA MARE AUX CANARDS A BOUILLE-MENARD
X-ORIGINAL-URL:https://mare-aux-canards-bouille-menard.43210.fr
X-WR-CALDESC:Évènements pour LA MARE AUX CANARDS A BOUILLE-MENARD
REFRESH-INTERVAL;VALUE=DURATION:PT1H
X-Robots-Tag:noindex
X-PUBLISHED-TTL:PT1H
BEGIN:VTIMEZONE
TZID:UTC
BEGIN:STANDARD
TZOFFSETFROM:+0000
TZOFFSETTO:+0000
TZNAME:UTC
DTSTART:20240101T000000
END:STANDARD
END:VTIMEZONE
BEGIN:VEVENT
DTSTART;VALUE=DATE:20250629
DTEND;VALUE=DATE:20250706
DTSTAMP:20260421T121704
CREATED:20250628T100702Z
LAST-MODIFIED:20250628T102245Z
UID:4731-1751155200-1751759999@mare-aux-canards-bouille-menard.43210.fr
SUMMARY:bulletin paroissial
DESCRIPTION:Désolé. Vous n'êtes pas habilité à consulter ce contenu.
URL:https://mare-aux-canards-bouille-menard.43210.fr/evenement/2025-06-29-bulletin-paroissial/
ORGANIZER;CN="Paroisse Notre Dame du Haut Anjou":MAILTO:internetndha49@hotmail.com
END:VEVENT
BEGIN:VEVENT
DTSTART;TZID=UTC:20250703T180000
DTEND;TZID=UTC:20250703T235900
DTSTAMP:20260421T121704
CREATED:20250826T042833Z
LAST-MODIFIED:20250826T042933Z
UID:4765-1751565600-1751587140@mare-aux-canards-bouille-menard.43210.fr
SUMMARY:Collecte poubelle noire
DESCRIPTION:Désolé. Vous n'êtes pas habilité à consulter ce contenu.
URL:https://mare-aux-canards-bouille-menard.43210.fr/evenement/2025-07-04-collecte-poubelle-noire/
LOCATION:Bouillé-Ménard\, France
ORGANIZER;CN="Anjou Bleu Communaut%C3%A9":MAILTO:dechets@anjoubleucommunaute.fr
END:VEVENT
END:VCALENDAR