BEGIN:VCALENDAR
VERSION:2.0
PRODID:-//LA MARE AUX CANARDS A BOUILLE-MENARD - ECPv6.15.20//NONSGML v1.0//EN
CALSCALE:GREGORIAN
METHOD:PUBLISH
X-WR-CALNAME:LA MARE AUX CANARDS A BOUILLE-MENARD
X-ORIGINAL-URL:https://mare-aux-canards-bouille-menard.43210.fr
X-WR-CALDESC:Évènements pour LA MARE AUX CANARDS A BOUILLE-MENARD
REFRESH-INTERVAL;VALUE=DURATION:PT1H
X-Robots-Tag:noindex
X-PUBLISHED-TTL:PT1H
BEGIN:VTIMEZONE
TZID:UTC
BEGIN:STANDARD
TZOFFSETFROM:+0000
TZOFFSETTO:+0000
TZNAME:UTC
DTSTART:20240101T000000
END:STANDARD
END:VTIMEZONE
BEGIN:VEVENT
DTSTART;TZID=UTC:20250601T080000
DTEND;TZID=UTC:20250630T170000
DTSTAMP:20260421T141016
CREATED:20250601T084520Z
LAST-MODIFIED:20250601T084825Z
UID:4628-1748764800-1751302800@mare-aux-canards-bouille-menard.43210.fr
SUMMARY:Collecte Butagaz
DESCRIPTION:Désolé. Vous n'êtes pas habilité à consulter ce contenu.
URL:https://mare-aux-canards-bouille-menard.43210.fr/evenement/2025-collecte-butagaz/
CATEGORIES:Longues durées
END:VEVENT
BEGIN:VEVENT
DTSTART;TZID=UTC:20250627T140000
DTEND;TZID=UTC:20250627T163000
DTSTAMP:20260421T141016
CREATED:20241125T204214Z
LAST-MODIFIED:20241125T204214Z
UID:4024-1751032800-1751041800@mare-aux-canards-bouille-menard.43210.fr
SUMMARY:Ateliers numériques
DESCRIPTION:Désolé. Vous n'êtes pas habilité à consulter ce contenu.
URL:https://mare-aux-canards-bouille-menard.43210.fr/evenement/2025-06-27-ateliers-numeriques/
LOCATION:La Mairie Bouillé-Ménard\, Bouillé-Ménard\, France
ORGANIZER;CN="Anjou Bleu Communaut%C3%A9":MAILTO:dechets@anjoubleucommunaute.fr
END:VEVENT
BEGIN:VEVENT
DTSTART;TZID=UTC:20250627T180000
DTEND;TZID=UTC:20250627T220000
DTSTAMP:20260421T141016
CREATED:20250628T074118Z
LAST-MODIFIED:20250628T074853Z
UID:4704-1751047200-1751061600@mare-aux-canards-bouille-menard.43210.fr
SUMMARY:Soirée Jeux de société
DESCRIPTION:Désolé. Vous n'êtes pas habilité à consulter ce contenu.
URL:https://mare-aux-canards-bouille-menard.43210.fr/evenement/2025-06-27-soiree-jeux-de-societe/
LOCATION:Halles de Châtelais\, 1\, place de l'église - Châtelais\, Segré-en-Anjou-Bleu\, 49500\, France
ORGANIZER;CN="halles de chatelais":MAILTO:epicerie@leshallesdechatelais.fr
END:VEVENT
END:VCALENDAR