BEGIN:VCALENDAR
VERSION:2.0
PRODID:-//LA MARE AUX CANARDS A BOUILLE-MENARD - ECPv6.15.20//NONSGML v1.0//EN
CALSCALE:GREGORIAN
METHOD:PUBLISH
X-WR-CALNAME:LA MARE AUX CANARDS A BOUILLE-MENARD
X-ORIGINAL-URL:https://mare-aux-canards-bouille-menard.43210.fr
X-WR-CALDESC:Évènements pour LA MARE AUX CANARDS A BOUILLE-MENARD
REFRESH-INTERVAL;VALUE=DURATION:PT1H
X-Robots-Tag:noindex
X-PUBLISHED-TTL:PT1H
BEGIN:VTIMEZONE
TZID:UTC
BEGIN:STANDARD
TZOFFSETFROM:+0000
TZOFFSETTO:+0000
TZNAME:UTC
DTSTART:20240101T000000
END:STANDARD
END:VTIMEZONE
BEGIN:VEVENT
DTSTART;TZID=UTC:20250601T080000
DTEND;TZID=UTC:20250630T170000
DTSTAMP:20260421T141041
CREATED:20250601T084520Z
LAST-MODIFIED:20250601T084825Z
UID:4628-1748764800-1751302800@mare-aux-canards-bouille-menard.43210.fr
SUMMARY:Collecte Butagaz
DESCRIPTION:Désolé. Vous n'êtes pas habilité à consulter ce contenu.
URL:https://mare-aux-canards-bouille-menard.43210.fr/evenement/2025-collecte-butagaz/
CATEGORIES:Longues durées
END:VEVENT
BEGIN:VEVENT
DTSTART;VALUE=DATE:20250602
DTEND;VALUE=DATE:20250616
DTSTAMP:20260421T141041
CREATED:20250621T135431Z
LAST-MODIFIED:20250621T135741Z
UID:4695-1748822400-1750031999@mare-aux-canards-bouille-menard.43210.fr
SUMMARY:Quinzaine du sport d'Ombrée d'Anjou
DESCRIPTION:Désolé. Vous n'êtes pas habilité à consulter ce contenu.
URL:https://mare-aux-canards-bouille-menard.43210.fr/evenement/2025-06-02-quinzaine-du-sport-dombree-danjou/
END:VEVENT
BEGIN:VEVENT
DTSTART;VALUE=DATE:20250613
DTEND;VALUE=DATE:20250614
DTSTAMP:20260421T141041
CREATED:20250910T162739Z
LAST-MODIFIED:20250910T163730Z
UID:4858-1749772800-1749859199@mare-aux-canards-bouille-menard.43210.fr
SUMMARY:Monsieur Xavier Lesage
DESCRIPTION:Désolé. Vous n'êtes pas habilité à consulter ce contenu.
URL:https://mare-aux-canards-bouille-menard.43210.fr/evenement/2025-06-13-xavier-lesage/
LOCATION:Bouillé-Ménard\, France
END:VEVENT
END:VCALENDAR