BEGIN:VCALENDAR
VERSION:2.0
PRODID:-//LA MARE AUX CANARDS A BOUILLE-MENARD - ECPv6.15.20//NONSGML v1.0//EN
CALSCALE:GREGORIAN
METHOD:PUBLISH
X-WR-CALNAME:LA MARE AUX CANARDS A BOUILLE-MENARD
X-ORIGINAL-URL:https://mare-aux-canards-bouille-menard.43210.fr
X-WR-CALDESC:Évènements pour LA MARE AUX CANARDS A BOUILLE-MENARD
REFRESH-INTERVAL;VALUE=DURATION:PT1H
X-Robots-Tag:noindex
X-PUBLISHED-TTL:PT1H
BEGIN:VTIMEZONE
TZID:UTC
BEGIN:STANDARD
TZOFFSETFROM:+0000
TZOFFSETTO:+0000
TZNAME:UTC
DTSTART:20240101T000000
END:STANDARD
END:VTIMEZONE
BEGIN:VEVENT
DTSTART;TZID=UTC:20250523T093000
DTEND;TZID=UTC:20250524T170000
DTSTAMP:20260421T161129
CREATED:20250601T093010Z
LAST-MODIFIED:20250601T094747Z
UID:4641-1747992600-1748106000@mare-aux-canards-bouille-menard.43210.fr
SUMMARY:Osez l’aventure scoute
DESCRIPTION:Désolé. Vous n'êtes pas habilité à consulter ce contenu.
URL:https://mare-aux-canards-bouille-menard.43210.fr/evenement/2025-05-24-osez-laventure-scoute/
ORGANIZER;CN="Scoust du haut-anjou":MAILTO:sgdf.hautanjou@gmail.com
END:VEVENT
BEGIN:VEVENT
DTSTART;TZID=UTC:20250524T090000
DTEND;TZID=UTC:20250524T130000
DTSTAMP:20260421T161129
CREATED:20250302T183435Z
LAST-MODIFIED:20250302T183452Z
UID:4437-1748077200-1748091600@mare-aux-canards-bouille-menard.43210.fr
SUMMARY:Forum des associations de Segré
DESCRIPTION:Désolé. Vous n'êtes pas habilité à consulter ce contenu.
URL:https://mare-aux-canards-bouille-menard.43210.fr/evenement/2025-05-24-forum-des-associations-de-segre/
LOCATION:parc des expositions\, 10 route de Pouancé\, Segré en Anjou Bleu\, France
END:VEVENT
END:VCALENDAR