BEGIN:VCALENDAR
VERSION:2.0
PRODID:-//LA MARE AUX CANARDS A BOUILLE-MENARD - ECPv6.15.20//NONSGML v1.0//EN
CALSCALE:GREGORIAN
METHOD:PUBLISH
X-WR-CALNAME:LA MARE AUX CANARDS A BOUILLE-MENARD
X-ORIGINAL-URL:https://mare-aux-canards-bouille-menard.43210.fr
X-WR-CALDESC:Évènements pour LA MARE AUX CANARDS A BOUILLE-MENARD
REFRESH-INTERVAL;VALUE=DURATION:PT1H
X-Robots-Tag:noindex
X-PUBLISHED-TTL:PT1H
BEGIN:VTIMEZONE
TZID:UTC
BEGIN:STANDARD
TZOFFSETFROM:+0000
TZOFFSETTO:+0000
TZNAME:UTC
DTSTART:20240101T000000
END:STANDARD
END:VTIMEZONE
BEGIN:VEVENT
DTSTART;TZID=UTC:20250518T080000
DTEND;TZID=UTC:20250518T170000
DTSTAMP:20260421T161127
CREATED:20250128T194547Z
LAST-MODIFIED:20250701T053239Z
UID:4265-1747555200-1747587600@mare-aux-canards-bouille-menard.43210.fr
SUMMARY:Journée éco-citoyenne
DESCRIPTION:Désolé. Vous n'êtes pas habilité à consulter ce contenu.
URL:https://mare-aux-canards-bouille-menard.43210.fr/evenement/2025-05-18-journee-eco-citoyenne/
LOCATION:Bouillé-Ménard\, France
END:VEVENT
BEGIN:VEVENT
DTSTART;TZID=UTC:20250518T080000
DTEND;TZID=UTC:20250518T180000
DTSTAMP:20260421T161127
CREATED:20250408T052603Z
LAST-MODIFIED:20250413T130123Z
UID:4531-1747555200-1747591200@mare-aux-canards-bouille-menard.43210.fr
SUMMARY:Vide-greniers
DESCRIPTION:Désolé. Vous n'êtes pas habilité à consulter ce contenu.
URL:https://mare-aux-canards-bouille-menard.43210.fr/evenement/2025-05-18-vide-greniers-cherance/
LOCATION:Cherancé\, Cherancé\, 53068\, France
END:VEVENT
BEGIN:VEVENT
DTSTART;TZID=UTC:20250518T150000
DTEND;TZID=UTC:20250518T170000
DTSTAMP:20260421T161127
CREATED:20250510T101514Z
LAST-MODIFIED:20250510T103753Z
UID:4619-1747580400-1747587600@mare-aux-canards-bouille-menard.43210.fr
SUMMARY:Les dimanches au musée de Châtelais
DESCRIPTION:Désolé. Vous n'êtes pas habilité à consulter ce contenu.
URL:https://mare-aux-canards-bouille-menard.43210.fr/evenement/2025-05-18-musee-de-chatelais/
LOCATION:Musée de Châtelais\, 5 rue du Musée\, Châtelais\, 49520\, France
END:VEVENT
END:VCALENDAR