BEGIN:VCALENDAR
VERSION:2.0
PRODID:-//LA MARE AUX CANARDS A BOUILLE-MENARD - ECPv6.15.20//NONSGML v1.0//EN
CALSCALE:GREGORIAN
METHOD:PUBLISH
X-ORIGINAL-URL:https://mare-aux-canards-bouille-menard.43210.fr
X-WR-CALDESC:Évènements pour LA MARE AUX CANARDS A BOUILLE-MENARD
REFRESH-INTERVAL;VALUE=DURATION:PT1H
X-Robots-Tag:noindex
X-PUBLISHED-TTL:PT1H
BEGIN:VTIMEZONE
TZID:UTC
BEGIN:STANDARD
TZOFFSETFROM:+0000
TZOFFSETTO:+0000
TZNAME:UTC
DTSTART:20240101T000000
END:STANDARD
END:VTIMEZONE
BEGIN:VEVENT
DTSTART;TZID=UTC:20250517T090000
DTEND;TZID=UTC:20250517T170000
DTSTAMP:20260421T161147
CREATED:20250510T100611Z
LAST-MODIFIED:20250510T101130Z
UID:4612-1747472400-1747501200@mare-aux-canards-bouille-menard.43210.fr
SUMMARY:Brocante Saint Vincent de Paul
DESCRIPTION:Désolé. Vous n'êtes pas habilité à consulter ce contenu.
URL:https://mare-aux-canards-bouille-menard.43210.fr/evenement/2025-05-17-brocante-saint-vincent-de-paul/
LOCATION:Centre Saint-Vincent-de-Paul Segré\, 14 rue Denis Papin\, Segré-en-Anjou-Bleu\, Sélectionner un État :\, 49500\, France
END:VEVENT
BEGIN:VEVENT
DTSTART;TZID=UTC:20250517T203000
DTEND;TZID=UTC:20250517T223000
DTSTAMP:20260421T161147
CREATED:20250503T103220Z
LAST-MODIFIED:20250503T103239Z
UID:4593-1747513800-1747521000@mare-aux-canards-bouille-menard.43210.fr
SUMMARY:Concert
DESCRIPTION:Désolé. Vous n'êtes pas habilité à consulter ce contenu.
URL:https://mare-aux-canards-bouille-menard.43210.fr/evenement/2025-05-17-concert-chatelais/
LOCATION:Salle des fêtes de Châtelais\, 3 rue Grands Murs\, Châtelais\, 49520\, France
END:VEVENT
END:VCALENDAR