BEGIN:VCALENDAR
VERSION:2.0
PRODID:-//LA MARE AUX CANARDS A BOUILLE-MENARD - ECPv6.15.20//NONSGML v1.0//EN
CALSCALE:GREGORIAN
METHOD:PUBLISH
X-ORIGINAL-URL:https://mare-aux-canards-bouille-menard.43210.fr
X-WR-CALDESC:Évènements pour LA MARE AUX CANARDS A BOUILLE-MENARD
REFRESH-INTERVAL;VALUE=DURATION:PT1H
X-Robots-Tag:noindex
X-PUBLISHED-TTL:PT1H
BEGIN:VTIMEZONE
TZID:UTC
BEGIN:STANDARD
TZOFFSETFROM:+0000
TZOFFSETTO:+0000
TZNAME:UTC
DTSTART:20240101T000000
END:STANDARD
END:VTIMEZONE
BEGIN:VEVENT
DTSTART;TZID=UTC:20250515T213000
DTEND;TZID=UTC:20250515T230000
DTSTAMP:20260421T161304
CREATED:20250510T104522Z
LAST-MODIFIED:20250510T104522Z
UID:4624-1747344600-1747350000@mare-aux-canards-bouille-menard.43210.fr
SUMMARY:convocation conseil municipal
DESCRIPTION:Désolé. Vous n'êtes pas habilité à consulter ce contenu.
URL:https://mare-aux-canards-bouille-menard.43210.fr/evenement/2025-05-15-convocation-conseil-municipal/
LOCATION:La Mairie Bouillé-Ménard\, Bouillé-Ménard\, France
END:VEVENT
END:VCALENDAR