BEGIN:VCALENDAR
VERSION:2.0
PRODID:-//LA MARE AUX CANARDS A BOUILLE-MENARD - ECPv6.15.20//NONSGML v1.0//EN
CALSCALE:GREGORIAN
METHOD:PUBLISH
X-WR-CALNAME:LA MARE AUX CANARDS A BOUILLE-MENARD
X-ORIGINAL-URL:https://mare-aux-canards-bouille-menard.43210.fr
X-WR-CALDESC:Évènements pour LA MARE AUX CANARDS A BOUILLE-MENARD
REFRESH-INTERVAL;VALUE=DURATION:PT1H
X-Robots-Tag:noindex
X-PUBLISHED-TTL:PT1H
BEGIN:VTIMEZONE
TZID:UTC
BEGIN:STANDARD
TZOFFSETFROM:+0000
TZOFFSETTO:+0000
TZNAME:UTC
DTSTART:20240101T000000
END:STANDARD
END:VTIMEZONE
BEGIN:VEVENT
DTSTART;TZID=UTC:20250426T100000
DTEND;TZID=UTC:20250426T180000
DTSTAMP:20260421T222115
CREATED:20250322T182855Z
LAST-MODIFIED:20250322T184828Z
UID:4510-1745661600-1745690400@mare-aux-canards-bouille-menard.43210.fr
SUMMARY:Fête Saint-Georges
DESCRIPTION:Désolé. Vous n'êtes pas habilité à consulter ce contenu.
URL:https://mare-aux-canards-bouille-menard.43210.fr/evenement/2025-04-26-fete-saint-georges/
LOCATION:Château de la Roche-Noyant\, 16\, Vieille Rue\, Noyant la Gravoyère\, 49520\, France
ORGANIZER;CN="Ecole Saint-Georges Noyant-la-Gravoy%C3%A8re":MAILTO:Apelstgeorges49520@gmail.com
END:VEVENT
END:VCALENDAR