BEGIN:VCALENDAR
VERSION:2.0
PRODID:-//LA MARE AUX CANARDS A BOUILLE-MENARD - ECPv6.15.20//NONSGML v1.0//EN
CALSCALE:GREGORIAN
METHOD:PUBLISH
X-WR-CALNAME:LA MARE AUX CANARDS A BOUILLE-MENARD
X-ORIGINAL-URL:https://mare-aux-canards-bouille-menard.43210.fr
X-WR-CALDESC:Évènements pour LA MARE AUX CANARDS A BOUILLE-MENARD
REFRESH-INTERVAL;VALUE=DURATION:PT1H
X-Robots-Tag:noindex
X-PUBLISHED-TTL:PT1H
BEGIN:VTIMEZONE
TZID:UTC
BEGIN:STANDARD
TZOFFSETFROM:+0000
TZOFFSETTO:+0000
TZNAME:UTC
DTSTART:20240101T000000
END:STANDARD
END:VTIMEZONE
BEGIN:VEVENT
DTSTART;TZID=UTC:20250405T080000
DTEND;TZID=UTC:20250421T170000
DTSTAMP:20260423T085045
CREATED:20250419T083948Z
LAST-MODIFIED:20250419T083948Z
UID:4551-1743840000-1745254800@mare-aux-canards-bouille-menard.43210.fr
SUMMARY:EPI SERVICE - Horaires vacances PÂQUES
DESCRIPTION:Désolé. Vous n'êtes pas habilité à consulter ce contenu.
URL:https://mare-aux-canards-bouille-menard.43210.fr/evenement/2025-04-05-episervice-horaires/
LOCATION:Epi-Service de Bouillé-Ménard
END:VEVENT
BEGIN:VEVENT
DTSTART;TZID=UTC:20250407T143000
DTEND;TZID=UTC:20250407T173000
DTSTAMP:20260423T085045
CREATED:20250413T130929Z
LAST-MODIFIED:20250413T131734Z
UID:4536-1744036200-1744047000@mare-aux-canards-bouille-menard.43210.fr
SUMMARY:Cinéma Balad Images Châtelais : Film Nuit au Zoo
DESCRIPTION:Désolé. Vous n'êtes pas habilité à consulter ce contenu.
URL:https://mare-aux-canards-bouille-menard.43210.fr/evenement/2025-04-07-cinema-balad-images-chatelais-film-nuit-zoo/
LOCATION:Salle des fêtes de Châtelais\, 3 rue Grands Murs\, Châtelais\, 49520\, France
END:VEVENT
BEGIN:VEVENT
DTSTART;TZID=UTC:20250407T203000
DTEND;TZID=UTC:20250407T223000
DTSTAMP:20260423T085045
CREATED:20250413T132107Z
LAST-MODIFIED:20250413T132107Z
UID:4539-1744057800-1744065000@mare-aux-canards-bouille-menard.43210.fr
SUMMARY:Cinéma Balad Images Châtelais : Film A bicyclette
DESCRIPTION:Désolé. Vous n'êtes pas habilité à consulter ce contenu.
URL:https://mare-aux-canards-bouille-menard.43210.fr/evenement/2025-04-07-cinema-balad-images-chatelais-film-a-bicyclette/
LOCATION:Salle des fêtes de Châtelais\, 3 rue Grands Murs\, Châtelais\, 49520\, France
END:VEVENT
END:VCALENDAR