BEGIN:VCALENDAR
VERSION:2.0
PRODID:-//LA MARE AUX CANARDS A BOUILLE-MENARD - ECPv6.15.20//NONSGML v1.0//EN
CALSCALE:GREGORIAN
METHOD:PUBLISH
X-ORIGINAL-URL:https://mare-aux-canards-bouille-menard.43210.fr
X-WR-CALDESC:Évènements pour LA MARE AUX CANARDS A BOUILLE-MENARD
REFRESH-INTERVAL;VALUE=DURATION:PT1H
X-Robots-Tag:noindex
X-PUBLISHED-TTL:PT1H
BEGIN:VTIMEZONE
TZID:UTC
BEGIN:STANDARD
TZOFFSETFROM:+0000
TZOFFSETTO:+0000
TZNAME:UTC
DTSTART:20240101T000000
END:STANDARD
END:VTIMEZONE
BEGIN:VEVENT
DTSTART;TZID=UTC:20250402T140000
DTEND;TZID=UTC:20250402T170000
DTSTAMP:20260423T104842
CREATED:20250322T120715Z
LAST-MODIFIED:20250322T182252Z
UID:4504-1743602400-1743613200@mare-aux-canards-bouille-menard.43210.fr
SUMMARY:Atelier bricolage
DESCRIPTION:Désolé. Vous n'êtes pas habilité à consulter ce contenu.
URL:https://mare-aux-canards-bouille-menard.43210.fr/evenement/2025-04-02-atelier-bricolage-sc-mcl/
LOCATION:Maison commune de loisir (MCL) Pouancé\, Avenue de la Gare\, route de Saint-Aignan\, Ombrée d'Anjour\, France
END:VEVENT
END:VCALENDAR