BEGIN:VCALENDAR
VERSION:2.0
PRODID:-//LA MARE AUX CANARDS A BOUILLE-MENARD - ECPv6.15.20//NONSGML v1.0//EN
CALSCALE:GREGORIAN
METHOD:PUBLISH
X-WR-CALNAME:LA MARE AUX CANARDS A BOUILLE-MENARD
X-ORIGINAL-URL:https://mare-aux-canards-bouille-menard.43210.fr
X-WR-CALDESC:Évènements pour LA MARE AUX CANARDS A BOUILLE-MENARD
REFRESH-INTERVAL;VALUE=DURATION:PT1H
X-Robots-Tag:noindex
X-PUBLISHED-TTL:PT1H
BEGIN:VTIMEZONE
TZID:UTC
BEGIN:STANDARD
TZOFFSETFROM:+0000
TZOFFSETTO:+0000
TZNAME:UTC
DTSTART:20240101T000000
END:STANDARD
END:VTIMEZONE
BEGIN:VEVENT
DTSTART;VALUE=DATE:20250401
DTEND;VALUE=DATE:20250402
DTSTAMP:20260423T104701
CREATED:20250419T082021Z
LAST-MODIFIED:20250419T084129Z
UID:4547-1743465600-1743551999@mare-aux-canards-bouille-menard.43210.fr
SUMMARY:[Anjou Bleu Communauté] Horaires d’été déchèteries
DESCRIPTION:Désolé. Vous n'êtes pas habilité à consulter ce contenu.
URL:https://mare-aux-canards-bouille-menard.43210.fr/evenement/2025-04-01-decheterie-horaire-ete/
LOCATION:Anjou Bleu Communauté
CATEGORIES:Longues durées
ORGANIZER;CN="Anjou Bleu Communaut%C3%A9":MAILTO:dechets@anjoubleucommunaute.fr
END:VEVENT
BEGIN:VEVENT
DTSTART;TZID=UTC:20250401T110000
DTEND;TZID=UTC:20250401T170000
DTSTAMP:20260423T104701
CREATED:20250128T194220Z
LAST-MODIFIED:20250128T194242Z
UID:4262-1743505200-1743526800@mare-aux-canards-bouille-menard.43210.fr
SUMMARY:Inauguration du nouveau Poissondrome
DESCRIPTION:Désolé. Vous n'êtes pas habilité à consulter ce contenu.
URL:https://mare-aux-canards-bouille-menard.43210.fr/evenement/2025-04-01-inauguration-poissondrome/
LOCATION:plan d’eau communal BM\, rue du Cloteau\, Bouillé-Ménard\, 49520\, France
END:VEVENT
END:VCALENDAR