BEGIN:VCALENDAR
VERSION:2.0
PRODID:-//LA MARE AUX CANARDS A BOUILLE-MENARD - ECPv6.15.20//NONSGML v1.0//EN
CALSCALE:GREGORIAN
METHOD:PUBLISH
X-WR-CALNAME:LA MARE AUX CANARDS A BOUILLE-MENARD
X-ORIGINAL-URL:https://mare-aux-canards-bouille-menard.43210.fr
X-WR-CALDESC:Évènements pour LA MARE AUX CANARDS A BOUILLE-MENARD
REFRESH-INTERVAL;VALUE=DURATION:PT1H
X-Robots-Tag:noindex
X-PUBLISHED-TTL:PT1H
BEGIN:VTIMEZONE
TZID:UTC
BEGIN:STANDARD
TZOFFSETFROM:+0000
TZOFFSETTO:+0000
TZNAME:UTC
DTSTART:20240101T000000
END:STANDARD
END:VTIMEZONE
BEGIN:VEVENT
DTSTART;TZID=UTC:20250318T153000
DTEND;TZID=UTC:20250318T203000
DTSTAMP:20260423T124324
CREATED:20250128T210002Z
LAST-MODIFIED:20250128T211718Z
UID:4315-1742311800-1742329800@mare-aux-canards-bouille-menard.43210.fr
SUMMARY:Les galettes de Marie
DESCRIPTION:Désolé. Vous n'êtes pas habilité à consulter ce contenu.
URL:https://mare-aux-canards-bouille-menard.43210.fr/evenement/2025-03-18-les-galettes-de-marie/
LOCATION:Place de l’Eglise\, Bouillé-Ménard\, France
ORGANIZER;CN="Les Galettes de Marie":MAILTO:lesgalettesdemarie@hotmail.com
END:VEVENT
END:VCALENDAR