BEGIN:VCALENDAR
VERSION:2.0
PRODID:-//LA MARE AUX CANARDS A BOUILLE-MENARD - ECPv6.15.20//NONSGML v1.0//EN
CALSCALE:GREGORIAN
METHOD:PUBLISH
X-ORIGINAL-URL:https://mare-aux-canards-bouille-menard.43210.fr
X-WR-CALDESC:Évènements pour LA MARE AUX CANARDS A BOUILLE-MENARD
REFRESH-INTERVAL;VALUE=DURATION:PT1H
X-Robots-Tag:noindex
X-PUBLISHED-TTL:PT1H
BEGIN:VTIMEZONE
TZID:UTC
BEGIN:STANDARD
TZOFFSETFROM:+0000
TZOFFSETTO:+0000
TZNAME:UTC
DTSTART:20240101T000000
END:STANDARD
END:VTIMEZONE
BEGIN:VEVENT
DTSTART;VALUE=DATE:20250311
DTEND;VALUE=DATE:20250312
DTSTAMP:20260423T124536
CREATED:20250311T204450Z
LAST-MODIFIED:20250312T210415Z
UID:4468-1741651200-1741737599@mare-aux-canards-bouille-menard.43210.fr
SUMMARY:[MAC] Lettre d'information n°6
DESCRIPTION:Désolé. Vous n'êtes pas habilité à consulter ce contenu.
URL:https://mare-aux-canards-bouille-menard.43210.fr/evenement/2025-03-11-mac-lettre-dinformation-n6/
LOCATION:Mare aux canards\, France
ORGANIZER;CN="MARadmin":MAILTO:admin@mare-aux-canards-bouille-menard.43210.fr
END:VEVENT
BEGIN:VEVENT
DTSTART;TZID=UTC:20250311T080000
DTEND;TZID=UTC:20250311T170000
DTSTAMP:20260423T124536
CREATED:20250311T192103Z
LAST-MODIFIED:20250312T192359Z
UID:4452-1741680000-1741712400@mare-aux-canards-bouille-menard.43210.fr
SUMMARY:Incivilités en ruralité
DESCRIPTION:Désolé. Vous n'êtes pas habilité à consulter ce contenu.
URL:https://mare-aux-canards-bouille-menard.43210.fr/evenement/2025-03-11-intelligences-rurales/
ORGANIZER;CN="MARadmin":MAILTO:admin@mare-aux-canards-bouille-menard.43210.fr
END:VEVENT
END:VCALENDAR