BEGIN:VCALENDAR
VERSION:2.0
PRODID:-//LA MARE AUX CANARDS A BOUILLE-MENARD - ECPv6.15.20//NONSGML v1.0//EN
CALSCALE:GREGORIAN
METHOD:PUBLISH
X-WR-CALNAME:LA MARE AUX CANARDS A BOUILLE-MENARD
X-ORIGINAL-URL:https://mare-aux-canards-bouille-menard.43210.fr
X-WR-CALDESC:Évènements pour LA MARE AUX CANARDS A BOUILLE-MENARD
REFRESH-INTERVAL;VALUE=DURATION:PT1H
X-Robots-Tag:noindex
X-PUBLISHED-TTL:PT1H
BEGIN:VTIMEZONE
TZID:UTC
BEGIN:STANDARD
TZOFFSETFROM:+0000
TZOFFSETTO:+0000
TZNAME:UTC
DTSTART:20240101T000000
END:STANDARD
END:VTIMEZONE
BEGIN:VEVENT
DTSTART;VALUE=DATE:20250304
DTEND;VALUE=DATE:20250307
DTSTAMP:20260423T124328
CREATED:20250302T180259Z
LAST-MODIFIED:20250302T180259Z
UID:4431-1741046400-1741305599@mare-aux-canards-bouille-menard.43210.fr
SUMMARY:60 ième anniversaire foire exposition Segré
DESCRIPTION:Désolé. Vous n'êtes pas habilité à consulter ce contenu.
URL:https://mare-aux-canards-bouille-menard.43210.fr/evenement/2025-04-04-60-ieme-anniversaire-foire-exposition-segre/
LOCATION:Parc Exposition Segré\, Segré-en-Anjou-Bleu\, 49500\, France
END:VEVENT
BEGIN:VEVENT
DTSTART;VALUE=DATE:20250305
DTEND;VALUE=DATE:20250306
DTSTAMP:20260423T124328
CREATED:20250128T191853Z
LAST-MODIFIED:20250128T191853Z
UID:4245-1741132800-1741219199@mare-aux-canards-bouille-menard.43210.fr
SUMMARY:Repas du Club Bon accueil
DESCRIPTION:Désolé. Vous n'êtes pas habilité à consulter ce contenu.
URL:https://mare-aux-canards-bouille-menard.43210.fr/evenement/2025-03-05-repas-du-club-bon-accueil/
LOCATION:salle communale Bouillé-Ménard\, 1\, rue de Renazé\, Bouillé-Ménard\, 49520\, France
END:VEVENT
END:VCALENDAR