BEGIN:VCALENDAR
VERSION:2.0
PRODID:-//LA MARE AUX CANARDS A BOUILLE-MENARD - ECPv6.15.20//NONSGML v1.0//EN
CALSCALE:GREGORIAN
METHOD:PUBLISH
X-WR-CALNAME:LA MARE AUX CANARDS A BOUILLE-MENARD
X-ORIGINAL-URL:https://mare-aux-canards-bouille-menard.43210.fr
X-WR-CALDESC:Évènements pour LA MARE AUX CANARDS A BOUILLE-MENARD
REFRESH-INTERVAL;VALUE=DURATION:PT1H
X-Robots-Tag:noindex
X-PUBLISHED-TTL:PT1H
BEGIN:VTIMEZONE
TZID:UTC
BEGIN:STANDARD
TZOFFSETFROM:+0000
TZOFFSETTO:+0000
TZNAME:UTC
DTSTART:20240101T000000
END:STANDARD
END:VTIMEZONE
BEGIN:VEVENT
DTSTART;TZID=UTC:20250301T210000
DTEND;TZID=UTC:20250301T210000
DTSTAMP:20260425T102939
CREATED:20250213T062435Z
LAST-MODIFIED:20250213T062650Z
UID:4389-1740862800-1740862800@mare-aux-canards-bouille-menard.43210.fr
SUMMARY:Théâtre "Les Belles-Sœurs"
DESCRIPTION:Désolé. Vous n'êtes pas habilité à consulter ce contenu.
URL:https://mare-aux-canards-bouille-menard.43210.fr/evenement/2025-03-01-theatre-les-belles-soeurs/
LOCATION:Foyer Laïque Combrée\, 21 Quai de Lauingen\, Ombrée d'Anjou\, 49520\, France
END:VEVENT
END:VCALENDAR