BEGIN:VCALENDAR
VERSION:2.0
PRODID:-//LA MARE AUX CANARDS A BOUILLE-MENARD - ECPv6.15.20//NONSGML v1.0//EN
CALSCALE:GREGORIAN
METHOD:PUBLISH
X-ORIGINAL-URL:https://mare-aux-canards-bouille-menard.43210.fr
X-WR-CALDESC:Évènements pour LA MARE AUX CANARDS A BOUILLE-MENARD
REFRESH-INTERVAL;VALUE=DURATION:PT1H
X-Robots-Tag:noindex
X-PUBLISHED-TTL:PT1H
BEGIN:VTIMEZONE
TZID:UTC
BEGIN:STANDARD
TZOFFSETFROM:+0000
TZOFFSETTO:+0000
TZNAME:UTC
DTSTART:20240101T000000
END:STANDARD
END:VTIMEZONE
BEGIN:VEVENT
DTSTART;TZID=UTC:20250223T143000
DTEND;TZID=UTC:20250223T180000
DTSTAMP:20260423T124505
CREATED:20250213T061706Z
LAST-MODIFIED:20250213T061834Z
UID:4384-1740321000-1740333600@mare-aux-canards-bouille-menard.43210.fr
SUMMARY:Théâtre "Un jumelage inoubliable"
DESCRIPTION:Désolé. Vous n'êtes pas habilité à consulter ce contenu.
URL:https://mare-aux-canards-bouille-menard.43210.fr/evenement/2025-02-23-theatre-un-jumelage-inoubliable/
LOCATION:Salle Jeanne d’Arc\, 1 Rue de la Verzée\, Le Tremblay\, Ombrée d'Anjou\, 49520
END:VEVENT
END:VCALENDAR