BEGIN:VCALENDAR
VERSION:2.0
PRODID:-//LA MARE AUX CANARDS A BOUILLE-MENARD - ECPv6.15.20//NONSGML v1.0//EN
CALSCALE:GREGORIAN
METHOD:PUBLISH
X-ORIGINAL-URL:https://mare-aux-canards-bouille-menard.43210.fr
X-WR-CALDESC:Évènements pour LA MARE AUX CANARDS A BOUILLE-MENARD
REFRESH-INTERVAL;VALUE=DURATION:PT1H
X-Robots-Tag:noindex
X-PUBLISHED-TTL:PT1H
BEGIN:VTIMEZONE
TZID:UTC
BEGIN:STANDARD
TZOFFSETFROM:+0000
TZOFFSETTO:+0000
TZNAME:UTC
DTSTART:20230101T000000
END:STANDARD
END:VTIMEZONE
BEGIN:VEVENT
DTSTART;TZID=UTC:20241228T133000
DTEND;TZID=UTC:20241228T190000
DTSTAMP:20260423T190936
CREATED:20241222T105225Z
LAST-MODIFIED:20241222T105724Z
UID:4138-1735392600-1735412400@mare-aux-canards-bouille-menard.43210.fr
SUMMARY:Tournoi de foot
DESCRIPTION:Désolé. Vous n'êtes pas habilité à consulter ce contenu.
URL:https://mare-aux-canards-bouille-menard.43210.fr/evenement/2024-12-28-tournoi-de-foot/
LOCATION:Salle Léo Lagrange\, rue du parc - Noyant-La-Gravoyère\, Segré-en-Anjou-Bleu\, 49500
END:VEVENT
END:VCALENDAR