BEGIN:VCALENDAR
VERSION:2.0
PRODID:-//LA MARE AUX CANARDS A BOUILLE-MENARD - ECPv6.15.20//NONSGML v1.0//EN
CALSCALE:GREGORIAN
METHOD:PUBLISH
X-WR-CALNAME:LA MARE AUX CANARDS A BOUILLE-MENARD
X-ORIGINAL-URL:https://mare-aux-canards-bouille-menard.43210.fr
X-WR-CALDESC:Évènements pour LA MARE AUX CANARDS A BOUILLE-MENARD
REFRESH-INTERVAL;VALUE=DURATION:PT1H
X-Robots-Tag:noindex
X-PUBLISHED-TTL:PT1H
BEGIN:VTIMEZONE
TZID:UTC
BEGIN:STANDARD
TZOFFSETFROM:+0000
TZOFFSETTO:+0000
TZNAME:UTC
DTSTART:20230101T000000
END:STANDARD
END:VTIMEZONE
BEGIN:VEVENT
DTSTART;TZID=UTC:20240329T140000
DTEND;TZID=UTC:20241130T160000
DTSTAMP:20260423T210552
CREATED:20240415T173615Z
LAST-MODIFIED:20240415T191834Z
UID:3325-1711720800-1732982400@mare-aux-canards-bouille-menard.43210.fr
SUMMARY:Château de Vipère au poing
DESCRIPTION:Désolé. Vous n'êtes pas habilité à consulter ce contenu.
URL:https://mare-aux-canards-bouille-menard.43210.fr/evenement/2024-chateau-de-vipere-au-poing/
LOCATION:Château du Patys\, 748 route du Patys MARANS\, Segré-en-Anjou Bleu\, 49500\, France
CATEGORIES:Longues durées
END:VEVENT
BEGIN:VEVENT
DTSTART;TZID=UTC:20241112T080000
DTEND;TZID=UTC:20241130T170000
DTSTAMP:20260423T210552
CREATED:20241125T213223Z
LAST-MODIFIED:20241125T213651Z
UID:4062-1731398400-1732986000@mare-aux-canards-bouille-menard.43210.fr
SUMMARY:Braderie de livres des médiathèques de Combrée et Pouancé
DESCRIPTION:Désolé. Vous n'êtes pas habilité à consulter ce contenu.
URL:https://mare-aux-canards-bouille-menard.43210.fr/evenement/2024-11-12-braderie-de-livres-des-mediatheques/
LOCATION:Médiathèque Jules MOUGIN\, 4 Bd de la Prevalaye\, 49420\, Ombrée d'Anjou\, 49420\, France
END:VEVENT
BEGIN:VEVENT
DTSTART;TZID=UTC:20241112T080000
DTEND;TZID=UTC:20241130T170000
DTSTAMP:20260423T210552
CREATED:20241125T213555Z
LAST-MODIFIED:20241125T213555Z
UID:4066-1731398400-1732986000@mare-aux-canards-bouille-menard.43210.fr
SUMMARY:Braderie de livres des médiathèques de Combrée et Pouancé
DESCRIPTION:Désolé. Vous n'êtes pas habilité à consulter ce contenu.
URL:https://mare-aux-canards-bouille-menard.43210.fr/evenement/braderie-de-livres-des-mediatheques-de-combree-et-pouance/
LOCATION:Médiathèque Jacques Prévert\, 3 Rue de L Hôtel de ville\, Ombrée d'Anjou\, 49520\, France
END:VEVENT
BEGIN:VEVENT
DTSTART;VALUE=DATE:20241116
DTEND;VALUE=DATE:20241130
DTSTAMP:20260423T210552
CREATED:20241126T185911Z
LAST-MODIFIED:20241126T185911Z
UID:4069-1731715200-1732924799@mare-aux-canards-bouille-menard.43210.fr
SUMMARY:Festival Ombrée Lumières (FOL)
DESCRIPTION:Désolé. Vous n'êtes pas habilité à consulter ce contenu.
URL:https://mare-aux-canards-bouille-menard.43210.fr/evenement/2024-11-16-festival-ombree-lumieres/
END:VEVENT
END:VCALENDAR