BEGIN:VCALENDAR
VERSION:2.0
PRODID:-//LA MARE AUX CANARDS A BOUILLE-MENARD - ECPv6.15.20//NONSGML v1.0//EN
CALSCALE:GREGORIAN
METHOD:PUBLISH
X-ORIGINAL-URL:https://mare-aux-canards-bouille-menard.43210.fr
X-WR-CALDESC:Évènements pour LA MARE AUX CANARDS A BOUILLE-MENARD
REFRESH-INTERVAL;VALUE=DURATION:PT1H
X-Robots-Tag:noindex
X-PUBLISHED-TTL:PT1H
BEGIN:VTIMEZONE
TZID:UTC
BEGIN:STANDARD
TZOFFSETFROM:+0000
TZOFFSETTO:+0000
TZNAME:UTC
DTSTART:20230101T000000
END:STANDARD
END:VTIMEZONE
BEGIN:VEVENT
DTSTART;TZID=UTC:20240329T140000
DTEND;TZID=UTC:20241130T160000
DTSTAMP:20260425T103057
CREATED:20240415T173615Z
LAST-MODIFIED:20240415T191834Z
UID:3325-1711720800-1732982400@mare-aux-canards-bouille-menard.43210.fr
SUMMARY:Château de Vipère au poing
DESCRIPTION:Désolé. Vous n'êtes pas habilité à consulter ce contenu.
URL:https://mare-aux-canards-bouille-menard.43210.fr/evenement/2024-chateau-de-vipere-au-poing/
LOCATION:Château du Patys\, 748 route du Patys MARANS\, Segré-en-Anjou Bleu\, 49500\, France
CATEGORIES:Longues durées
END:VEVENT
BEGIN:VEVENT
DTSTART;VALUE=DATE:20241109
DTEND;VALUE=DATE:20241111
DTSTAMP:20260425T103057
CREATED:20240114T175720Z
LAST-MODIFIED:20241118T222336Z
UID:2927-1731110400-1731283199@mare-aux-canards-bouille-menard.43210.fr
SUMMARY:La foire aux rillauds - 41ième édition
DESCRIPTION:Désolé. Vous n'êtes pas habilité à consulter ce contenu.
URL:https://mare-aux-canards-bouille-menard.43210.fr/evenement/2024-11-09-la-foire-aux-rillauds/
LOCATION:stade de Bouillé-Ménard
END:VEVENT
BEGIN:VEVENT
DTSTART;TZID=UTC:20241109T100000
DTEND;TZID=UTC:20241109T120000
DTSTAMP:20260425T103057
CREATED:20241125T211513Z
LAST-MODIFIED:20241125T211513Z
UID:4049-1731146400-1731153600@mare-aux-canards-bouille-menard.43210.fr
SUMMARY:Racontine : Thème l'Océanie
DESCRIPTION:Désolé. Vous n'êtes pas habilité à consulter ce contenu.
URL:https://mare-aux-canards-bouille-menard.43210.fr/evenement/2024-11-09-racontine/
LOCATION:Médiathèque Jules MOUGIN\, 4 Bd de la Prevalaye\, 49420\, Ombrée d'Anjou\, 49420\, France
ORGANIZER;CN="Relais Petite Enfance Ombr%C3%A9e d'Anjou":MAILTO:a.argand@ombredanjou.fr
END:VEVENT
BEGIN:VEVENT
DTSTART;TZID=UTC:20241109T100000
DTEND;TZID=UTC:20241109T120000
DTSTAMP:20260425T103057
CREATED:20241125T211651Z
LAST-MODIFIED:20241125T211651Z
UID:4051-1731146400-1731153600@mare-aux-canards-bouille-menard.43210.fr
SUMMARY:Racontine : Thème la Scandinavie
DESCRIPTION:Désolé. Vous n'êtes pas habilité à consulter ce contenu.
URL:https://mare-aux-canards-bouille-menard.43210.fr/evenement/2024-12-19-racontine/
LOCATION:Médiathèque Jules MOUGIN\, 4 Bd de la Prevalaye\, 49420\, Ombrée d'Anjou\, 49420\, France
ORGANIZER;CN="Relais Petite Enfance Ombr%C3%A9e d'Anjou":MAILTO:a.argand@ombredanjou.fr
END:VEVENT
END:VCALENDAR