BEGIN:VCALENDAR
VERSION:2.0
PRODID:-//LA MARE AUX CANARDS A BOUILLE-MENARD - ECPv6.15.20//NONSGML v1.0//EN
CALSCALE:GREGORIAN
METHOD:PUBLISH
X-WR-CALNAME:LA MARE AUX CANARDS A BOUILLE-MENARD
X-ORIGINAL-URL:https://mare-aux-canards-bouille-menard.43210.fr
X-WR-CALDESC:Évènements pour LA MARE AUX CANARDS A BOUILLE-MENARD
REFRESH-INTERVAL;VALUE=DURATION:PT1H
X-Robots-Tag:noindex
X-PUBLISHED-TTL:PT1H
BEGIN:VTIMEZONE
TZID:UTC
BEGIN:STANDARD
TZOFFSETFROM:+0000
TZOFFSETTO:+0000
TZNAME:UTC
DTSTART:20230101T000000
END:STANDARD
END:VTIMEZONE
BEGIN:VEVENT
DTSTART;TZID=UTC:20240329T140000
DTEND;TZID=UTC:20241130T160000
DTSTAMP:20260424T164029
CREATED:20240415T173615Z
LAST-MODIFIED:20240415T191834Z
UID:3325-1711720800-1732982400@mare-aux-canards-bouille-menard.43210.fr
SUMMARY:Château de Vipère au poing
DESCRIPTION:Désolé. Vous n'êtes pas habilité à consulter ce contenu.
URL:https://mare-aux-canards-bouille-menard.43210.fr/evenement/2024-chateau-de-vipere-au-poing/
LOCATION:Château du Patys\, 748 route du Patys MARANS\, Segré-en-Anjou Bleu\, 49500\, France
CATEGORIES:Longues durées
END:VEVENT
BEGIN:VEVENT
DTSTART;VALUE=DATE:20240501
DTEND;VALUE=DATE:20241101
DTSTAMP:20260424T164029
CREATED:20240525T111054Z
LAST-MODIFIED:20240525T111054Z
UID:3447-1714521600-1730419199@mare-aux-canards-bouille-menard.43210.fr
SUMMARY:Randonnées dans les alentours
DESCRIPTION:Désolé. Vous n'êtes pas habilité à consulter ce contenu.
URL:https://mare-aux-canards-bouille-menard.43210.fr/evenement/randonnees-dans-les-alentours/
END:VEVENT
BEGIN:VEVENT
DTSTART;TZID=UTC:20241016T080000
DTEND;TZID=UTC:20241019T170000
DTSTAMP:20260424T164029
CREATED:20240424T195542Z
LAST-MODIFIED:20240525T175231Z
UID:3361-1729065600-1729357200@mare-aux-canards-bouille-menard.43210.fr
SUMMARY:Spectacle rires et variété
DESCRIPTION:Désolé. Vous n'êtes pas habilité à consulter ce contenu.
URL:https://mare-aux-canards-bouille-menard.43210.fr/evenement/2024-10-16-bel-air-spectacle-rires-et-variete/
LOCATION:Salle omnisport Bel-Air de Combrée\, Bel-Air - Ombrée d'Anjou\, France
END:VEVENT
BEGIN:VEVENT
DTSTART;TZID=UTC:20241018T100000
DTEND;TZID=UTC:20241018T120000
DTSTAMP:20260424T164029
CREATED:20241125T212104Z
LAST-MODIFIED:20241125T212104Z
UID:4054-1729245600-1729252800@mare-aux-canards-bouille-menard.43210.fr
SUMMARY:Racontine : Thème l'Afrique
DESCRIPTION:Désolé. Vous n'êtes pas habilité à consulter ce contenu.
URL:https://mare-aux-canards-bouille-menard.43210.fr/evenement/2024-10-18-racontine/
LOCATION:Médiathèque Jacques Prévert\, 3 Rue de L Hôtel de ville\, Ombrée d'Anjou\, 49520\, France
ORGANIZER;CN="Relais Petite Enfance Ombr%C3%A9e d'Anjou":MAILTO:a.argand@ombredanjou.fr
END:VEVENT
BEGIN:VEVENT
DTSTART;TZID=UTC:20241018T140000
DTEND;TZID=UTC:20241018T163000
DTSTAMP:20260424T164029
CREATED:20241125T203446Z
LAST-MODIFIED:20241125T203446Z
UID:4009-1729260000-1729269000@mare-aux-canards-bouille-menard.43210.fr
SUMMARY:Ateliers numériques
DESCRIPTION:Désolé. Vous n'êtes pas habilité à consulter ce contenu.
URL:https://mare-aux-canards-bouille-menard.43210.fr/evenement/2024-10-18-ateliers-numeriques/
LOCATION:La Mairie Bouillé-Ménard\, Bouillé-Ménard\, France
ORGANIZER;CN="Anjou Bleu Communaut%C3%A9":MAILTO:dechets@anjoubleucommunaute.fr
END:VEVENT
END:VCALENDAR