BEGIN:VCALENDAR
VERSION:2.0
PRODID:-//LA MARE AUX CANARDS A BOUILLE-MENARD - ECPv6.15.20//NONSGML v1.0//EN
CALSCALE:GREGORIAN
METHOD:PUBLISH
X-WR-CALNAME:LA MARE AUX CANARDS A BOUILLE-MENARD
X-ORIGINAL-URL:https://mare-aux-canards-bouille-menard.43210.fr
X-WR-CALDESC:Évènements pour LA MARE AUX CANARDS A BOUILLE-MENARD
REFRESH-INTERVAL;VALUE=DURATION:PT1H
X-Robots-Tag:noindex
X-PUBLISHED-TTL:PT1H
BEGIN:VTIMEZONE
TZID:UTC
BEGIN:STANDARD
TZOFFSETFROM:+0000
TZOFFSETTO:+0000
TZNAME:UTC
DTSTART:20230101T000000
END:STANDARD
END:VTIMEZONE
BEGIN:VEVENT
DTSTART;TZID=UTC:20240322T200000
DTEND;TZID=UTC:20240322T233000
DTSTAMP:20260425T225630
CREATED:20240323T185706Z
LAST-MODIFIED:20240323T185939Z
UID:3198-1711137600-1711150200@mare-aux-canards-bouille-menard.43210.fr
SUMMARY:[Comité des fêtes] AG : Vide-greniers et Foire aux rillauds programmés à Bouillé-Ménard
DESCRIPTION:Désolé. Vous n'êtes pas habilité à consulter ce contenu.
URL:https://mare-aux-canards-bouille-menard.43210.fr/evenement/2024-03-22-ag-comite-fetes-bm/
END:VEVENT
BEGIN:VEVENT
DTSTART;TZID=UTC:20240322T201500
DTEND;TZID=UTC:20240322T235900
DTSTAMP:20260425T225630
CREATED:20240323T090059Z
LAST-MODIFIED:20240323T091956Z
UID:3167-1711138500-1711151940@mare-aux-canards-bouille-menard.43210.fr
SUMMARY:La gabelle et le faux saunage\, par René Vasière\, historien local
DESCRIPTION:Désolé. Vous n'êtes pas habilité à consulter ce contenu.
URL:https://mare-aux-canards-bouille-menard.43210.fr/evenement/2024-03-22-la-gabelle-et-le-faux-saunage/
LOCATION:Mairie\, salle du Conseil\, Combrée\, 5\, rue de l’Hôtel-de-Ville\, Ombrée-d'Anjou\, 49420\, France
END:VEVENT
END:VCALENDAR