BEGIN:VCALENDAR
VERSION:2.0
PRODID:-//LA MARE AUX CANARDS A BOUILLE-MENARD - ECPv6.15.20//NONSGML v1.0//EN
CALSCALE:GREGORIAN
METHOD:PUBLISH
X-WR-CALNAME:LA MARE AUX CANARDS A BOUILLE-MENARD
X-ORIGINAL-URL:https://mare-aux-canards-bouille-menard.43210.fr
X-WR-CALDESC:Évènements pour LA MARE AUX CANARDS A BOUILLE-MENARD
REFRESH-INTERVAL;VALUE=DURATION:PT1H
X-Robots-Tag:noindex
X-PUBLISHED-TTL:PT1H
BEGIN:VTIMEZONE
TZID:UTC
BEGIN:STANDARD
TZOFFSETFROM:+0000
TZOFFSETTO:+0000
TZNAME:UTC
DTSTART:20230101T000000
END:STANDARD
END:VTIMEZONE
BEGIN:VEVENT
DTSTART;TZID=UTC:20240117T173000
DTEND;TZID=UTC:20240117T190000
DTSTAMP:20260426T023708
CREATED:20240101T163330Z
LAST-MODIFIED:20240101T164400Z
UID:2912-1705512600-1705518000@mare-aux-canards-bouille-menard.43210.fr
SUMMARY:Ceuillette de Contes Sauvages
DESCRIPTION:Désolé. Vous n'êtes pas habilité à consulter ce contenu.
URL:https://mare-aux-canards-bouille-menard.43210.fr/evenement/2024-01-17-ceuillette-de-contes-sauvages/
LOCATION:Salle des fêtes de Châtelais\, 3 rue Grands Murs\, Châtelais\, 49520\, France
ORGANIZER;CN="Familles rurales de Ch%C3%A2telais":MAILTO:afr.chatelais@orange.fr
END:VEVENT
END:VCALENDAR