BEGIN:VCALENDAR
VERSION:2.0
PRODID:-//LA MARE AUX CANARDS A BOUILLE-MENARD - ECPv6.15.20//NONSGML v1.0//EN
CALSCALE:GREGORIAN
METHOD:PUBLISH
X-ORIGINAL-URL:https://mare-aux-canards-bouille-menard.43210.fr
X-WR-CALDESC:Évènements pour LA MARE AUX CANARDS A BOUILLE-MENARD
REFRESH-INTERVAL;VALUE=DURATION:PT1H
X-Robots-Tag:noindex
X-PUBLISHED-TTL:PT1H
BEGIN:VTIMEZONE
TZID:UTC
BEGIN:STANDARD
TZOFFSETFROM:+0000
TZOFFSETTO:+0000
TZNAME:UTC
DTSTART:20220101T000000
END:STANDARD
END:VTIMEZONE
BEGIN:VEVENT
DTSTART;TZID=UTC:20231230T140000
DTEND;TZID=UTC:20231230T183000
DTSTAMP:20260426T042122
CREATED:20231229T185928Z
LAST-MODIFIED:20231229T185928Z
UID:2809-1703944800-1703961000@mare-aux-canards-bouille-menard.43210.fr
SUMMARY:RécréaParc
DESCRIPTION:Désolé. Vous n'êtes pas habilité à consulter ce contenu.
URL:https://mare-aux-canards-bouille-menard.43210.fr/evenement/2023-12-30-recreaparc/
LOCATION:Parc Exposition Segré\, Segré-en-Anjou-Bleu\, 49500\, France
END:VEVENT
BEGIN:VEVENT
DTSTART;TZID=UTC:20231230T143000
DTEND;TZID=UTC:20231230T163000
DTSTAMP:20260426T042122
CREATED:20231211T190032Z
LAST-MODIFIED:20231211T190032Z
UID:2754-1703946600-1703953800@mare-aux-canards-bouille-menard.43210.fr
SUMMARY:Cinéma Balad Images Châtelais : Film Wish
DESCRIPTION:Désolé. Vous n'êtes pas habilité à consulter ce contenu.
URL:https://mare-aux-canards-bouille-menard.43210.fr/evenement/2023-12-30-cinema-balad-images-chatelais-film-wish/
LOCATION:Salle des fêtes de Châtelais\, 3 rue Grands Murs\, Châtelais\, 49520\, France
END:VEVENT
BEGIN:VEVENT
DTSTART;TZID=UTC:20231230T203000
DTEND;TZID=UTC:20231230T221500
DTSTAMP:20260426T042122
CREATED:20231211T190153Z
LAST-MODIFIED:20240101T162412Z
UID:2757-1703968200-1703974500@mare-aux-canards-bouille-menard.43210.fr
SUMMARY:Cinéma Balad Images Châtelais : Film Noël Joyeux
DESCRIPTION:Désolé. Vous n'êtes pas habilité à consulter ce contenu.
URL:https://mare-aux-canards-bouille-menard.43210.fr/evenement/2023-12-30-cinema-balad-images-chatelais-film-noel-joyeux/
LOCATION:Salle des fêtes de Châtelais\, 3 rue Grands Murs\, Châtelais\, 49520\, France
END:VEVENT
END:VCALENDAR