BEGIN:VCALENDAR
VERSION:2.0
PRODID:-//LA MARE AUX CANARDS A BOUILLE-MENARD - ECPv6.15.20//NONSGML v1.0//EN
CALSCALE:GREGORIAN
METHOD:PUBLISH
X-ORIGINAL-URL:https://mare-aux-canards-bouille-menard.43210.fr
X-WR-CALDESC:Évènements pour LA MARE AUX CANARDS A BOUILLE-MENARD
REFRESH-INTERVAL;VALUE=DURATION:PT1H
X-Robots-Tag:noindex
X-PUBLISHED-TTL:PT1H
BEGIN:VTIMEZONE
TZID:UTC
BEGIN:STANDARD
TZOFFSETFROM:+0000
TZOFFSETTO:+0000
TZNAME:UTC
DTSTART:20220101T000000
END:STANDARD
END:VTIMEZONE
BEGIN:VEVENT
DTSTART;TZID=UTC:20231215T140000
DTEND;TZID=UTC:20231215T170000
DTSTAMP:20260426T042153
CREATED:20230904T172515Z
LAST-MODIFIED:20230904T172515Z
UID:2129-1702648800-1702659600@mare-aux-canards-bouille-menard.43210.fr
SUMMARY:Accompagnement individuel sur le numérique
DESCRIPTION:Désolé. Vous n'êtes pas habilité à consulter ce contenu.
URL:https://mare-aux-canards-bouille-menard.43210.fr/evenement/2023-12-15-accompagnement-individuel-sur-le-numerique/
LOCATION:La Mairie Bouillé-Ménard\, Bouillé-Ménard\, France
END:VEVENT
END:VCALENDAR