BEGIN:VCALENDAR
VERSION:2.0
PRODID:-//LA MARE AUX CANARDS A BOUILLE-MENARD - ECPv6.15.20//NONSGML v1.0//EN
CALSCALE:GREGORIAN
METHOD:PUBLISH
X-ORIGINAL-URL:https://mare-aux-canards-bouille-menard.43210.fr
X-WR-CALDESC:Évènements pour LA MARE AUX CANARDS A BOUILLE-MENARD
REFRESH-INTERVAL;VALUE=DURATION:PT1H
X-Robots-Tag:noindex
X-PUBLISHED-TTL:PT1H
BEGIN:VTIMEZONE
TZID:UTC
BEGIN:STANDARD
TZOFFSETFROM:+0000
TZOFFSETTO:+0000
TZNAME:UTC
DTSTART:20220101T000000
END:STANDARD
END:VTIMEZONE
BEGIN:VEVENT
DTSTART;VALUE=DATE:20231202
DTEND;VALUE=DATE:20231211
DTSTAMP:20260426T042124
CREATED:20231118T150315Z
LAST-MODIFIED:20231118T151616Z
UID:2333-1701475200-1702252799@mare-aux-canards-bouille-menard.43210.fr
SUMMARY:Festival des 37 – 4ème édition
DESCRIPTION:Désolé. Vous n'êtes pas habilité à consulter ce contenu.
URL:https://mare-aux-canards-bouille-menard.43210.fr/evenement/2023-12-02-festival-des-37-4eme-edition/
END:VEVENT
BEGIN:VEVENT
DTSTART;TZID=UTC:20231202T080000
DTEND;TZID=UTC:20231202T170000
DTSTAMP:20260426T042124
CREATED:20230211T141951Z
LAST-MODIFIED:20230816T201340Z
UID:486-1701504000-1701536400@mare-aux-canards-bouille-menard.43210.fr
SUMMARY:Marché de Noël des écoles publiques
DESCRIPTION:Désolé. Vous n'êtes pas habilité à consulter ce contenu.
URL:https://mare-aux-canards-bouille-menard.43210.fr/evenement/2023-12-02-marche-de-noel-des-ecoles-publiques/
LOCATION:salle communale Bouillé-Ménard\, 1\, rue de Renazé\, Bouillé-Ménard\, 49520\, France
END:VEVENT
END:VCALENDAR