BEGIN:VCALENDAR
VERSION:2.0
PRODID:-//LA MARE AUX CANARDS A BOUILLE-MENARD - ECPv6.15.20//NONSGML v1.0//EN
CALSCALE:GREGORIAN
METHOD:PUBLISH
X-WR-CALNAME:LA MARE AUX CANARDS A BOUILLE-MENARD
X-ORIGINAL-URL:https://mare-aux-canards-bouille-menard.43210.fr
X-WR-CALDESC:Évènements pour LA MARE AUX CANARDS A BOUILLE-MENARD
REFRESH-INTERVAL;VALUE=DURATION:PT1H
X-Robots-Tag:noindex
X-PUBLISHED-TTL:PT1H
BEGIN:VTIMEZONE
TZID:UTC
BEGIN:STANDARD
TZOFFSETFROM:+0000
TZOFFSETTO:+0000
TZNAME:UTC
DTSTART:20220101T000000
END:STANDARD
END:VTIMEZONE
BEGIN:VEVENT
DTSTART;TZID=UTC:20231128T143000
DTEND;TZID=UTC:20231128T160000
DTSTAMP:20260426T043716
CREATED:20231117T124349Z
LAST-MODIFIED:20231117T125550Z
UID:2320-1701181800-1701187200@mare-aux-canards-bouille-menard.43210.fr
SUMMARY:Cinéma Balad Images Châtelais : Film Bernadette
DESCRIPTION:Désolé. Vous n'êtes pas habilité à consulter ce contenu.
URL:https://mare-aux-canards-bouille-menard.43210.fr/evenement/2023-11-28-film-bernadette/
LOCATION:Salle des fêtes de Châtelais\, 3 rue Grands Murs\, Châtelais\, 49520\, France
END:VEVENT
BEGIN:VEVENT
DTSTART;TZID=UTC:20231128T203000
DTEND;TZID=UTC:20231128T223000
DTSTAMP:20260426T043716
CREATED:20231117T125050Z
LAST-MODIFIED:20231117T125517Z
UID:2324-1701203400-1701210600@mare-aux-canards-bouille-menard.43210.fr
SUMMARY:Cinéma Balad Images Châtelais : Film une annee difficile
DESCRIPTION:Désolé. Vous n'êtes pas habilité à consulter ce contenu.
URL:https://mare-aux-canards-bouille-menard.43210.fr/evenement/2023-11-28-film-une-annee-difficile/
LOCATION:Salle des fêtes de Châtelais\, 3 rue Grands Murs\, Châtelais\, 49520\, France
END:VEVENT
END:VCALENDAR