BEGIN:VCALENDAR
VERSION:2.0
PRODID:-//LA MARE AUX CANARDS A BOUILLE-MENARD - ECPv6.15.20//NONSGML v1.0//EN
CALSCALE:GREGORIAN
METHOD:PUBLISH
X-ORIGINAL-URL:https://mare-aux-canards-bouille-menard.43210.fr
X-WR-CALDESC:Évènements pour LA MARE AUX CANARDS A BOUILLE-MENARD
REFRESH-INTERVAL;VALUE=DURATION:PT1H
X-Robots-Tag:noindex
X-PUBLISHED-TTL:PT1H
BEGIN:VTIMEZONE
TZID:UTC
BEGIN:STANDARD
TZOFFSETFROM:+0000
TZOFFSETTO:+0000
TZNAME:UTC
DTSTART:20220101T000000
END:STANDARD
END:VTIMEZONE
BEGIN:VEVENT
DTSTART;TZID=UTC:20231127T173000
DTEND;TZID=UTC:20231127T200000
DTSTAMP:20260426T042153
CREATED:20231125T113423Z
LAST-MODIFIED:20231125T113716Z
UID:2584-1701106200-1701115200@mare-aux-canards-bouille-menard.43210.fr
SUMMARY:L'OPÉRA DE PARIS À LA MICRO-FOLIE
DESCRIPTION:Désolé. Vous n'êtes pas habilité à consulter ce contenu.
URL:https://mare-aux-canards-bouille-menard.43210.fr/evenement/2023-11-27-opera-de-paris-micro-folie/
LOCATION:Médiathèque de Segré\, 39 Rue Charles de Gaulle - Segré\, SEGRE-EN-ANJOU BLEU\, 49500\, France
END:VEVENT
END:VCALENDAR